BEGIN:VCALENDAR
VERSION:2.0
PRODID:-//Lower Similkameen Community Services Society - ECPv6.15.20//NONSGML v1.0//EN
CALSCALE:GREGORIAN
METHOD:PUBLISH
X-WR-CALNAME:Lower Similkameen Community Services Society
X-ORIGINAL-URL:https://lscss.com
X-WR-CALDESC:Events for Lower Similkameen Community Services Society
REFRESH-INTERVAL;VALUE=DURATION:PT1H
X-Robots-Tag:noindex
X-PUBLISHED-TTL:PT1H
BEGIN:VTIMEZONE
TZID:America/Vancouver
BEGIN:DAYLIGHT
TZOFFSETFROM:-0800
TZOFFSETTO:-0700
TZNAME:PDT
DTSTART:20240310T100000
END:DAYLIGHT
BEGIN:STANDARD
TZOFFSETFROM:-0700
TZOFFSETTO:-0800
TZNAME:PST
DTSTART:20241103T090000
END:STANDARD
BEGIN:DAYLIGHT
TZOFFSETFROM:-0800
TZOFFSETTO:-0700
TZNAME:PDT
DTSTART:20250309T100000
END:DAYLIGHT
BEGIN:STANDARD
TZOFFSETFROM:-0700
TZOFFSETTO:-0800
TZNAME:PST
DTSTART:20251102T090000
END:STANDARD
BEGIN:DAYLIGHT
TZOFFSETFROM:-0800
TZOFFSETTO:-0700
TZNAME:PDT
DTSTART:20260308T100000
END:DAYLIGHT
BEGIN:STANDARD
TZOFFSETFROM:-0700
TZOFFSETTO:-0800
TZNAME:PST
DTSTART:20261101T090000
END:STANDARD
END:VTIMEZONE
BEGIN:VEVENT
DTSTART;TZID=America/Vancouver:20251206T160000
DTEND;TZID=America/Vancouver:20251206T200000
DTSTAMP:20260421T132328
CREATED:20251103T185538Z
LAST-MODIFIED:20251103T214443Z
UID:10000211-1765036800-1765051200@lscss.com
SUMMARY:Canco Christmas Donation Drive
DESCRIPTION:
URL:https://lscss.com/event/canco-donation-drive/
LOCATION:Canco Keremeos\, 3161 Highway 3\, Keremeos\, BC\, V0X 1N0\, Canada
CATEGORIES:Community events
ATTACH;FMTTYPE=image/webp:https://lscss.com/wp-content/uploads/2025/11/Screenshot-2025-11-03-134358.webp
ORGANIZER;CN="Signe Percevault":MAILTO:stv@lscss.com
END:VEVENT
END:VCALENDAR