BEGIN:VCALENDAR
VERSION:2.0
PRODID:-//Lower Similkameen Community Services Society - ECPv6.15.20//NONSGML v1.0//EN
CALSCALE:GREGORIAN
METHOD:PUBLISH
X-ORIGINAL-URL:https://lscss.com
X-WR-CALDESC:Events for Lower Similkameen Community Services Society
REFRESH-INTERVAL;VALUE=DURATION:PT1H
X-Robots-Tag:noindex
X-PUBLISHED-TTL:PT1H
BEGIN:VTIMEZONE
TZID:America/Vancouver
BEGIN:DAYLIGHT
TZOFFSETFROM:-0800
TZOFFSETTO:-0700
TZNAME:PDT
DTSTART:20240310T100000
END:DAYLIGHT
BEGIN:STANDARD
TZOFFSETFROM:-0700
TZOFFSETTO:-0800
TZNAME:PST
DTSTART:20241103T090000
END:STANDARD
BEGIN:DAYLIGHT
TZOFFSETFROM:-0800
TZOFFSETTO:-0700
TZNAME:PDT
DTSTART:20250309T100000
END:DAYLIGHT
BEGIN:STANDARD
TZOFFSETFROM:-0700
TZOFFSETTO:-0800
TZNAME:PST
DTSTART:20251102T090000
END:STANDARD
BEGIN:DAYLIGHT
TZOFFSETFROM:-0800
TZOFFSETTO:-0700
TZNAME:PDT
DTSTART:20260308T100000
END:DAYLIGHT
BEGIN:STANDARD
TZOFFSETFROM:-0700
TZOFFSETTO:-0800
TZNAME:PST
DTSTART:20261101T090000
END:STANDARD
END:VTIMEZONE
BEGIN:VEVENT
DTSTART;TZID=America/Vancouver:20250925T110000
DTEND;TZID=America/Vancouver:20250925T130000
DTSTAMP:20260421T041518
CREATED:20250918T175831Z
LAST-MODIFIED:20250918T193548Z
UID:10000159-1758798000-1758805200@lscss.com
SUMMARY:Domestic Violence Awareness Session
DESCRIPTION:Refreshments Provided!!!
URL:https://lscss.com/event/domestic-violence-awareness-session/
LOCATION:Tree to Me\, 1217 Hwy 3A\, Keremeos\, British Columbia\, V0X 1N4\, Canada
CATEGORIES:Community events
ATTACH;FMTTYPE=image/webp:https://lscss.com/wp-content/uploads/2025/09/IPV-3.webp
ORGANIZER;CN="Laurie Lion":MAILTO:Laurie.Lion@rcmp-grc.gc.ca
END:VEVENT
END:VCALENDAR