BEGIN:VCALENDAR
VERSION:2.0
PRODID:-//Lower Similkameen Community Services Society - ECPv6.15.20//NONSGML v1.0//EN
CALSCALE:GREGORIAN
METHOD:PUBLISH
X-WR-CALNAME:Lower Similkameen Community Services Society
X-ORIGINAL-URL:https://lscss.com
X-WR-CALDESC:Events for Lower Similkameen Community Services Society
REFRESH-INTERVAL;VALUE=DURATION:PT1H
X-Robots-Tag:noindex
X-PUBLISHED-TTL:PT1H
BEGIN:VTIMEZONE
TZID:America/Vancouver
BEGIN:DAYLIGHT
TZOFFSETFROM:-0800
TZOFFSETTO:-0700
TZNAME:PDT
DTSTART:20240310T100000
END:DAYLIGHT
BEGIN:STANDARD
TZOFFSETFROM:-0700
TZOFFSETTO:-0800
TZNAME:PST
DTSTART:20241103T090000
END:STANDARD
BEGIN:DAYLIGHT
TZOFFSETFROM:-0800
TZOFFSETTO:-0700
TZNAME:PDT
DTSTART:20250309T100000
END:DAYLIGHT
BEGIN:STANDARD
TZOFFSETFROM:-0700
TZOFFSETTO:-0800
TZNAME:PST
DTSTART:20251102T090000
END:STANDARD
BEGIN:DAYLIGHT
TZOFFSETFROM:-0800
TZOFFSETTO:-0700
TZNAME:PDT
DTSTART:20260308T100000
END:DAYLIGHT
BEGIN:STANDARD
TZOFFSETFROM:-0700
TZOFFSETTO:-0800
TZNAME:PST
DTSTART:20261101T090000
END:STANDARD
END:VTIMEZONE
BEGIN:VEVENT
DTSTART;TZID=America/Vancouver:20250819T173000
DTEND;TZID=America/Vancouver:20250819T173000
DTSTAMP:20260420T212756
CREATED:20250818T185702Z
LAST-MODIFIED:20250818T190251Z
UID:10000116-1755624600-1755624600@lscss.com
SUMMARY:Virtual Art Therapy Workshop
DESCRIPTION:
URL:https://lscss.com/event/virtual-art-therapy-workshop/
CATEGORIES:Community events,Mental Health
ATTACH;FMTTYPE=image/webp:https://lscss.com/wp-content/uploads/2025/08/Virtual-Art-Therapy-Workshops-1.webp
ORGANIZER;CN="Iryna Koberts":MAILTO:cymh@lscss.com
LOCATION:https://lscss.com/event/virtual-art-therapy-workshop/
END:VEVENT
END:VCALENDAR