BEGIN:VCALENDAR
VERSION:2.0
PRODID:-//Lower Similkameen Community Services Society - ECPv6.15.20//NONSGML v1.0//EN
CALSCALE:GREGORIAN
METHOD:PUBLISH
X-ORIGINAL-URL:https://lscss.com
X-WR-CALDESC:Events for Lower Similkameen Community Services Society
REFRESH-INTERVAL;VALUE=DURATION:PT1H
X-Robots-Tag:noindex
X-PUBLISHED-TTL:PT1H
BEGIN:VTIMEZONE
TZID:America/Vancouver
BEGIN:DAYLIGHT
TZOFFSETFROM:-0800
TZOFFSETTO:-0700
TZNAME:PDT
DTSTART:20260308T100000
END:DAYLIGHT
BEGIN:STANDARD
TZOFFSETFROM:-0700
TZOFFSETTO:-0800
TZNAME:PST
DTSTART:20261101T090000
END:STANDARD
BEGIN:DAYLIGHT
TZOFFSETFROM:-0800
TZOFFSETTO:-0700
TZNAME:PDT
DTSTART:20270314T100000
END:DAYLIGHT
BEGIN:STANDARD
TZOFFSETFROM:-0700
TZOFFSETTO:-0800
TZNAME:PST
DTSTART:20271107T090000
END:STANDARD
BEGIN:DAYLIGHT
TZOFFSETFROM:-0800
TZOFFSETTO:-0700
TZNAME:PDT
DTSTART:20280312T100000
END:DAYLIGHT
BEGIN:STANDARD
TZOFFSETFROM:-0700
TZOFFSETTO:-0800
TZNAME:PST
DTSTART:20281105T090000
END:STANDARD
END:VTIMEZONE
BEGIN:VEVENT
DTSTART;TZID=America/Vancouver:20271101T100000
DTEND;TZID=America/Vancouver:20271101T123000
DTSTAMP:20260422T145843
CREATED:20260304T185652Z
LAST-MODIFIED:20260304T185652Z
UID:10001001-1825063200-1825072200@lscss.com
SUMMARY:CAPC - Parenting and Prenatal
DESCRIPTION:The Community Action Program for Children (CAPC) aims to improve healthy child development by improving parenting skills and parent-child relationships and decreasing social isolation. Programming offers positive learning experiences for children (aged 0-6) and their families. CAPC facilitators lead fun learning activities where children find opportunities to make friends and interact with others of similar ages. CAPC facilitators support caregivers to expand their social support networks\, share experiences\, and learn more about community resources. \n 
URL:https://lscss.com/event/capc-parenting-and-prenatal-2/2027-11-01/
LOCATION:Family room\, 310 Veterans Ave\, Keremeos\, BC\, V0X 1N3\, Canada
ORGANIZER;CN="Jocelyn Reaume":MAILTO:capc@lscss.com
END:VEVENT
BEGIN:VEVENT
DTSTART;TZID=America/Vancouver:20271102T100000
DTEND;TZID=America/Vancouver:20271102T120000
DTSTAMP:20260422T145843
CREATED:20260304T184844Z
LAST-MODIFIED:20260304T184844Z
UID:10000564-1825149600-1825156800@lscss.com
SUMMARY:TUMBLE BUMBLE with Early Years
DESCRIPTION:Tumble Bumble is a drop-in indoor play program for children from birth – 6 years and their parents/caregivers (older siblings are welcome). Children can cruise\, climb\, slide\, jump and meet new children\, while exploring a wide variety of equipment. These include\, trikes\, scooters\, plasma bikes\, tunnels\, a slide\, “ride em” vehicles such as police cars\, and fire trucks\, a bounce castle\, basketball\, bowling as well as balls\, mats\, and various sizes and shapes of gymnastics foam structures. This environment provides an opportunity to connect and socialize while also providing opportunity to improve gross and fine motor skills. It also provides a place for parents and caregivers to connect and share experiences. An infant area with developmentally appropriate toys is set up so that all ages are included in this fun program!
URL:https://lscss.com/event/tumble-bumble-with-early-years-3/2027-11-02/
LOCATION:Legion Hall\, 510 Veterans Av\, Keremeos\, BC\, V0X 1N3\, Canada
ORGANIZER;CN="Jocelyn Reaume":MAILTO:capc@lscss.com
END:VEVENT
BEGIN:VEVENT
DTSTART;TZID=America/Vancouver:20271103T090000
DTEND;TZID=America/Vancouver:20271103T123000
DTSTAMP:20260422T145843
CREATED:20260304T190414Z
LAST-MODIFIED:20260304T190414Z
UID:10001264-1825232400-1825245000@lscss.com
SUMMARY:Come Play - Early Years
DESCRIPTION:
URL:https://lscss.com/event/come-play-early-years-2/2027-11-03/
LOCATION:Family room\, 310 Veterans Ave\, Keremeos\, BC\, V0X 1N3\, Canada
ORGANIZER;CN="Jocelyn Reaume":MAILTO:capc@lscss.com
END:VEVENT
BEGIN:VEVENT
DTSTART;TZID=America/Vancouver:20271103T160000
DTEND;TZID=America/Vancouver:20271103T190000
DTSTAMP:20260422T145843
CREATED:20260304T190954Z
LAST-MODIFIED:20260304T190954Z
UID:10001525-1825257600-1825268400@lscss.com
SUMMARY:Circle of Security Parenting Program
DESCRIPTION:** Registration Required ** \n\nLast Call to Join Circle of Security!\n\n\nWe have just two spots remaining in our upcoming Circle of Security group\, beginning March 4th.\n\n\nThis 8-week program will run on Wednesday evenings from 4:00–7:00 PM.\n\n\n Childminding provided\n Light dinner and refreshments included\n\n\nIf you’ve been thinking about joining\, now is the time! Secure your spot before registrations close.\n\n\nPlease contact us to register or to learn more.
URL:https://lscss.com/event/circle-of-security-parenting-program-2/2027-11-03/
LOCATION:LSCSS Office\, 715 7th St\, Keremeos\, BC\, Canada
ORGANIZER;CN="Jocelyn Reaume":MAILTO:capc@lscss.com
END:VEVENT
BEGIN:VEVENT
DTSTART;TZID=America/Vancouver:20271104T100000
DTEND;TZID=America/Vancouver:20271104T120000
DTSTAMP:20260422T145843
CREATED:20260304T184844Z
LAST-MODIFIED:20260304T184844Z
UID:10000565-1825322400-1825329600@lscss.com
SUMMARY:TUMBLE BUMBLE with Early Years
DESCRIPTION:Tumble Bumble is a drop-in indoor play program for children from birth – 6 years and their parents/caregivers (older siblings are welcome). Children can cruise\, climb\, slide\, jump and meet new children\, while exploring a wide variety of equipment. These include\, trikes\, scooters\, plasma bikes\, tunnels\, a slide\, “ride em” vehicles such as police cars\, and fire trucks\, a bounce castle\, basketball\, bowling as well as balls\, mats\, and various sizes and shapes of gymnastics foam structures. This environment provides an opportunity to connect and socialize while also providing opportunity to improve gross and fine motor skills. It also provides a place for parents and caregivers to connect and share experiences. An infant area with developmentally appropriate toys is set up so that all ages are included in this fun program!
URL:https://lscss.com/event/tumble-bumble-with-early-years-3/2027-11-04/
LOCATION:Legion Hall\, 510 Veterans Av\, Keremeos\, BC\, V0X 1N3\, Canada
ORGANIZER;CN="Jocelyn Reaume":MAILTO:capc@lscss.com
END:VEVENT
BEGIN:VEVENT
DTSTART;TZID=America/Vancouver:20271105T100000
DTEND;TZID=America/Vancouver:20271105T120000
DTSTAMP:20260422T145843
CREATED:20260304T191211Z
LAST-MODIFIED:20260304T191211Z
UID:10001786-1825408800-1825416000@lscss.com
SUMMARY:Ntamtquen Community Gardens LSIB + Early Years
DESCRIPTION:
URL:https://lscss.com/event/ntamtquen-community-gardens-lsib-early-years/2027-11-05/
LOCATION:Ntamtquen Garden
ORGANIZER;CN="Jocelyn Reaume":MAILTO:capc@lscss.com
END:VEVENT
BEGIN:VEVENT
DTSTART;TZID=America/Vancouver:20271108T100000
DTEND;TZID=America/Vancouver:20271108T123000
DTSTAMP:20260422T145843
CREATED:20260304T185652Z
LAST-MODIFIED:20260304T185652Z
UID:10001002-1825668000-1825677000@lscss.com
SUMMARY:CAPC - Parenting and Prenatal
DESCRIPTION:The Community Action Program for Children (CAPC) aims to improve healthy child development by improving parenting skills and parent-child relationships and decreasing social isolation. Programming offers positive learning experiences for children (aged 0-6) and their families. CAPC facilitators lead fun learning activities where children find opportunities to make friends and interact with others of similar ages. CAPC facilitators support caregivers to expand their social support networks\, share experiences\, and learn more about community resources. \n 
URL:https://lscss.com/event/capc-parenting-and-prenatal-2/2027-11-08/
LOCATION:Family room\, 310 Veterans Ave\, Keremeos\, BC\, V0X 1N3\, Canada
ORGANIZER;CN="Jocelyn Reaume":MAILTO:capc@lscss.com
END:VEVENT
BEGIN:VEVENT
DTSTART;TZID=America/Vancouver:20271109T100000
DTEND;TZID=America/Vancouver:20271109T120000
DTSTAMP:20260422T145843
CREATED:20260304T184844Z
LAST-MODIFIED:20260304T184844Z
UID:10000566-1825754400-1825761600@lscss.com
SUMMARY:TUMBLE BUMBLE with Early Years
DESCRIPTION:Tumble Bumble is a drop-in indoor play program for children from birth – 6 years and their parents/caregivers (older siblings are welcome). Children can cruise\, climb\, slide\, jump and meet new children\, while exploring a wide variety of equipment. These include\, trikes\, scooters\, plasma bikes\, tunnels\, a slide\, “ride em” vehicles such as police cars\, and fire trucks\, a bounce castle\, basketball\, bowling as well as balls\, mats\, and various sizes and shapes of gymnastics foam structures. This environment provides an opportunity to connect and socialize while also providing opportunity to improve gross and fine motor skills. It also provides a place for parents and caregivers to connect and share experiences. An infant area with developmentally appropriate toys is set up so that all ages are included in this fun program!
URL:https://lscss.com/event/tumble-bumble-with-early-years-3/2027-11-09/
LOCATION:Legion Hall\, 510 Veterans Av\, Keremeos\, BC\, V0X 1N3\, Canada
ORGANIZER;CN="Jocelyn Reaume":MAILTO:capc@lscss.com
END:VEVENT
BEGIN:VEVENT
DTSTART;TZID=America/Vancouver:20271110T090000
DTEND;TZID=America/Vancouver:20271110T123000
DTSTAMP:20260422T145843
CREATED:20260304T190414Z
LAST-MODIFIED:20260304T190414Z
UID:10001265-1825837200-1825849800@lscss.com
SUMMARY:Come Play - Early Years
DESCRIPTION:
URL:https://lscss.com/event/come-play-early-years-2/2027-11-10/
LOCATION:Family room\, 310 Veterans Ave\, Keremeos\, BC\, V0X 1N3\, Canada
ORGANIZER;CN="Jocelyn Reaume":MAILTO:capc@lscss.com
END:VEVENT
BEGIN:VEVENT
DTSTART;TZID=America/Vancouver:20271110T160000
DTEND;TZID=America/Vancouver:20271110T190000
DTSTAMP:20260422T145843
CREATED:20260304T190954Z
LAST-MODIFIED:20260304T190954Z
UID:10001526-1825862400-1825873200@lscss.com
SUMMARY:Circle of Security Parenting Program
DESCRIPTION:** Registration Required ** \n\nLast Call to Join Circle of Security!\n\n\nWe have just two spots remaining in our upcoming Circle of Security group\, beginning March 4th.\n\n\nThis 8-week program will run on Wednesday evenings from 4:00–7:00 PM.\n\n\n Childminding provided\n Light dinner and refreshments included\n\n\nIf you’ve been thinking about joining\, now is the time! Secure your spot before registrations close.\n\n\nPlease contact us to register or to learn more.
URL:https://lscss.com/event/circle-of-security-parenting-program-2/2027-11-10/
LOCATION:LSCSS Office\, 715 7th St\, Keremeos\, BC\, Canada
ORGANIZER;CN="Jocelyn Reaume":MAILTO:capc@lscss.com
END:VEVENT
BEGIN:VEVENT
DTSTART;TZID=America/Vancouver:20271111T100000
DTEND;TZID=America/Vancouver:20271111T120000
DTSTAMP:20260422T145843
CREATED:20260304T184844Z
LAST-MODIFIED:20260304T184844Z
UID:10000567-1825927200-1825934400@lscss.com
SUMMARY:TUMBLE BUMBLE with Early Years
DESCRIPTION:Tumble Bumble is a drop-in indoor play program for children from birth – 6 years and their parents/caregivers (older siblings are welcome). Children can cruise\, climb\, slide\, jump and meet new children\, while exploring a wide variety of equipment. These include\, trikes\, scooters\, plasma bikes\, tunnels\, a slide\, “ride em” vehicles such as police cars\, and fire trucks\, a bounce castle\, basketball\, bowling as well as balls\, mats\, and various sizes and shapes of gymnastics foam structures. This environment provides an opportunity to connect and socialize while also providing opportunity to improve gross and fine motor skills. It also provides a place for parents and caregivers to connect and share experiences. An infant area with developmentally appropriate toys is set up so that all ages are included in this fun program!
URL:https://lscss.com/event/tumble-bumble-with-early-years-3/2027-11-11/
LOCATION:Legion Hall\, 510 Veterans Av\, Keremeos\, BC\, V0X 1N3\, Canada
ORGANIZER;CN="Jocelyn Reaume":MAILTO:capc@lscss.com
END:VEVENT
BEGIN:VEVENT
DTSTART;TZID=America/Vancouver:20271112T100000
DTEND;TZID=America/Vancouver:20271112T120000
DTSTAMP:20260422T145844
CREATED:20260304T191211Z
LAST-MODIFIED:20260304T191211Z
UID:10001787-1826013600-1826020800@lscss.com
SUMMARY:Ntamtquen Community Gardens LSIB + Early Years
DESCRIPTION:
URL:https://lscss.com/event/ntamtquen-community-gardens-lsib-early-years/2027-11-12/
LOCATION:Ntamtquen Garden
ORGANIZER;CN="Jocelyn Reaume":MAILTO:capc@lscss.com
END:VEVENT
BEGIN:VEVENT
DTSTART;TZID=America/Vancouver:20271115T100000
DTEND;TZID=America/Vancouver:20271115T123000
DTSTAMP:20260422T145844
CREATED:20260304T185652Z
LAST-MODIFIED:20260304T185652Z
UID:10001003-1826272800-1826281800@lscss.com
SUMMARY:CAPC - Parenting and Prenatal
DESCRIPTION:The Community Action Program for Children (CAPC) aims to improve healthy child development by improving parenting skills and parent-child relationships and decreasing social isolation. Programming offers positive learning experiences for children (aged 0-6) and their families. CAPC facilitators lead fun learning activities where children find opportunities to make friends and interact with others of similar ages. CAPC facilitators support caregivers to expand their social support networks\, share experiences\, and learn more about community resources. \n 
URL:https://lscss.com/event/capc-parenting-and-prenatal-2/2027-11-15/
LOCATION:Family room\, 310 Veterans Ave\, Keremeos\, BC\, V0X 1N3\, Canada
ORGANIZER;CN="Jocelyn Reaume":MAILTO:capc@lscss.com
END:VEVENT
BEGIN:VEVENT
DTSTART;TZID=America/Vancouver:20271116T100000
DTEND;TZID=America/Vancouver:20271116T120000
DTSTAMP:20260422T145844
CREATED:20260304T184844Z
LAST-MODIFIED:20260304T184844Z
UID:10000568-1826359200-1826366400@lscss.com
SUMMARY:TUMBLE BUMBLE with Early Years
DESCRIPTION:Tumble Bumble is a drop-in indoor play program for children from birth – 6 years and their parents/caregivers (older siblings are welcome). Children can cruise\, climb\, slide\, jump and meet new children\, while exploring a wide variety of equipment. These include\, trikes\, scooters\, plasma bikes\, tunnels\, a slide\, “ride em” vehicles such as police cars\, and fire trucks\, a bounce castle\, basketball\, bowling as well as balls\, mats\, and various sizes and shapes of gymnastics foam structures. This environment provides an opportunity to connect and socialize while also providing opportunity to improve gross and fine motor skills. It also provides a place for parents and caregivers to connect and share experiences. An infant area with developmentally appropriate toys is set up so that all ages are included in this fun program!
URL:https://lscss.com/event/tumble-bumble-with-early-years-3/2027-11-16/
LOCATION:Legion Hall\, 510 Veterans Av\, Keremeos\, BC\, V0X 1N3\, Canada
ORGANIZER;CN="Jocelyn Reaume":MAILTO:capc@lscss.com
END:VEVENT
BEGIN:VEVENT
DTSTART;TZID=America/Vancouver:20271117T090000
DTEND;TZID=America/Vancouver:20271117T123000
DTSTAMP:20260422T145844
CREATED:20260304T190414Z
LAST-MODIFIED:20260304T190414Z
UID:10001266-1826442000-1826454600@lscss.com
SUMMARY:Come Play - Early Years
DESCRIPTION:
URL:https://lscss.com/event/come-play-early-years-2/2027-11-17/
LOCATION:Family room\, 310 Veterans Ave\, Keremeos\, BC\, V0X 1N3\, Canada
ORGANIZER;CN="Jocelyn Reaume":MAILTO:capc@lscss.com
END:VEVENT
BEGIN:VEVENT
DTSTART;TZID=America/Vancouver:20271117T160000
DTEND;TZID=America/Vancouver:20271117T190000
DTSTAMP:20260422T145844
CREATED:20260304T190954Z
LAST-MODIFIED:20260304T190954Z
UID:10001527-1826467200-1826478000@lscss.com
SUMMARY:Circle of Security Parenting Program
DESCRIPTION:** Registration Required ** \n\nLast Call to Join Circle of Security!\n\n\nWe have just two spots remaining in our upcoming Circle of Security group\, beginning March 4th.\n\n\nThis 8-week program will run on Wednesday evenings from 4:00–7:00 PM.\n\n\n Childminding provided\n Light dinner and refreshments included\n\n\nIf you’ve been thinking about joining\, now is the time! Secure your spot before registrations close.\n\n\nPlease contact us to register or to learn more.
URL:https://lscss.com/event/circle-of-security-parenting-program-2/2027-11-17/
LOCATION:LSCSS Office\, 715 7th St\, Keremeos\, BC\, Canada
ORGANIZER;CN="Jocelyn Reaume":MAILTO:capc@lscss.com
END:VEVENT
BEGIN:VEVENT
DTSTART;TZID=America/Vancouver:20271118T100000
DTEND;TZID=America/Vancouver:20271118T120000
DTSTAMP:20260422T145844
CREATED:20260304T184844Z
LAST-MODIFIED:20260304T184844Z
UID:10000569-1826532000-1826539200@lscss.com
SUMMARY:TUMBLE BUMBLE with Early Years
DESCRIPTION:Tumble Bumble is a drop-in indoor play program for children from birth – 6 years and their parents/caregivers (older siblings are welcome). Children can cruise\, climb\, slide\, jump and meet new children\, while exploring a wide variety of equipment. These include\, trikes\, scooters\, plasma bikes\, tunnels\, a slide\, “ride em” vehicles such as police cars\, and fire trucks\, a bounce castle\, basketball\, bowling as well as balls\, mats\, and various sizes and shapes of gymnastics foam structures. This environment provides an opportunity to connect and socialize while also providing opportunity to improve gross and fine motor skills. It also provides a place for parents and caregivers to connect and share experiences. An infant area with developmentally appropriate toys is set up so that all ages are included in this fun program!
URL:https://lscss.com/event/tumble-bumble-with-early-years-3/2027-11-18/
LOCATION:Legion Hall\, 510 Veterans Av\, Keremeos\, BC\, V0X 1N3\, Canada
ORGANIZER;CN="Jocelyn Reaume":MAILTO:capc@lscss.com
END:VEVENT
BEGIN:VEVENT
DTSTART;TZID=America/Vancouver:20271119T100000
DTEND;TZID=America/Vancouver:20271119T120000
DTSTAMP:20260422T145844
CREATED:20260304T191211Z
LAST-MODIFIED:20260304T191211Z
UID:10001788-1826618400-1826625600@lscss.com
SUMMARY:Ntamtquen Community Gardens LSIB + Early Years
DESCRIPTION:
URL:https://lscss.com/event/ntamtquen-community-gardens-lsib-early-years/2027-11-19/
LOCATION:Ntamtquen Garden
ORGANIZER;CN="Jocelyn Reaume":MAILTO:capc@lscss.com
END:VEVENT
BEGIN:VEVENT
DTSTART;TZID=America/Vancouver:20271122T100000
DTEND;TZID=America/Vancouver:20271122T123000
DTSTAMP:20260422T145844
CREATED:20260304T185652Z
LAST-MODIFIED:20260304T185652Z
UID:10001004-1826877600-1826886600@lscss.com
SUMMARY:CAPC - Parenting and Prenatal
DESCRIPTION:The Community Action Program for Children (CAPC) aims to improve healthy child development by improving parenting skills and parent-child relationships and decreasing social isolation. Programming offers positive learning experiences for children (aged 0-6) and their families. CAPC facilitators lead fun learning activities where children find opportunities to make friends and interact with others of similar ages. CAPC facilitators support caregivers to expand their social support networks\, share experiences\, and learn more about community resources. \n 
URL:https://lscss.com/event/capc-parenting-and-prenatal-2/2027-11-22/
LOCATION:Family room\, 310 Veterans Ave\, Keremeos\, BC\, V0X 1N3\, Canada
ORGANIZER;CN="Jocelyn Reaume":MAILTO:capc@lscss.com
END:VEVENT
BEGIN:VEVENT
DTSTART;TZID=America/Vancouver:20271123T100000
DTEND;TZID=America/Vancouver:20271123T120000
DTSTAMP:20260422T145844
CREATED:20260304T184844Z
LAST-MODIFIED:20260304T184844Z
UID:10000570-1826964000-1826971200@lscss.com
SUMMARY:TUMBLE BUMBLE with Early Years
DESCRIPTION:Tumble Bumble is a drop-in indoor play program for children from birth – 6 years and their parents/caregivers (older siblings are welcome). Children can cruise\, climb\, slide\, jump and meet new children\, while exploring a wide variety of equipment. These include\, trikes\, scooters\, plasma bikes\, tunnels\, a slide\, “ride em” vehicles such as police cars\, and fire trucks\, a bounce castle\, basketball\, bowling as well as balls\, mats\, and various sizes and shapes of gymnastics foam structures. This environment provides an opportunity to connect and socialize while also providing opportunity to improve gross and fine motor skills. It also provides a place for parents and caregivers to connect and share experiences. An infant area with developmentally appropriate toys is set up so that all ages are included in this fun program!
URL:https://lscss.com/event/tumble-bumble-with-early-years-3/2027-11-23/
LOCATION:Legion Hall\, 510 Veterans Av\, Keremeos\, BC\, V0X 1N3\, Canada
ORGANIZER;CN="Jocelyn Reaume":MAILTO:capc@lscss.com
END:VEVENT
BEGIN:VEVENT
DTSTART;TZID=America/Vancouver:20271124T090000
DTEND;TZID=America/Vancouver:20271124T123000
DTSTAMP:20260422T145844
CREATED:20260304T190414Z
LAST-MODIFIED:20260304T190414Z
UID:10001267-1827046800-1827059400@lscss.com
SUMMARY:Come Play - Early Years
DESCRIPTION:
URL:https://lscss.com/event/come-play-early-years-2/2027-11-24/
LOCATION:Family room\, 310 Veterans Ave\, Keremeos\, BC\, V0X 1N3\, Canada
ORGANIZER;CN="Jocelyn Reaume":MAILTO:capc@lscss.com
END:VEVENT
BEGIN:VEVENT
DTSTART;TZID=America/Vancouver:20271124T160000
DTEND;TZID=America/Vancouver:20271124T190000
DTSTAMP:20260422T145844
CREATED:20260304T190954Z
LAST-MODIFIED:20260304T190954Z
UID:10001528-1827072000-1827082800@lscss.com
SUMMARY:Circle of Security Parenting Program
DESCRIPTION:** Registration Required ** \n\nLast Call to Join Circle of Security!\n\n\nWe have just two spots remaining in our upcoming Circle of Security group\, beginning March 4th.\n\n\nThis 8-week program will run on Wednesday evenings from 4:00–7:00 PM.\n\n\n Childminding provided\n Light dinner and refreshments included\n\n\nIf you’ve been thinking about joining\, now is the time! Secure your spot before registrations close.\n\n\nPlease contact us to register or to learn more.
URL:https://lscss.com/event/circle-of-security-parenting-program-2/2027-11-24/
LOCATION:LSCSS Office\, 715 7th St\, Keremeos\, BC\, Canada
ORGANIZER;CN="Jocelyn Reaume":MAILTO:capc@lscss.com
END:VEVENT
BEGIN:VEVENT
DTSTART;TZID=America/Vancouver:20271125T100000
DTEND;TZID=America/Vancouver:20271125T120000
DTSTAMP:20260422T145844
CREATED:20260304T184844Z
LAST-MODIFIED:20260304T184844Z
UID:10000571-1827136800-1827144000@lscss.com
SUMMARY:TUMBLE BUMBLE with Early Years
DESCRIPTION:Tumble Bumble is a drop-in indoor play program for children from birth – 6 years and their parents/caregivers (older siblings are welcome). Children can cruise\, climb\, slide\, jump and meet new children\, while exploring a wide variety of equipment. These include\, trikes\, scooters\, plasma bikes\, tunnels\, a slide\, “ride em” vehicles such as police cars\, and fire trucks\, a bounce castle\, basketball\, bowling as well as balls\, mats\, and various sizes and shapes of gymnastics foam structures. This environment provides an opportunity to connect and socialize while also providing opportunity to improve gross and fine motor skills. It also provides a place for parents and caregivers to connect and share experiences. An infant area with developmentally appropriate toys is set up so that all ages are included in this fun program!
URL:https://lscss.com/event/tumble-bumble-with-early-years-3/2027-11-25/
LOCATION:Legion Hall\, 510 Veterans Av\, Keremeos\, BC\, V0X 1N3\, Canada
ORGANIZER;CN="Jocelyn Reaume":MAILTO:capc@lscss.com
END:VEVENT
BEGIN:VEVENT
DTSTART;TZID=America/Vancouver:20271126T100000
DTEND;TZID=America/Vancouver:20271126T120000
DTSTAMP:20260422T145844
CREATED:20260304T191211Z
LAST-MODIFIED:20260304T191211Z
UID:10001789-1827223200-1827230400@lscss.com
SUMMARY:Ntamtquen Community Gardens LSIB + Early Years
DESCRIPTION:
URL:https://lscss.com/event/ntamtquen-community-gardens-lsib-early-years/2027-11-26/
LOCATION:Ntamtquen Garden
ORGANIZER;CN="Jocelyn Reaume":MAILTO:capc@lscss.com
END:VEVENT
BEGIN:VEVENT
DTSTART;TZID=America/Vancouver:20271129T100000
DTEND;TZID=America/Vancouver:20271129T123000
DTSTAMP:20260422T145844
CREATED:20260304T185652Z
LAST-MODIFIED:20260304T185652Z
UID:10001005-1827482400-1827491400@lscss.com
SUMMARY:CAPC - Parenting and Prenatal
DESCRIPTION:The Community Action Program for Children (CAPC) aims to improve healthy child development by improving parenting skills and parent-child relationships and decreasing social isolation. Programming offers positive learning experiences for children (aged 0-6) and their families. CAPC facilitators lead fun learning activities where children find opportunities to make friends and interact with others of similar ages. CAPC facilitators support caregivers to expand their social support networks\, share experiences\, and learn more about community resources. \n 
URL:https://lscss.com/event/capc-parenting-and-prenatal-2/2027-11-29/
LOCATION:Family room\, 310 Veterans Ave\, Keremeos\, BC\, V0X 1N3\, Canada
ORGANIZER;CN="Jocelyn Reaume":MAILTO:capc@lscss.com
END:VEVENT
BEGIN:VEVENT
DTSTART;TZID=America/Vancouver:20271130T100000
DTEND;TZID=America/Vancouver:20271130T120000
DTSTAMP:20260422T145844
CREATED:20260304T184844Z
LAST-MODIFIED:20260304T184844Z
UID:10000572-1827568800-1827576000@lscss.com
SUMMARY:TUMBLE BUMBLE with Early Years
DESCRIPTION:Tumble Bumble is a drop-in indoor play program for children from birth – 6 years and their parents/caregivers (older siblings are welcome). Children can cruise\, climb\, slide\, jump and meet new children\, while exploring a wide variety of equipment. These include\, trikes\, scooters\, plasma bikes\, tunnels\, a slide\, “ride em” vehicles such as police cars\, and fire trucks\, a bounce castle\, basketball\, bowling as well as balls\, mats\, and various sizes and shapes of gymnastics foam structures. This environment provides an opportunity to connect and socialize while also providing opportunity to improve gross and fine motor skills. It also provides a place for parents and caregivers to connect and share experiences. An infant area with developmentally appropriate toys is set up so that all ages are included in this fun program!
URL:https://lscss.com/event/tumble-bumble-with-early-years-3/2027-11-30/
LOCATION:Legion Hall\, 510 Veterans Av\, Keremeos\, BC\, V0X 1N3\, Canada
ORGANIZER;CN="Jocelyn Reaume":MAILTO:capc@lscss.com
END:VEVENT
BEGIN:VEVENT
DTSTART;TZID=America/Vancouver:20271201T090000
DTEND;TZID=America/Vancouver:20271201T123000
DTSTAMP:20260422T145844
CREATED:20260304T190414Z
LAST-MODIFIED:20260304T190414Z
UID:10001268-1827651600-1827664200@lscss.com
SUMMARY:Come Play - Early Years
DESCRIPTION:
URL:https://lscss.com/event/come-play-early-years-2/2027-12-01/
LOCATION:Family room\, 310 Veterans Ave\, Keremeos\, BC\, V0X 1N3\, Canada
ORGANIZER;CN="Jocelyn Reaume":MAILTO:capc@lscss.com
END:VEVENT
BEGIN:VEVENT
DTSTART;TZID=America/Vancouver:20271201T160000
DTEND;TZID=America/Vancouver:20271201T190000
DTSTAMP:20260422T145844
CREATED:20260304T190954Z
LAST-MODIFIED:20260304T190954Z
UID:10001529-1827676800-1827687600@lscss.com
SUMMARY:Circle of Security Parenting Program
DESCRIPTION:** Registration Required ** \n\nLast Call to Join Circle of Security!\n\n\nWe have just two spots remaining in our upcoming Circle of Security group\, beginning March 4th.\n\n\nThis 8-week program will run on Wednesday evenings from 4:00–7:00 PM.\n\n\n Childminding provided\n Light dinner and refreshments included\n\n\nIf you’ve been thinking about joining\, now is the time! Secure your spot before registrations close.\n\n\nPlease contact us to register or to learn more.
URL:https://lscss.com/event/circle-of-security-parenting-program-2/2027-12-01/
LOCATION:LSCSS Office\, 715 7th St\, Keremeos\, BC\, Canada
ORGANIZER;CN="Jocelyn Reaume":MAILTO:capc@lscss.com
END:VEVENT
BEGIN:VEVENT
DTSTART;TZID=America/Vancouver:20271202T100000
DTEND;TZID=America/Vancouver:20271202T120000
DTSTAMP:20260422T145844
CREATED:20260304T184844Z
LAST-MODIFIED:20260304T184844Z
UID:10000573-1827741600-1827748800@lscss.com
SUMMARY:TUMBLE BUMBLE with Early Years
DESCRIPTION:Tumble Bumble is a drop-in indoor play program for children from birth – 6 years and their parents/caregivers (older siblings are welcome). Children can cruise\, climb\, slide\, jump and meet new children\, while exploring a wide variety of equipment. These include\, trikes\, scooters\, plasma bikes\, tunnels\, a slide\, “ride em” vehicles such as police cars\, and fire trucks\, a bounce castle\, basketball\, bowling as well as balls\, mats\, and various sizes and shapes of gymnastics foam structures. This environment provides an opportunity to connect and socialize while also providing opportunity to improve gross and fine motor skills. It also provides a place for parents and caregivers to connect and share experiences. An infant area with developmentally appropriate toys is set up so that all ages are included in this fun program!
URL:https://lscss.com/event/tumble-bumble-with-early-years-3/2027-12-02/
LOCATION:Legion Hall\, 510 Veterans Av\, Keremeos\, BC\, V0X 1N3\, Canada
ORGANIZER;CN="Jocelyn Reaume":MAILTO:capc@lscss.com
END:VEVENT
BEGIN:VEVENT
DTSTART;TZID=America/Vancouver:20271203T100000
DTEND;TZID=America/Vancouver:20271203T120000
DTSTAMP:20260422T145844
CREATED:20260304T191211Z
LAST-MODIFIED:20260304T191211Z
UID:10001790-1827828000-1827835200@lscss.com
SUMMARY:Ntamtquen Community Gardens LSIB + Early Years
DESCRIPTION:
URL:https://lscss.com/event/ntamtquen-community-gardens-lsib-early-years/2027-12-03/
LOCATION:Ntamtquen Garden
ORGANIZER;CN="Jocelyn Reaume":MAILTO:capc@lscss.com
END:VEVENT
END:VCALENDAR