BEGIN:VCALENDAR
VERSION:2.0
PRODID:-//Lower Similkameen Community Services Society - ECPv6.15.20//NONSGML v1.0//EN
CALSCALE:GREGORIAN
METHOD:PUBLISH
X-WR-CALNAME:Lower Similkameen Community Services Society
X-ORIGINAL-URL:https://lscss.com
X-WR-CALDESC:Events for Lower Similkameen Community Services Society
REFRESH-INTERVAL;VALUE=DURATION:PT1H
X-Robots-Tag:noindex
X-PUBLISHED-TTL:PT1H
BEGIN:VTIMEZONE
TZID:America/Vancouver
BEGIN:DAYLIGHT
TZOFFSETFROM:-0800
TZOFFSETTO:-0700
TZNAME:PDT
DTSTART:20280312T100000
END:DAYLIGHT
BEGIN:STANDARD
TZOFFSETFROM:-0700
TZOFFSETTO:-0800
TZNAME:PST
DTSTART:20281105T090000
END:STANDARD
BEGIN:DAYLIGHT
TZOFFSETFROM:-0800
TZOFFSETTO:-0700
TZNAME:PDT
DTSTART:20290311T100000
END:DAYLIGHT
BEGIN:STANDARD
TZOFFSETFROM:-0700
TZOFFSETTO:-0800
TZNAME:PST
DTSTART:20291104T090000
END:STANDARD
BEGIN:DAYLIGHT
TZOFFSETFROM:-0800
TZOFFSETTO:-0700
TZNAME:PDT
DTSTART:20300310T100000
END:DAYLIGHT
BEGIN:STANDARD
TZOFFSETFROM:-0700
TZOFFSETTO:-0800
TZNAME:PST
DTSTART:20301103T090000
END:STANDARD
END:VTIMEZONE
BEGIN:VEVENT
DTSTART;TZID=America/Vancouver:20290131T090000
DTEND;TZID=America/Vancouver:20290131T123000
DTSTAMP:20260424T091550
CREATED:20260304T190414Z
LAST-MODIFIED:20260304T190414Z
UID:10001329-1864544400-1864557000@lscss.com
SUMMARY:Come Play - Early Years
DESCRIPTION:
URL:https://lscss.com/event/come-play-early-years-2/2029-01-31/
LOCATION:Family room\, 310 Veterans Ave\, Keremeos\, BC\, V0X 1N3\, Canada
ORGANIZER;CN="Jocelyn Reaume":MAILTO:capc@lscss.com
END:VEVENT
BEGIN:VEVENT
DTSTART;TZID=America/Vancouver:20290131T160000
DTEND;TZID=America/Vancouver:20290131T190000
DTSTAMP:20260424T091550
CREATED:20260304T190954Z
LAST-MODIFIED:20260304T190954Z
UID:10001590-1864569600-1864580400@lscss.com
SUMMARY:Circle of Security Parenting Program
DESCRIPTION:** Registration Required ** \n\nLast Call to Join Circle of Security!\n\n\nWe have just two spots remaining in our upcoming Circle of Security group\, beginning March 4th.\n\n\nThis 8-week program will run on Wednesday evenings from 4:00–7:00 PM.\n\n\n Childminding provided\n Light dinner and refreshments included\n\n\nIf you’ve been thinking about joining\, now is the time! Secure your spot before registrations close.\n\n\nPlease contact us to register or to learn more.
URL:https://lscss.com/event/circle-of-security-parenting-program-2/2029-01-31/
LOCATION:LSCSS Office\, 715 7th St\, Keremeos\, BC\, Canada
ORGANIZER;CN="Jocelyn Reaume":MAILTO:capc@lscss.com
END:VEVENT
BEGIN:VEVENT
DTSTART;TZID=America/Vancouver:20290201T100000
DTEND;TZID=America/Vancouver:20290201T120000
DTSTAMP:20260424T091550
CREATED:20260304T184844Z
LAST-MODIFIED:20260304T184844Z
UID:10000695-1864634400-1864641600@lscss.com
SUMMARY:TUMBLE BUMBLE with Early Years
DESCRIPTION:Tumble Bumble is a drop-in indoor play program for children from birth – 6 years and their parents/caregivers (older siblings are welcome). Children can cruise\, climb\, slide\, jump and meet new children\, while exploring a wide variety of equipment. These include\, trikes\, scooters\, plasma bikes\, tunnels\, a slide\, “ride em” vehicles such as police cars\, and fire trucks\, a bounce castle\, basketball\, bowling as well as balls\, mats\, and various sizes and shapes of gymnastics foam structures. This environment provides an opportunity to connect and socialize while also providing opportunity to improve gross and fine motor skills. It also provides a place for parents and caregivers to connect and share experiences. An infant area with developmentally appropriate toys is set up so that all ages are included in this fun program!
URL:https://lscss.com/event/tumble-bumble-with-early-years-3/2029-02-01/
LOCATION:Legion Hall\, 510 Veterans Av\, Keremeos\, BC\, V0X 1N3\, Canada
ORGANIZER;CN="Jocelyn Reaume":MAILTO:capc@lscss.com
END:VEVENT
BEGIN:VEVENT
DTSTART;TZID=America/Vancouver:20290202T100000
DTEND;TZID=America/Vancouver:20290202T120000
DTSTAMP:20260424T091550
CREATED:20260304T191211Z
LAST-MODIFIED:20260304T191211Z
UID:10001851-1864720800-1864728000@lscss.com
SUMMARY:Ntamtquen Community Gardens LSIB + Early Years
DESCRIPTION:
URL:https://lscss.com/event/ntamtquen-community-gardens-lsib-early-years/2029-02-02/
LOCATION:Ntamtquen Garden
ORGANIZER;CN="Jocelyn Reaume":MAILTO:capc@lscss.com
END:VEVENT
BEGIN:VEVENT
DTSTART;TZID=America/Vancouver:20290205T100000
DTEND;TZID=America/Vancouver:20290205T123000
DTSTAMP:20260424T091550
CREATED:20260304T185652Z
LAST-MODIFIED:20260304T185652Z
UID:10001067-1864980000-1864989000@lscss.com
SUMMARY:CAPC - Parenting and Prenatal
DESCRIPTION:The Community Action Program for Children (CAPC) aims to improve healthy child development by improving parenting skills and parent-child relationships and decreasing social isolation. Programming offers positive learning experiences for children (aged 0-6) and their families. CAPC facilitators lead fun learning activities where children find opportunities to make friends and interact with others of similar ages. CAPC facilitators support caregivers to expand their social support networks\, share experiences\, and learn more about community resources. \n 
URL:https://lscss.com/event/capc-parenting-and-prenatal-2/2029-02-05/
LOCATION:Family room\, 310 Veterans Ave\, Keremeos\, BC\, V0X 1N3\, Canada
ORGANIZER;CN="Jocelyn Reaume":MAILTO:capc@lscss.com
END:VEVENT
BEGIN:VEVENT
DTSTART;TZID=America/Vancouver:20290206T100000
DTEND;TZID=America/Vancouver:20290206T120000
DTSTAMP:20260424T091550
CREATED:20260304T184844Z
LAST-MODIFIED:20260304T184844Z
UID:10000696-1865066400-1865073600@lscss.com
SUMMARY:TUMBLE BUMBLE with Early Years
DESCRIPTION:Tumble Bumble is a drop-in indoor play program for children from birth – 6 years and their parents/caregivers (older siblings are welcome). Children can cruise\, climb\, slide\, jump and meet new children\, while exploring a wide variety of equipment. These include\, trikes\, scooters\, plasma bikes\, tunnels\, a slide\, “ride em” vehicles such as police cars\, and fire trucks\, a bounce castle\, basketball\, bowling as well as balls\, mats\, and various sizes and shapes of gymnastics foam structures. This environment provides an opportunity to connect and socialize while also providing opportunity to improve gross and fine motor skills. It also provides a place for parents and caregivers to connect and share experiences. An infant area with developmentally appropriate toys is set up so that all ages are included in this fun program!
URL:https://lscss.com/event/tumble-bumble-with-early-years-3/2029-02-06/
LOCATION:Legion Hall\, 510 Veterans Av\, Keremeos\, BC\, V0X 1N3\, Canada
ORGANIZER;CN="Jocelyn Reaume":MAILTO:capc@lscss.com
END:VEVENT
BEGIN:VEVENT
DTSTART;TZID=America/Vancouver:20290207T090000
DTEND;TZID=America/Vancouver:20290207T123000
DTSTAMP:20260424T091550
CREATED:20260304T190414Z
LAST-MODIFIED:20260304T190414Z
UID:10001330-1865149200-1865161800@lscss.com
SUMMARY:Come Play - Early Years
DESCRIPTION:
URL:https://lscss.com/event/come-play-early-years-2/2029-02-07/
LOCATION:Family room\, 310 Veterans Ave\, Keremeos\, BC\, V0X 1N3\, Canada
ORGANIZER;CN="Jocelyn Reaume":MAILTO:capc@lscss.com
END:VEVENT
BEGIN:VEVENT
DTSTART;TZID=America/Vancouver:20290207T160000
DTEND;TZID=America/Vancouver:20290207T190000
DTSTAMP:20260424T091550
CREATED:20260304T190954Z
LAST-MODIFIED:20260304T190954Z
UID:10001591-1865174400-1865185200@lscss.com
SUMMARY:Circle of Security Parenting Program
DESCRIPTION:** Registration Required ** \n\nLast Call to Join Circle of Security!\n\n\nWe have just two spots remaining in our upcoming Circle of Security group\, beginning March 4th.\n\n\nThis 8-week program will run on Wednesday evenings from 4:00–7:00 PM.\n\n\n Childminding provided\n Light dinner and refreshments included\n\n\nIf you’ve been thinking about joining\, now is the time! Secure your spot before registrations close.\n\n\nPlease contact us to register or to learn more.
URL:https://lscss.com/event/circle-of-security-parenting-program-2/2029-02-07/
LOCATION:LSCSS Office\, 715 7th St\, Keremeos\, BC\, Canada
ORGANIZER;CN="Jocelyn Reaume":MAILTO:capc@lscss.com
END:VEVENT
BEGIN:VEVENT
DTSTART;TZID=America/Vancouver:20290208T100000
DTEND;TZID=America/Vancouver:20290208T120000
DTSTAMP:20260424T091550
CREATED:20260304T184844Z
LAST-MODIFIED:20260304T184844Z
UID:10000697-1865239200-1865246400@lscss.com
SUMMARY:TUMBLE BUMBLE with Early Years
DESCRIPTION:Tumble Bumble is a drop-in indoor play program for children from birth – 6 years and their parents/caregivers (older siblings are welcome). Children can cruise\, climb\, slide\, jump and meet new children\, while exploring a wide variety of equipment. These include\, trikes\, scooters\, plasma bikes\, tunnels\, a slide\, “ride em” vehicles such as police cars\, and fire trucks\, a bounce castle\, basketball\, bowling as well as balls\, mats\, and various sizes and shapes of gymnastics foam structures. This environment provides an opportunity to connect and socialize while also providing opportunity to improve gross and fine motor skills. It also provides a place for parents and caregivers to connect and share experiences. An infant area with developmentally appropriate toys is set up so that all ages are included in this fun program!
URL:https://lscss.com/event/tumble-bumble-with-early-years-3/2029-02-08/
LOCATION:Legion Hall\, 510 Veterans Av\, Keremeos\, BC\, V0X 1N3\, Canada
ORGANIZER;CN="Jocelyn Reaume":MAILTO:capc@lscss.com
END:VEVENT
BEGIN:VEVENT
DTSTART;TZID=America/Vancouver:20290209T100000
DTEND;TZID=America/Vancouver:20290209T120000
DTSTAMP:20260424T091550
CREATED:20260304T191211Z
LAST-MODIFIED:20260304T191211Z
UID:10001852-1865325600-1865332800@lscss.com
SUMMARY:Ntamtquen Community Gardens LSIB + Early Years
DESCRIPTION:
URL:https://lscss.com/event/ntamtquen-community-gardens-lsib-early-years/2029-02-09/
LOCATION:Ntamtquen Garden
ORGANIZER;CN="Jocelyn Reaume":MAILTO:capc@lscss.com
END:VEVENT
BEGIN:VEVENT
DTSTART;TZID=America/Vancouver:20290212T100000
DTEND;TZID=America/Vancouver:20290212T123000
DTSTAMP:20260424T091550
CREATED:20260304T185652Z
LAST-MODIFIED:20260304T185652Z
UID:10001068-1865584800-1865593800@lscss.com
SUMMARY:CAPC - Parenting and Prenatal
DESCRIPTION:The Community Action Program for Children (CAPC) aims to improve healthy child development by improving parenting skills and parent-child relationships and decreasing social isolation. Programming offers positive learning experiences for children (aged 0-6) and their families. CAPC facilitators lead fun learning activities where children find opportunities to make friends and interact with others of similar ages. CAPC facilitators support caregivers to expand their social support networks\, share experiences\, and learn more about community resources. \n 
URL:https://lscss.com/event/capc-parenting-and-prenatal-2/2029-02-12/
LOCATION:Family room\, 310 Veterans Ave\, Keremeos\, BC\, V0X 1N3\, Canada
ORGANIZER;CN="Jocelyn Reaume":MAILTO:capc@lscss.com
END:VEVENT
BEGIN:VEVENT
DTSTART;TZID=America/Vancouver:20290213T100000
DTEND;TZID=America/Vancouver:20290213T120000
DTSTAMP:20260424T091550
CREATED:20260304T184844Z
LAST-MODIFIED:20260304T184844Z
UID:10000698-1865671200-1865678400@lscss.com
SUMMARY:TUMBLE BUMBLE with Early Years
DESCRIPTION:Tumble Bumble is a drop-in indoor play program for children from birth – 6 years and their parents/caregivers (older siblings are welcome). Children can cruise\, climb\, slide\, jump and meet new children\, while exploring a wide variety of equipment. These include\, trikes\, scooters\, plasma bikes\, tunnels\, a slide\, “ride em” vehicles such as police cars\, and fire trucks\, a bounce castle\, basketball\, bowling as well as balls\, mats\, and various sizes and shapes of gymnastics foam structures. This environment provides an opportunity to connect and socialize while also providing opportunity to improve gross and fine motor skills. It also provides a place for parents and caregivers to connect and share experiences. An infant area with developmentally appropriate toys is set up so that all ages are included in this fun program!
URL:https://lscss.com/event/tumble-bumble-with-early-years-3/2029-02-13/
LOCATION:Legion Hall\, 510 Veterans Av\, Keremeos\, BC\, V0X 1N3\, Canada
ORGANIZER;CN="Jocelyn Reaume":MAILTO:capc@lscss.com
END:VEVENT
BEGIN:VEVENT
DTSTART;TZID=America/Vancouver:20290214T090000
DTEND;TZID=America/Vancouver:20290214T123000
DTSTAMP:20260424T091550
CREATED:20260304T190414Z
LAST-MODIFIED:20260304T190414Z
UID:10001331-1865754000-1865766600@lscss.com
SUMMARY:Come Play - Early Years
DESCRIPTION:
URL:https://lscss.com/event/come-play-early-years-2/2029-02-14/
LOCATION:Family room\, 310 Veterans Ave\, Keremeos\, BC\, V0X 1N3\, Canada
ORGANIZER;CN="Jocelyn Reaume":MAILTO:capc@lscss.com
END:VEVENT
BEGIN:VEVENT
DTSTART;TZID=America/Vancouver:20290214T160000
DTEND;TZID=America/Vancouver:20290214T190000
DTSTAMP:20260424T091550
CREATED:20260304T190954Z
LAST-MODIFIED:20260304T190954Z
UID:10001592-1865779200-1865790000@lscss.com
SUMMARY:Circle of Security Parenting Program
DESCRIPTION:** Registration Required ** \n\nLast Call to Join Circle of Security!\n\n\nWe have just two spots remaining in our upcoming Circle of Security group\, beginning March 4th.\n\n\nThis 8-week program will run on Wednesday evenings from 4:00–7:00 PM.\n\n\n Childminding provided\n Light dinner and refreshments included\n\n\nIf you’ve been thinking about joining\, now is the time! Secure your spot before registrations close.\n\n\nPlease contact us to register or to learn more.
URL:https://lscss.com/event/circle-of-security-parenting-program-2/2029-02-14/
LOCATION:LSCSS Office\, 715 7th St\, Keremeos\, BC\, Canada
ORGANIZER;CN="Jocelyn Reaume":MAILTO:capc@lscss.com
END:VEVENT
BEGIN:VEVENT
DTSTART;TZID=America/Vancouver:20290215T100000
DTEND;TZID=America/Vancouver:20290215T120000
DTSTAMP:20260424T091550
CREATED:20260304T184844Z
LAST-MODIFIED:20260304T184844Z
UID:10000699-1865844000-1865851200@lscss.com
SUMMARY:TUMBLE BUMBLE with Early Years
DESCRIPTION:Tumble Bumble is a drop-in indoor play program for children from birth – 6 years and their parents/caregivers (older siblings are welcome). Children can cruise\, climb\, slide\, jump and meet new children\, while exploring a wide variety of equipment. These include\, trikes\, scooters\, plasma bikes\, tunnels\, a slide\, “ride em” vehicles such as police cars\, and fire trucks\, a bounce castle\, basketball\, bowling as well as balls\, mats\, and various sizes and shapes of gymnastics foam structures. This environment provides an opportunity to connect and socialize while also providing opportunity to improve gross and fine motor skills. It also provides a place for parents and caregivers to connect and share experiences. An infant area with developmentally appropriate toys is set up so that all ages are included in this fun program!
URL:https://lscss.com/event/tumble-bumble-with-early-years-3/2029-02-15/
LOCATION:Legion Hall\, 510 Veterans Av\, Keremeos\, BC\, V0X 1N3\, Canada
ORGANIZER;CN="Jocelyn Reaume":MAILTO:capc@lscss.com
END:VEVENT
BEGIN:VEVENT
DTSTART;TZID=America/Vancouver:20290216T100000
DTEND;TZID=America/Vancouver:20290216T120000
DTSTAMP:20260424T091550
CREATED:20260304T191211Z
LAST-MODIFIED:20260304T191211Z
UID:10001853-1865930400-1865937600@lscss.com
SUMMARY:Ntamtquen Community Gardens LSIB + Early Years
DESCRIPTION:
URL:https://lscss.com/event/ntamtquen-community-gardens-lsib-early-years/2029-02-16/
LOCATION:Ntamtquen Garden
ORGANIZER;CN="Jocelyn Reaume":MAILTO:capc@lscss.com
END:VEVENT
BEGIN:VEVENT
DTSTART;TZID=America/Vancouver:20290219T100000
DTEND;TZID=America/Vancouver:20290219T123000
DTSTAMP:20260424T091550
CREATED:20260304T185652Z
LAST-MODIFIED:20260304T185652Z
UID:10001069-1866189600-1866198600@lscss.com
SUMMARY:CAPC - Parenting and Prenatal
DESCRIPTION:The Community Action Program for Children (CAPC) aims to improve healthy child development by improving parenting skills and parent-child relationships and decreasing social isolation. Programming offers positive learning experiences for children (aged 0-6) and their families. CAPC facilitators lead fun learning activities where children find opportunities to make friends and interact with others of similar ages. CAPC facilitators support caregivers to expand their social support networks\, share experiences\, and learn more about community resources. \n 
URL:https://lscss.com/event/capc-parenting-and-prenatal-2/2029-02-19/
LOCATION:Family room\, 310 Veterans Ave\, Keremeos\, BC\, V0X 1N3\, Canada
ORGANIZER;CN="Jocelyn Reaume":MAILTO:capc@lscss.com
END:VEVENT
BEGIN:VEVENT
DTSTART;TZID=America/Vancouver:20290220T100000
DTEND;TZID=America/Vancouver:20290220T120000
DTSTAMP:20260424T091550
CREATED:20260304T184844Z
LAST-MODIFIED:20260304T184844Z
UID:10000700-1866276000-1866283200@lscss.com
SUMMARY:TUMBLE BUMBLE with Early Years
DESCRIPTION:Tumble Bumble is a drop-in indoor play program for children from birth – 6 years and their parents/caregivers (older siblings are welcome). Children can cruise\, climb\, slide\, jump and meet new children\, while exploring a wide variety of equipment. These include\, trikes\, scooters\, plasma bikes\, tunnels\, a slide\, “ride em” vehicles such as police cars\, and fire trucks\, a bounce castle\, basketball\, bowling as well as balls\, mats\, and various sizes and shapes of gymnastics foam structures. This environment provides an opportunity to connect and socialize while also providing opportunity to improve gross and fine motor skills. It also provides a place for parents and caregivers to connect and share experiences. An infant area with developmentally appropriate toys is set up so that all ages are included in this fun program!
URL:https://lscss.com/event/tumble-bumble-with-early-years-3/2029-02-20/
LOCATION:Legion Hall\, 510 Veterans Av\, Keremeos\, BC\, V0X 1N3\, Canada
ORGANIZER;CN="Jocelyn Reaume":MAILTO:capc@lscss.com
END:VEVENT
BEGIN:VEVENT
DTSTART;TZID=America/Vancouver:20290221T090000
DTEND;TZID=America/Vancouver:20290221T123000
DTSTAMP:20260424T091550
CREATED:20260304T190414Z
LAST-MODIFIED:20260304T190414Z
UID:10001332-1866358800-1866371400@lscss.com
SUMMARY:Come Play - Early Years
DESCRIPTION:
URL:https://lscss.com/event/come-play-early-years-2/2029-02-21/
LOCATION:Family room\, 310 Veterans Ave\, Keremeos\, BC\, V0X 1N3\, Canada
ORGANIZER;CN="Jocelyn Reaume":MAILTO:capc@lscss.com
END:VEVENT
BEGIN:VEVENT
DTSTART;TZID=America/Vancouver:20290221T160000
DTEND;TZID=America/Vancouver:20290221T190000
DTSTAMP:20260424T091550
CREATED:20260304T190954Z
LAST-MODIFIED:20260304T190954Z
UID:10001593-1866384000-1866394800@lscss.com
SUMMARY:Circle of Security Parenting Program
DESCRIPTION:** Registration Required ** \n\nLast Call to Join Circle of Security!\n\n\nWe have just two spots remaining in our upcoming Circle of Security group\, beginning March 4th.\n\n\nThis 8-week program will run on Wednesday evenings from 4:00–7:00 PM.\n\n\n Childminding provided\n Light dinner and refreshments included\n\n\nIf you’ve been thinking about joining\, now is the time! Secure your spot before registrations close.\n\n\nPlease contact us to register or to learn more.
URL:https://lscss.com/event/circle-of-security-parenting-program-2/2029-02-21/
LOCATION:LSCSS Office\, 715 7th St\, Keremeos\, BC\, Canada
ORGANIZER;CN="Jocelyn Reaume":MAILTO:capc@lscss.com
END:VEVENT
BEGIN:VEVENT
DTSTART;TZID=America/Vancouver:20290222T100000
DTEND;TZID=America/Vancouver:20290222T120000
DTSTAMP:20260424T091550
CREATED:20260304T184844Z
LAST-MODIFIED:20260304T184844Z
UID:10000701-1866448800-1866456000@lscss.com
SUMMARY:TUMBLE BUMBLE with Early Years
DESCRIPTION:Tumble Bumble is a drop-in indoor play program for children from birth – 6 years and their parents/caregivers (older siblings are welcome). Children can cruise\, climb\, slide\, jump and meet new children\, while exploring a wide variety of equipment. These include\, trikes\, scooters\, plasma bikes\, tunnels\, a slide\, “ride em” vehicles such as police cars\, and fire trucks\, a bounce castle\, basketball\, bowling as well as balls\, mats\, and various sizes and shapes of gymnastics foam structures. This environment provides an opportunity to connect and socialize while also providing opportunity to improve gross and fine motor skills. It also provides a place for parents and caregivers to connect and share experiences. An infant area with developmentally appropriate toys is set up so that all ages are included in this fun program!
URL:https://lscss.com/event/tumble-bumble-with-early-years-3/2029-02-22/
LOCATION:Legion Hall\, 510 Veterans Av\, Keremeos\, BC\, V0X 1N3\, Canada
ORGANIZER;CN="Jocelyn Reaume":MAILTO:capc@lscss.com
END:VEVENT
BEGIN:VEVENT
DTSTART;TZID=America/Vancouver:20290223T100000
DTEND;TZID=America/Vancouver:20290223T120000
DTSTAMP:20260424T091550
CREATED:20260304T191211Z
LAST-MODIFIED:20260304T191211Z
UID:10001854-1866535200-1866542400@lscss.com
SUMMARY:Ntamtquen Community Gardens LSIB + Early Years
DESCRIPTION:
URL:https://lscss.com/event/ntamtquen-community-gardens-lsib-early-years/2029-02-23/
LOCATION:Ntamtquen Garden
ORGANIZER;CN="Jocelyn Reaume":MAILTO:capc@lscss.com
END:VEVENT
BEGIN:VEVENT
DTSTART;TZID=America/Vancouver:20290226T100000
DTEND;TZID=America/Vancouver:20290226T123000
DTSTAMP:20260424T091550
CREATED:20260304T185652Z
LAST-MODIFIED:20260304T185652Z
UID:10001070-1866794400-1866803400@lscss.com
SUMMARY:CAPC - Parenting and Prenatal
DESCRIPTION:The Community Action Program for Children (CAPC) aims to improve healthy child development by improving parenting skills and parent-child relationships and decreasing social isolation. Programming offers positive learning experiences for children (aged 0-6) and their families. CAPC facilitators lead fun learning activities where children find opportunities to make friends and interact with others of similar ages. CAPC facilitators support caregivers to expand their social support networks\, share experiences\, and learn more about community resources. \n 
URL:https://lscss.com/event/capc-parenting-and-prenatal-2/2029-02-26/
LOCATION:Family room\, 310 Veterans Ave\, Keremeos\, BC\, V0X 1N3\, Canada
ORGANIZER;CN="Jocelyn Reaume":MAILTO:capc@lscss.com
END:VEVENT
BEGIN:VEVENT
DTSTART;TZID=America/Vancouver:20290227T100000
DTEND;TZID=America/Vancouver:20290227T120000
DTSTAMP:20260424T091550
CREATED:20260304T184844Z
LAST-MODIFIED:20260304T184844Z
UID:10000702-1866880800-1866888000@lscss.com
SUMMARY:TUMBLE BUMBLE with Early Years
DESCRIPTION:Tumble Bumble is a drop-in indoor play program for children from birth – 6 years and their parents/caregivers (older siblings are welcome). Children can cruise\, climb\, slide\, jump and meet new children\, while exploring a wide variety of equipment. These include\, trikes\, scooters\, plasma bikes\, tunnels\, a slide\, “ride em” vehicles such as police cars\, and fire trucks\, a bounce castle\, basketball\, bowling as well as balls\, mats\, and various sizes and shapes of gymnastics foam structures. This environment provides an opportunity to connect and socialize while also providing opportunity to improve gross and fine motor skills. It also provides a place for parents and caregivers to connect and share experiences. An infant area with developmentally appropriate toys is set up so that all ages are included in this fun program!
URL:https://lscss.com/event/tumble-bumble-with-early-years-3/2029-02-27/
LOCATION:Legion Hall\, 510 Veterans Av\, Keremeos\, BC\, V0X 1N3\, Canada
ORGANIZER;CN="Jocelyn Reaume":MAILTO:capc@lscss.com
END:VEVENT
BEGIN:VEVENT
DTSTART;TZID=America/Vancouver:20290228T090000
DTEND;TZID=America/Vancouver:20290228T123000
DTSTAMP:20260424T091550
CREATED:20260304T190414Z
LAST-MODIFIED:20260304T190414Z
UID:10001333-1866963600-1866976200@lscss.com
SUMMARY:Come Play - Early Years
DESCRIPTION:
URL:https://lscss.com/event/come-play-early-years-2/2029-02-28/
LOCATION:Family room\, 310 Veterans Ave\, Keremeos\, BC\, V0X 1N3\, Canada
ORGANIZER;CN="Jocelyn Reaume":MAILTO:capc@lscss.com
END:VEVENT
BEGIN:VEVENT
DTSTART;TZID=America/Vancouver:20290228T160000
DTEND;TZID=America/Vancouver:20290228T190000
DTSTAMP:20260424T091550
CREATED:20260304T190954Z
LAST-MODIFIED:20260304T190954Z
UID:10001594-1866988800-1866999600@lscss.com
SUMMARY:Circle of Security Parenting Program
DESCRIPTION:** Registration Required ** \n\nLast Call to Join Circle of Security!\n\n\nWe have just two spots remaining in our upcoming Circle of Security group\, beginning March 4th.\n\n\nThis 8-week program will run on Wednesday evenings from 4:00–7:00 PM.\n\n\n Childminding provided\n Light dinner and refreshments included\n\n\nIf you’ve been thinking about joining\, now is the time! Secure your spot before registrations close.\n\n\nPlease contact us to register or to learn more.
URL:https://lscss.com/event/circle-of-security-parenting-program-2/2029-02-28/
LOCATION:LSCSS Office\, 715 7th St\, Keremeos\, BC\, Canada
ORGANIZER;CN="Jocelyn Reaume":MAILTO:capc@lscss.com
END:VEVENT
BEGIN:VEVENT
DTSTART;TZID=America/Vancouver:20290301T100000
DTEND;TZID=America/Vancouver:20290301T120000
DTSTAMP:20260424T091550
CREATED:20260304T184844Z
LAST-MODIFIED:20260304T184844Z
UID:10000703-1867053600-1867060800@lscss.com
SUMMARY:TUMBLE BUMBLE with Early Years
DESCRIPTION:Tumble Bumble is a drop-in indoor play program for children from birth – 6 years and their parents/caregivers (older siblings are welcome). Children can cruise\, climb\, slide\, jump and meet new children\, while exploring a wide variety of equipment. These include\, trikes\, scooters\, plasma bikes\, tunnels\, a slide\, “ride em” vehicles such as police cars\, and fire trucks\, a bounce castle\, basketball\, bowling as well as balls\, mats\, and various sizes and shapes of gymnastics foam structures. This environment provides an opportunity to connect and socialize while also providing opportunity to improve gross and fine motor skills. It also provides a place for parents and caregivers to connect and share experiences. An infant area with developmentally appropriate toys is set up so that all ages are included in this fun program!
URL:https://lscss.com/event/tumble-bumble-with-early-years-3/2029-03-01/
LOCATION:Legion Hall\, 510 Veterans Av\, Keremeos\, BC\, V0X 1N3\, Canada
ORGANIZER;CN="Jocelyn Reaume":MAILTO:capc@lscss.com
END:VEVENT
BEGIN:VEVENT
DTSTART;TZID=America/Vancouver:20290302T100000
DTEND;TZID=America/Vancouver:20290302T120000
DTSTAMP:20260424T091550
CREATED:20260304T191211Z
LAST-MODIFIED:20260304T191211Z
UID:10001855-1867140000-1867147200@lscss.com
SUMMARY:Ntamtquen Community Gardens LSIB + Early Years
DESCRIPTION:
URL:https://lscss.com/event/ntamtquen-community-gardens-lsib-early-years/2029-03-02/
LOCATION:Ntamtquen Garden
ORGANIZER;CN="Jocelyn Reaume":MAILTO:capc@lscss.com
END:VEVENT
BEGIN:VEVENT
DTSTART;TZID=America/Vancouver:20290305T100000
DTEND;TZID=America/Vancouver:20290305T123000
DTSTAMP:20260424T091550
CREATED:20260304T185652Z
LAST-MODIFIED:20260304T185652Z
UID:10001071-1867399200-1867408200@lscss.com
SUMMARY:CAPC - Parenting and Prenatal
DESCRIPTION:The Community Action Program for Children (CAPC) aims to improve healthy child development by improving parenting skills and parent-child relationships and decreasing social isolation. Programming offers positive learning experiences for children (aged 0-6) and their families. CAPC facilitators lead fun learning activities where children find opportunities to make friends and interact with others of similar ages. CAPC facilitators support caregivers to expand their social support networks\, share experiences\, and learn more about community resources. \n 
URL:https://lscss.com/event/capc-parenting-and-prenatal-2/2029-03-05/
LOCATION:Family room\, 310 Veterans Ave\, Keremeos\, BC\, V0X 1N3\, Canada
ORGANIZER;CN="Jocelyn Reaume":MAILTO:capc@lscss.com
END:VEVENT
BEGIN:VEVENT
DTSTART;TZID=America/Vancouver:20290306T100000
DTEND;TZID=America/Vancouver:20290306T120000
DTSTAMP:20260424T091550
CREATED:20260304T184844Z
LAST-MODIFIED:20260304T184844Z
UID:10000704-1867485600-1867492800@lscss.com
SUMMARY:TUMBLE BUMBLE with Early Years
DESCRIPTION:Tumble Bumble is a drop-in indoor play program for children from birth – 6 years and their parents/caregivers (older siblings are welcome). Children can cruise\, climb\, slide\, jump and meet new children\, while exploring a wide variety of equipment. These include\, trikes\, scooters\, plasma bikes\, tunnels\, a slide\, “ride em” vehicles such as police cars\, and fire trucks\, a bounce castle\, basketball\, bowling as well as balls\, mats\, and various sizes and shapes of gymnastics foam structures. This environment provides an opportunity to connect and socialize while also providing opportunity to improve gross and fine motor skills. It also provides a place for parents and caregivers to connect and share experiences. An infant area with developmentally appropriate toys is set up so that all ages are included in this fun program!
URL:https://lscss.com/event/tumble-bumble-with-early-years-3/2029-03-06/
LOCATION:Legion Hall\, 510 Veterans Av\, Keremeos\, BC\, V0X 1N3\, Canada
ORGANIZER;CN="Jocelyn Reaume":MAILTO:capc@lscss.com
END:VEVENT
END:VCALENDAR