BEGIN:VCALENDAR
VERSION:2.0
PRODID:-//Lower Similkameen Community Services Society - ECPv6.15.20//NONSGML v1.0//EN
CALSCALE:GREGORIAN
METHOD:PUBLISH
X-WR-CALNAME:Lower Similkameen Community Services Society
X-ORIGINAL-URL:https://lscss.com
X-WR-CALDESC:Events for Lower Similkameen Community Services Society
REFRESH-INTERVAL;VALUE=DURATION:PT1H
X-Robots-Tag:noindex
X-PUBLISHED-TTL:PT1H
BEGIN:VTIMEZONE
TZID:America/Vancouver
BEGIN:DAYLIGHT
TZOFFSETFROM:-0800
TZOFFSETTO:-0700
TZNAME:PDT
DTSTART:20260308T100000
END:DAYLIGHT
BEGIN:STANDARD
TZOFFSETFROM:-0700
TZOFFSETTO:-0800
TZNAME:PST
DTSTART:20261101T090000
END:STANDARD
BEGIN:DAYLIGHT
TZOFFSETFROM:-0800
TZOFFSETTO:-0700
TZNAME:PDT
DTSTART:20270314T100000
END:DAYLIGHT
BEGIN:STANDARD
TZOFFSETFROM:-0700
TZOFFSETTO:-0800
TZNAME:PST
DTSTART:20271107T090000
END:STANDARD
BEGIN:DAYLIGHT
TZOFFSETFROM:-0800
TZOFFSETTO:-0700
TZNAME:PDT
DTSTART:20280312T100000
END:DAYLIGHT
BEGIN:STANDARD
TZOFFSETFROM:-0700
TZOFFSETTO:-0800
TZNAME:PST
DTSTART:20281105T090000
END:STANDARD
END:VTIMEZONE
BEGIN:VEVENT
DTSTART;TZID=America/Vancouver:20270222T100000
DTEND;TZID=America/Vancouver:20270222T123000
DTSTAMP:20260420T011522
CREATED:20260304T185652Z
LAST-MODIFIED:20260304T185652Z
UID:10000965-1803290400-1803299400@lscss.com
SUMMARY:CAPC - Parenting and Prenatal
DESCRIPTION:The Community Action Program for Children (CAPC) aims to improve healthy child development by improving parenting skills and parent-child relationships and decreasing social isolation. Programming offers positive learning experiences for children (aged 0-6) and their families. CAPC facilitators lead fun learning activities where children find opportunities to make friends and interact with others of similar ages. CAPC facilitators support caregivers to expand their social support networks\, share experiences\, and learn more about community resources. \n 
URL:https://lscss.com/event/capc-parenting-and-prenatal-2/2027-02-22/
LOCATION:Family room\, 310 Veterans Ave\, Keremeos\, BC\, V0X 1N3\, Canada
ORGANIZER;CN="Jocelyn Reaume":MAILTO:capc@lscss.com
END:VEVENT
BEGIN:VEVENT
DTSTART;TZID=America/Vancouver:20270223T100000
DTEND;TZID=America/Vancouver:20270223T120000
DTSTAMP:20260420T011522
CREATED:20260304T184844Z
LAST-MODIFIED:20260304T184844Z
UID:10000492-1803376800-1803384000@lscss.com
SUMMARY:TUMBLE BUMBLE with Early Years
DESCRIPTION:Tumble Bumble is a drop-in indoor play program for children from birth – 6 years and their parents/caregivers (older siblings are welcome). Children can cruise\, climb\, slide\, jump and meet new children\, while exploring a wide variety of equipment. These include\, trikes\, scooters\, plasma bikes\, tunnels\, a slide\, “ride em” vehicles such as police cars\, and fire trucks\, a bounce castle\, basketball\, bowling as well as balls\, mats\, and various sizes and shapes of gymnastics foam structures. This environment provides an opportunity to connect and socialize while also providing opportunity to improve gross and fine motor skills. It also provides a place for parents and caregivers to connect and share experiences. An infant area with developmentally appropriate toys is set up so that all ages are included in this fun program!
URL:https://lscss.com/event/tumble-bumble-with-early-years-3/2027-02-23/
LOCATION:Legion Hall\, 510 Veterans Av\, Keremeos\, BC\, V0X 1N3\, Canada
ORGANIZER;CN="Jocelyn Reaume":MAILTO:capc@lscss.com
END:VEVENT
BEGIN:VEVENT
DTSTART;TZID=America/Vancouver:20270224T090000
DTEND;TZID=America/Vancouver:20270224T123000
DTSTAMP:20260420T011522
CREATED:20260304T190414Z
LAST-MODIFIED:20260304T190414Z
UID:10001228-1803459600-1803472200@lscss.com
SUMMARY:Come Play - Early Years
DESCRIPTION:
URL:https://lscss.com/event/come-play-early-years-2/2027-02-24/
LOCATION:Family room\, 310 Veterans Ave\, Keremeos\, BC\, V0X 1N3\, Canada
ORGANIZER;CN="Jocelyn Reaume":MAILTO:capc@lscss.com
END:VEVENT
BEGIN:VEVENT
DTSTART;TZID=America/Vancouver:20270224T160000
DTEND;TZID=America/Vancouver:20270224T190000
DTSTAMP:20260420T011522
CREATED:20260304T190954Z
LAST-MODIFIED:20260304T190954Z
UID:10001489-1803484800-1803495600@lscss.com
SUMMARY:Circle of Security Parenting Program
DESCRIPTION:** Registration Required ** \n\nLast Call to Join Circle of Security!\n\n\nWe have just two spots remaining in our upcoming Circle of Security group\, beginning March 4th.\n\n\nThis 8-week program will run on Wednesday evenings from 4:00–7:00 PM.\n\n\n Childminding provided\n Light dinner and refreshments included\n\n\nIf you’ve been thinking about joining\, now is the time! Secure your spot before registrations close.\n\n\nPlease contact us to register or to learn more.
URL:https://lscss.com/event/circle-of-security-parenting-program-2/2027-02-24/
LOCATION:LSCSS Office\, 715 7th St\, Keremeos\, BC\, Canada
ORGANIZER;CN="Jocelyn Reaume":MAILTO:capc@lscss.com
END:VEVENT
BEGIN:VEVENT
DTSTART;TZID=America/Vancouver:20270225T100000
DTEND;TZID=America/Vancouver:20270225T120000
DTSTAMP:20260420T011522
CREATED:20260304T184844Z
LAST-MODIFIED:20260304T184844Z
UID:10000493-1803549600-1803556800@lscss.com
SUMMARY:TUMBLE BUMBLE with Early Years
DESCRIPTION:Tumble Bumble is a drop-in indoor play program for children from birth – 6 years and their parents/caregivers (older siblings are welcome). Children can cruise\, climb\, slide\, jump and meet new children\, while exploring a wide variety of equipment. These include\, trikes\, scooters\, plasma bikes\, tunnels\, a slide\, “ride em” vehicles such as police cars\, and fire trucks\, a bounce castle\, basketball\, bowling as well as balls\, mats\, and various sizes and shapes of gymnastics foam structures. This environment provides an opportunity to connect and socialize while also providing opportunity to improve gross and fine motor skills. It also provides a place for parents and caregivers to connect and share experiences. An infant area with developmentally appropriate toys is set up so that all ages are included in this fun program!
URL:https://lscss.com/event/tumble-bumble-with-early-years-3/2027-02-25/
LOCATION:Legion Hall\, 510 Veterans Av\, Keremeos\, BC\, V0X 1N3\, Canada
ORGANIZER;CN="Jocelyn Reaume":MAILTO:capc@lscss.com
END:VEVENT
BEGIN:VEVENT
DTSTART;TZID=America/Vancouver:20270226T100000
DTEND;TZID=America/Vancouver:20270226T120000
DTSTAMP:20260420T011522
CREATED:20260304T191211Z
LAST-MODIFIED:20260304T191211Z
UID:10001750-1803636000-1803643200@lscss.com
SUMMARY:Ntamtquen Community Gardens LSIB + Early Years
DESCRIPTION:
URL:https://lscss.com/event/ntamtquen-community-gardens-lsib-early-years/2027-02-26/
LOCATION:Ntamtquen Garden
ORGANIZER;CN="Jocelyn Reaume":MAILTO:capc@lscss.com
END:VEVENT
BEGIN:VEVENT
DTSTART;TZID=America/Vancouver:20270301T100000
DTEND;TZID=America/Vancouver:20270301T123000
DTSTAMP:20260420T011522
CREATED:20260304T185652Z
LAST-MODIFIED:20260304T185652Z
UID:10000966-1803895200-1803904200@lscss.com
SUMMARY:CAPC - Parenting and Prenatal
DESCRIPTION:The Community Action Program for Children (CAPC) aims to improve healthy child development by improving parenting skills and parent-child relationships and decreasing social isolation. Programming offers positive learning experiences for children (aged 0-6) and their families. CAPC facilitators lead fun learning activities where children find opportunities to make friends and interact with others of similar ages. CAPC facilitators support caregivers to expand their social support networks\, share experiences\, and learn more about community resources. \n 
URL:https://lscss.com/event/capc-parenting-and-prenatal-2/2027-03-01/
LOCATION:Family room\, 310 Veterans Ave\, Keremeos\, BC\, V0X 1N3\, Canada
ORGANIZER;CN="Jocelyn Reaume":MAILTO:capc@lscss.com
END:VEVENT
BEGIN:VEVENT
DTSTART;TZID=America/Vancouver:20270302T100000
DTEND;TZID=America/Vancouver:20270302T120000
DTSTAMP:20260420T011522
CREATED:20260304T184844Z
LAST-MODIFIED:20260304T184844Z
UID:10000494-1803981600-1803988800@lscss.com
SUMMARY:TUMBLE BUMBLE with Early Years
DESCRIPTION:Tumble Bumble is a drop-in indoor play program for children from birth – 6 years and their parents/caregivers (older siblings are welcome). Children can cruise\, climb\, slide\, jump and meet new children\, while exploring a wide variety of equipment. These include\, trikes\, scooters\, plasma bikes\, tunnels\, a slide\, “ride em” vehicles such as police cars\, and fire trucks\, a bounce castle\, basketball\, bowling as well as balls\, mats\, and various sizes and shapes of gymnastics foam structures. This environment provides an opportunity to connect and socialize while also providing opportunity to improve gross and fine motor skills. It also provides a place for parents and caregivers to connect and share experiences. An infant area with developmentally appropriate toys is set up so that all ages are included in this fun program!
URL:https://lscss.com/event/tumble-bumble-with-early-years-3/2027-03-02/
LOCATION:Legion Hall\, 510 Veterans Av\, Keremeos\, BC\, V0X 1N3\, Canada
ORGANIZER;CN="Jocelyn Reaume":MAILTO:capc@lscss.com
END:VEVENT
BEGIN:VEVENT
DTSTART;TZID=America/Vancouver:20270303T090000
DTEND;TZID=America/Vancouver:20270303T123000
DTSTAMP:20260420T011522
CREATED:20260304T190414Z
LAST-MODIFIED:20260304T190414Z
UID:10001229-1804064400-1804077000@lscss.com
SUMMARY:Come Play - Early Years
DESCRIPTION:
URL:https://lscss.com/event/come-play-early-years-2/2027-03-03/
LOCATION:Family room\, 310 Veterans Ave\, Keremeos\, BC\, V0X 1N3\, Canada
ORGANIZER;CN="Jocelyn Reaume":MAILTO:capc@lscss.com
END:VEVENT
BEGIN:VEVENT
DTSTART;TZID=America/Vancouver:20270303T160000
DTEND;TZID=America/Vancouver:20270303T190000
DTSTAMP:20260420T011522
CREATED:20260304T190954Z
LAST-MODIFIED:20260304T190954Z
UID:10001490-1804089600-1804100400@lscss.com
SUMMARY:Circle of Security Parenting Program
DESCRIPTION:** Registration Required ** \n\nLast Call to Join Circle of Security!\n\n\nWe have just two spots remaining in our upcoming Circle of Security group\, beginning March 4th.\n\n\nThis 8-week program will run on Wednesday evenings from 4:00–7:00 PM.\n\n\n Childminding provided\n Light dinner and refreshments included\n\n\nIf you’ve been thinking about joining\, now is the time! Secure your spot before registrations close.\n\n\nPlease contact us to register or to learn more.
URL:https://lscss.com/event/circle-of-security-parenting-program-2/2027-03-03/
LOCATION:LSCSS Office\, 715 7th St\, Keremeos\, BC\, Canada
ORGANIZER;CN="Jocelyn Reaume":MAILTO:capc@lscss.com
END:VEVENT
BEGIN:VEVENT
DTSTART;TZID=America/Vancouver:20270304T100000
DTEND;TZID=America/Vancouver:20270304T120000
DTSTAMP:20260420T011522
CREATED:20260304T184844Z
LAST-MODIFIED:20260304T184844Z
UID:10000495-1804154400-1804161600@lscss.com
SUMMARY:TUMBLE BUMBLE with Early Years
DESCRIPTION:Tumble Bumble is a drop-in indoor play program for children from birth – 6 years and their parents/caregivers (older siblings are welcome). Children can cruise\, climb\, slide\, jump and meet new children\, while exploring a wide variety of equipment. These include\, trikes\, scooters\, plasma bikes\, tunnels\, a slide\, “ride em” vehicles such as police cars\, and fire trucks\, a bounce castle\, basketball\, bowling as well as balls\, mats\, and various sizes and shapes of gymnastics foam structures. This environment provides an opportunity to connect and socialize while also providing opportunity to improve gross and fine motor skills. It also provides a place for parents and caregivers to connect and share experiences. An infant area with developmentally appropriate toys is set up so that all ages are included in this fun program!
URL:https://lscss.com/event/tumble-bumble-with-early-years-3/2027-03-04/
LOCATION:Legion Hall\, 510 Veterans Av\, Keremeos\, BC\, V0X 1N3\, Canada
ORGANIZER;CN="Jocelyn Reaume":MAILTO:capc@lscss.com
END:VEVENT
BEGIN:VEVENT
DTSTART;TZID=America/Vancouver:20270305T100000
DTEND;TZID=America/Vancouver:20270305T120000
DTSTAMP:20260420T011522
CREATED:20260304T191211Z
LAST-MODIFIED:20260304T191211Z
UID:10001751-1804240800-1804248000@lscss.com
SUMMARY:Ntamtquen Community Gardens LSIB + Early Years
DESCRIPTION:
URL:https://lscss.com/event/ntamtquen-community-gardens-lsib-early-years/2027-03-05/
LOCATION:Ntamtquen Garden
ORGANIZER;CN="Jocelyn Reaume":MAILTO:capc@lscss.com
END:VEVENT
BEGIN:VEVENT
DTSTART;TZID=America/Vancouver:20270308T100000
DTEND;TZID=America/Vancouver:20270308T123000
DTSTAMP:20260420T011522
CREATED:20260304T185652Z
LAST-MODIFIED:20260304T185652Z
UID:10000967-1804500000-1804509000@lscss.com
SUMMARY:CAPC - Parenting and Prenatal
DESCRIPTION:The Community Action Program for Children (CAPC) aims to improve healthy child development by improving parenting skills and parent-child relationships and decreasing social isolation. Programming offers positive learning experiences for children (aged 0-6) and their families. CAPC facilitators lead fun learning activities where children find opportunities to make friends and interact with others of similar ages. CAPC facilitators support caregivers to expand their social support networks\, share experiences\, and learn more about community resources. \n 
URL:https://lscss.com/event/capc-parenting-and-prenatal-2/2027-03-08/
LOCATION:Family room\, 310 Veterans Ave\, Keremeos\, BC\, V0X 1N3\, Canada
ORGANIZER;CN="Jocelyn Reaume":MAILTO:capc@lscss.com
END:VEVENT
BEGIN:VEVENT
DTSTART;TZID=America/Vancouver:20270309T100000
DTEND;TZID=America/Vancouver:20270309T120000
DTSTAMP:20260420T011522
CREATED:20260304T184844Z
LAST-MODIFIED:20260304T184844Z
UID:10000496-1804586400-1804593600@lscss.com
SUMMARY:TUMBLE BUMBLE with Early Years
DESCRIPTION:Tumble Bumble is a drop-in indoor play program for children from birth – 6 years and their parents/caregivers (older siblings are welcome). Children can cruise\, climb\, slide\, jump and meet new children\, while exploring a wide variety of equipment. These include\, trikes\, scooters\, plasma bikes\, tunnels\, a slide\, “ride em” vehicles such as police cars\, and fire trucks\, a bounce castle\, basketball\, bowling as well as balls\, mats\, and various sizes and shapes of gymnastics foam structures. This environment provides an opportunity to connect and socialize while also providing opportunity to improve gross and fine motor skills. It also provides a place for parents and caregivers to connect and share experiences. An infant area with developmentally appropriate toys is set up so that all ages are included in this fun program!
URL:https://lscss.com/event/tumble-bumble-with-early-years-3/2027-03-09/
LOCATION:Legion Hall\, 510 Veterans Av\, Keremeos\, BC\, V0X 1N3\, Canada
ORGANIZER;CN="Jocelyn Reaume":MAILTO:capc@lscss.com
END:VEVENT
BEGIN:VEVENT
DTSTART;TZID=America/Vancouver:20270310T090000
DTEND;TZID=America/Vancouver:20270310T123000
DTSTAMP:20260420T011522
CREATED:20260304T190414Z
LAST-MODIFIED:20260304T190414Z
UID:10001230-1804669200-1804681800@lscss.com
SUMMARY:Come Play - Early Years
DESCRIPTION:
URL:https://lscss.com/event/come-play-early-years-2/2027-03-10/
LOCATION:Family room\, 310 Veterans Ave\, Keremeos\, BC\, V0X 1N3\, Canada
ORGANIZER;CN="Jocelyn Reaume":MAILTO:capc@lscss.com
END:VEVENT
BEGIN:VEVENT
DTSTART;TZID=America/Vancouver:20270310T160000
DTEND;TZID=America/Vancouver:20270310T190000
DTSTAMP:20260420T011522
CREATED:20260304T190954Z
LAST-MODIFIED:20260304T190954Z
UID:10001491-1804694400-1804705200@lscss.com
SUMMARY:Circle of Security Parenting Program
DESCRIPTION:** Registration Required ** \n\nLast Call to Join Circle of Security!\n\n\nWe have just two spots remaining in our upcoming Circle of Security group\, beginning March 4th.\n\n\nThis 8-week program will run on Wednesday evenings from 4:00–7:00 PM.\n\n\n Childminding provided\n Light dinner and refreshments included\n\n\nIf you’ve been thinking about joining\, now is the time! Secure your spot before registrations close.\n\n\nPlease contact us to register or to learn more.
URL:https://lscss.com/event/circle-of-security-parenting-program-2/2027-03-10/
LOCATION:LSCSS Office\, 715 7th St\, Keremeos\, BC\, Canada
ORGANIZER;CN="Jocelyn Reaume":MAILTO:capc@lscss.com
END:VEVENT
BEGIN:VEVENT
DTSTART;TZID=America/Vancouver:20270311T100000
DTEND;TZID=America/Vancouver:20270311T120000
DTSTAMP:20260420T011522
CREATED:20260304T184844Z
LAST-MODIFIED:20260304T184844Z
UID:10000497-1804759200-1804766400@lscss.com
SUMMARY:TUMBLE BUMBLE with Early Years
DESCRIPTION:Tumble Bumble is a drop-in indoor play program for children from birth – 6 years and their parents/caregivers (older siblings are welcome). Children can cruise\, climb\, slide\, jump and meet new children\, while exploring a wide variety of equipment. These include\, trikes\, scooters\, plasma bikes\, tunnels\, a slide\, “ride em” vehicles such as police cars\, and fire trucks\, a bounce castle\, basketball\, bowling as well as balls\, mats\, and various sizes and shapes of gymnastics foam structures. This environment provides an opportunity to connect and socialize while also providing opportunity to improve gross and fine motor skills. It also provides a place for parents and caregivers to connect and share experiences. An infant area with developmentally appropriate toys is set up so that all ages are included in this fun program!
URL:https://lscss.com/event/tumble-bumble-with-early-years-3/2027-03-11/
LOCATION:Legion Hall\, 510 Veterans Av\, Keremeos\, BC\, V0X 1N3\, Canada
ORGANIZER;CN="Jocelyn Reaume":MAILTO:capc@lscss.com
END:VEVENT
BEGIN:VEVENT
DTSTART;TZID=America/Vancouver:20270312T100000
DTEND;TZID=America/Vancouver:20270312T120000
DTSTAMP:20260420T011522
CREATED:20260304T191211Z
LAST-MODIFIED:20260304T191211Z
UID:10001752-1804845600-1804852800@lscss.com
SUMMARY:Ntamtquen Community Gardens LSIB + Early Years
DESCRIPTION:
URL:https://lscss.com/event/ntamtquen-community-gardens-lsib-early-years/2027-03-12/
LOCATION:Ntamtquen Garden
ORGANIZER;CN="Jocelyn Reaume":MAILTO:capc@lscss.com
END:VEVENT
BEGIN:VEVENT
DTSTART;TZID=America/Vancouver:20270315T100000
DTEND;TZID=America/Vancouver:20270315T123000
DTSTAMP:20260420T011522
CREATED:20260304T185652Z
LAST-MODIFIED:20260304T185652Z
UID:10000968-1805104800-1805113800@lscss.com
SUMMARY:CAPC - Parenting and Prenatal
DESCRIPTION:The Community Action Program for Children (CAPC) aims to improve healthy child development by improving parenting skills and parent-child relationships and decreasing social isolation. Programming offers positive learning experiences for children (aged 0-6) and their families. CAPC facilitators lead fun learning activities where children find opportunities to make friends and interact with others of similar ages. CAPC facilitators support caregivers to expand their social support networks\, share experiences\, and learn more about community resources. \n 
URL:https://lscss.com/event/capc-parenting-and-prenatal-2/2027-03-15/
LOCATION:Family room\, 310 Veterans Ave\, Keremeos\, BC\, V0X 1N3\, Canada
ORGANIZER;CN="Jocelyn Reaume":MAILTO:capc@lscss.com
END:VEVENT
BEGIN:VEVENT
DTSTART;TZID=America/Vancouver:20270316T100000
DTEND;TZID=America/Vancouver:20270316T120000
DTSTAMP:20260420T011522
CREATED:20260304T184844Z
LAST-MODIFIED:20260304T184844Z
UID:10000498-1805191200-1805198400@lscss.com
SUMMARY:TUMBLE BUMBLE with Early Years
DESCRIPTION:Tumble Bumble is a drop-in indoor play program for children from birth – 6 years and their parents/caregivers (older siblings are welcome). Children can cruise\, climb\, slide\, jump and meet new children\, while exploring a wide variety of equipment. These include\, trikes\, scooters\, plasma bikes\, tunnels\, a slide\, “ride em” vehicles such as police cars\, and fire trucks\, a bounce castle\, basketball\, bowling as well as balls\, mats\, and various sizes and shapes of gymnastics foam structures. This environment provides an opportunity to connect and socialize while also providing opportunity to improve gross and fine motor skills. It also provides a place for parents and caregivers to connect and share experiences. An infant area with developmentally appropriate toys is set up so that all ages are included in this fun program!
URL:https://lscss.com/event/tumble-bumble-with-early-years-3/2027-03-16/
LOCATION:Legion Hall\, 510 Veterans Av\, Keremeos\, BC\, V0X 1N3\, Canada
ORGANIZER;CN="Jocelyn Reaume":MAILTO:capc@lscss.com
END:VEVENT
BEGIN:VEVENT
DTSTART;TZID=America/Vancouver:20270317T090000
DTEND;TZID=America/Vancouver:20270317T123000
DTSTAMP:20260420T011522
CREATED:20260304T190414Z
LAST-MODIFIED:20260304T190414Z
UID:10001231-1805274000-1805286600@lscss.com
SUMMARY:Come Play - Early Years
DESCRIPTION:
URL:https://lscss.com/event/come-play-early-years-2/2027-03-17/
LOCATION:Family room\, 310 Veterans Ave\, Keremeos\, BC\, V0X 1N3\, Canada
ORGANIZER;CN="Jocelyn Reaume":MAILTO:capc@lscss.com
END:VEVENT
BEGIN:VEVENT
DTSTART;TZID=America/Vancouver:20270317T160000
DTEND;TZID=America/Vancouver:20270317T190000
DTSTAMP:20260420T011522
CREATED:20260304T190954Z
LAST-MODIFIED:20260304T190954Z
UID:10001492-1805299200-1805310000@lscss.com
SUMMARY:Circle of Security Parenting Program
DESCRIPTION:** Registration Required ** \n\nLast Call to Join Circle of Security!\n\n\nWe have just two spots remaining in our upcoming Circle of Security group\, beginning March 4th.\n\n\nThis 8-week program will run on Wednesday evenings from 4:00–7:00 PM.\n\n\n Childminding provided\n Light dinner and refreshments included\n\n\nIf you’ve been thinking about joining\, now is the time! Secure your spot before registrations close.\n\n\nPlease contact us to register or to learn more.
URL:https://lscss.com/event/circle-of-security-parenting-program-2/2027-03-17/
LOCATION:LSCSS Office\, 715 7th St\, Keremeos\, BC\, Canada
ORGANIZER;CN="Jocelyn Reaume":MAILTO:capc@lscss.com
END:VEVENT
BEGIN:VEVENT
DTSTART;TZID=America/Vancouver:20270318T100000
DTEND;TZID=America/Vancouver:20270318T120000
DTSTAMP:20260420T011522
CREATED:20260304T184844Z
LAST-MODIFIED:20260304T184844Z
UID:10000499-1805364000-1805371200@lscss.com
SUMMARY:TUMBLE BUMBLE with Early Years
DESCRIPTION:Tumble Bumble is a drop-in indoor play program for children from birth – 6 years and their parents/caregivers (older siblings are welcome). Children can cruise\, climb\, slide\, jump and meet new children\, while exploring a wide variety of equipment. These include\, trikes\, scooters\, plasma bikes\, tunnels\, a slide\, “ride em” vehicles such as police cars\, and fire trucks\, a bounce castle\, basketball\, bowling as well as balls\, mats\, and various sizes and shapes of gymnastics foam structures. This environment provides an opportunity to connect and socialize while also providing opportunity to improve gross and fine motor skills. It also provides a place for parents and caregivers to connect and share experiences. An infant area with developmentally appropriate toys is set up so that all ages are included in this fun program!
URL:https://lscss.com/event/tumble-bumble-with-early-years-3/2027-03-18/
LOCATION:Legion Hall\, 510 Veterans Av\, Keremeos\, BC\, V0X 1N3\, Canada
ORGANIZER;CN="Jocelyn Reaume":MAILTO:capc@lscss.com
END:VEVENT
BEGIN:VEVENT
DTSTART;TZID=America/Vancouver:20270319T100000
DTEND;TZID=America/Vancouver:20270319T120000
DTSTAMP:20260420T011522
CREATED:20260304T191211Z
LAST-MODIFIED:20260304T191211Z
UID:10001753-1805450400-1805457600@lscss.com
SUMMARY:Ntamtquen Community Gardens LSIB + Early Years
DESCRIPTION:
URL:https://lscss.com/event/ntamtquen-community-gardens-lsib-early-years/2027-03-19/
LOCATION:Ntamtquen Garden
ORGANIZER;CN="Jocelyn Reaume":MAILTO:capc@lscss.com
END:VEVENT
BEGIN:VEVENT
DTSTART;TZID=America/Vancouver:20270322T100000
DTEND;TZID=America/Vancouver:20270322T123000
DTSTAMP:20260420T011522
CREATED:20260304T185652Z
LAST-MODIFIED:20260304T185652Z
UID:10000969-1805709600-1805718600@lscss.com
SUMMARY:CAPC - Parenting and Prenatal
DESCRIPTION:The Community Action Program for Children (CAPC) aims to improve healthy child development by improving parenting skills and parent-child relationships and decreasing social isolation. Programming offers positive learning experiences for children (aged 0-6) and their families. CAPC facilitators lead fun learning activities where children find opportunities to make friends and interact with others of similar ages. CAPC facilitators support caregivers to expand their social support networks\, share experiences\, and learn more about community resources. \n 
URL:https://lscss.com/event/capc-parenting-and-prenatal-2/2027-03-22/
LOCATION:Family room\, 310 Veterans Ave\, Keremeos\, BC\, V0X 1N3\, Canada
ORGANIZER;CN="Jocelyn Reaume":MAILTO:capc@lscss.com
END:VEVENT
BEGIN:VEVENT
DTSTART;TZID=America/Vancouver:20270323T100000
DTEND;TZID=America/Vancouver:20270323T120000
DTSTAMP:20260420T011522
CREATED:20260304T184844Z
LAST-MODIFIED:20260304T184844Z
UID:10000500-1805796000-1805803200@lscss.com
SUMMARY:TUMBLE BUMBLE with Early Years
DESCRIPTION:Tumble Bumble is a drop-in indoor play program for children from birth – 6 years and their parents/caregivers (older siblings are welcome). Children can cruise\, climb\, slide\, jump and meet new children\, while exploring a wide variety of equipment. These include\, trikes\, scooters\, plasma bikes\, tunnels\, a slide\, “ride em” vehicles such as police cars\, and fire trucks\, a bounce castle\, basketball\, bowling as well as balls\, mats\, and various sizes and shapes of gymnastics foam structures. This environment provides an opportunity to connect and socialize while also providing opportunity to improve gross and fine motor skills. It also provides a place for parents and caregivers to connect and share experiences. An infant area with developmentally appropriate toys is set up so that all ages are included in this fun program!
URL:https://lscss.com/event/tumble-bumble-with-early-years-3/2027-03-23/
LOCATION:Legion Hall\, 510 Veterans Av\, Keremeos\, BC\, V0X 1N3\, Canada
ORGANIZER;CN="Jocelyn Reaume":MAILTO:capc@lscss.com
END:VEVENT
BEGIN:VEVENT
DTSTART;TZID=America/Vancouver:20270324T090000
DTEND;TZID=America/Vancouver:20270324T123000
DTSTAMP:20260420T011522
CREATED:20260304T190414Z
LAST-MODIFIED:20260304T190414Z
UID:10001232-1805878800-1805891400@lscss.com
SUMMARY:Come Play - Early Years
DESCRIPTION:
URL:https://lscss.com/event/come-play-early-years-2/2027-03-24/
LOCATION:Family room\, 310 Veterans Ave\, Keremeos\, BC\, V0X 1N3\, Canada
ORGANIZER;CN="Jocelyn Reaume":MAILTO:capc@lscss.com
END:VEVENT
BEGIN:VEVENT
DTSTART;TZID=America/Vancouver:20270324T160000
DTEND;TZID=America/Vancouver:20270324T190000
DTSTAMP:20260420T011522
CREATED:20260304T190954Z
LAST-MODIFIED:20260304T190954Z
UID:10001493-1805904000-1805914800@lscss.com
SUMMARY:Circle of Security Parenting Program
DESCRIPTION:** Registration Required ** \n\nLast Call to Join Circle of Security!\n\n\nWe have just two spots remaining in our upcoming Circle of Security group\, beginning March 4th.\n\n\nThis 8-week program will run on Wednesday evenings from 4:00–7:00 PM.\n\n\n Childminding provided\n Light dinner and refreshments included\n\n\nIf you’ve been thinking about joining\, now is the time! Secure your spot before registrations close.\n\n\nPlease contact us to register or to learn more.
URL:https://lscss.com/event/circle-of-security-parenting-program-2/2027-03-24/
LOCATION:LSCSS Office\, 715 7th St\, Keremeos\, BC\, Canada
ORGANIZER;CN="Jocelyn Reaume":MAILTO:capc@lscss.com
END:VEVENT
BEGIN:VEVENT
DTSTART;TZID=America/Vancouver:20270325T100000
DTEND;TZID=America/Vancouver:20270325T120000
DTSTAMP:20260420T011522
CREATED:20260304T184844Z
LAST-MODIFIED:20260304T184844Z
UID:10000501-1805968800-1805976000@lscss.com
SUMMARY:TUMBLE BUMBLE with Early Years
DESCRIPTION:Tumble Bumble is a drop-in indoor play program for children from birth – 6 years and their parents/caregivers (older siblings are welcome). Children can cruise\, climb\, slide\, jump and meet new children\, while exploring a wide variety of equipment. These include\, trikes\, scooters\, plasma bikes\, tunnels\, a slide\, “ride em” vehicles such as police cars\, and fire trucks\, a bounce castle\, basketball\, bowling as well as balls\, mats\, and various sizes and shapes of gymnastics foam structures. This environment provides an opportunity to connect and socialize while also providing opportunity to improve gross and fine motor skills. It also provides a place for parents and caregivers to connect and share experiences. An infant area with developmentally appropriate toys is set up so that all ages are included in this fun program!
URL:https://lscss.com/event/tumble-bumble-with-early-years-3/2027-03-25/
LOCATION:Legion Hall\, 510 Veterans Av\, Keremeos\, BC\, V0X 1N3\, Canada
ORGANIZER;CN="Jocelyn Reaume":MAILTO:capc@lscss.com
END:VEVENT
BEGIN:VEVENT
DTSTART;TZID=America/Vancouver:20270326T100000
DTEND;TZID=America/Vancouver:20270326T120000
DTSTAMP:20260420T011522
CREATED:20260304T191211Z
LAST-MODIFIED:20260304T191211Z
UID:10001754-1806055200-1806062400@lscss.com
SUMMARY:Ntamtquen Community Gardens LSIB + Early Years
DESCRIPTION:
URL:https://lscss.com/event/ntamtquen-community-gardens-lsib-early-years/2027-03-26/
LOCATION:Ntamtquen Garden
ORGANIZER;CN="Jocelyn Reaume":MAILTO:capc@lscss.com
END:VEVENT
END:VCALENDAR