BEGIN:VCALENDAR
VERSION:2.0
PRODID:-//Lower Similkameen Community Services Society - ECPv6.15.20//NONSGML v1.0//EN
CALSCALE:GREGORIAN
METHOD:PUBLISH
X-WR-CALNAME:Lower Similkameen Community Services Society
X-ORIGINAL-URL:https://lscss.com
X-WR-CALDESC:Events for Lower Similkameen Community Services Society
REFRESH-INTERVAL;VALUE=DURATION:PT1H
X-Robots-Tag:noindex
X-PUBLISHED-TTL:PT1H
BEGIN:VTIMEZONE
TZID:America/Vancouver
BEGIN:DAYLIGHT
TZOFFSETFROM:-0800
TZOFFSETTO:-0700
TZNAME:PDT
DTSTART:20260308T100000
END:DAYLIGHT
BEGIN:STANDARD
TZOFFSETFROM:-0700
TZOFFSETTO:-0800
TZNAME:PST
DTSTART:20261101T090000
END:STANDARD
BEGIN:DAYLIGHT
TZOFFSETFROM:-0800
TZOFFSETTO:-0700
TZNAME:PDT
DTSTART:20270314T100000
END:DAYLIGHT
BEGIN:STANDARD
TZOFFSETFROM:-0700
TZOFFSETTO:-0800
TZNAME:PST
DTSTART:20271107T090000
END:STANDARD
BEGIN:DAYLIGHT
TZOFFSETFROM:-0800
TZOFFSETTO:-0700
TZNAME:PDT
DTSTART:20280312T100000
END:DAYLIGHT
BEGIN:STANDARD
TZOFFSETFROM:-0700
TZOFFSETTO:-0800
TZNAME:PST
DTSTART:20281105T090000
END:STANDARD
END:VTIMEZONE
BEGIN:VEVENT
DTSTART;TZID=America/Vancouver:20270111T100000
DTEND;TZID=America/Vancouver:20270111T123000
DTSTAMP:20260419T201556
CREATED:20260304T185652Z
LAST-MODIFIED:20260304T185652Z
UID:10000959-1799661600-1799670600@lscss.com
SUMMARY:CAPC - Parenting and Prenatal
DESCRIPTION:The Community Action Program for Children (CAPC) aims to improve healthy child development by improving parenting skills and parent-child relationships and decreasing social isolation. Programming offers positive learning experiences for children (aged 0-6) and their families. CAPC facilitators lead fun learning activities where children find opportunities to make friends and interact with others of similar ages. CAPC facilitators support caregivers to expand their social support networks\, share experiences\, and learn more about community resources. \n 
URL:https://lscss.com/event/capc-parenting-and-prenatal-2/2027-01-11/
LOCATION:Family room\, 310 Veterans Ave\, Keremeos\, BC\, V0X 1N3\, Canada
ORGANIZER;CN="Jocelyn Reaume":MAILTO:capc@lscss.com
END:VEVENT
BEGIN:VEVENT
DTSTART;TZID=America/Vancouver:20270112T100000
DTEND;TZID=America/Vancouver:20270112T120000
DTSTAMP:20260419T201556
CREATED:20260304T184844Z
LAST-MODIFIED:20260304T184844Z
UID:10000480-1799748000-1799755200@lscss.com
SUMMARY:TUMBLE BUMBLE with Early Years
DESCRIPTION:Tumble Bumble is a drop-in indoor play program for children from birth – 6 years and their parents/caregivers (older siblings are welcome). Children can cruise\, climb\, slide\, jump and meet new children\, while exploring a wide variety of equipment. These include\, trikes\, scooters\, plasma bikes\, tunnels\, a slide\, “ride em” vehicles such as police cars\, and fire trucks\, a bounce castle\, basketball\, bowling as well as balls\, mats\, and various sizes and shapes of gymnastics foam structures. This environment provides an opportunity to connect and socialize while also providing opportunity to improve gross and fine motor skills. It also provides a place for parents and caregivers to connect and share experiences. An infant area with developmentally appropriate toys is set up so that all ages are included in this fun program!
URL:https://lscss.com/event/tumble-bumble-with-early-years-3/2027-01-12/
LOCATION:Legion Hall\, 510 Veterans Av\, Keremeos\, BC\, V0X 1N3\, Canada
ORGANIZER;CN="Jocelyn Reaume":MAILTO:capc@lscss.com
END:VEVENT
BEGIN:VEVENT
DTSTART;TZID=America/Vancouver:20270113T090000
DTEND;TZID=America/Vancouver:20270113T123000
DTSTAMP:20260419T201556
CREATED:20260304T190414Z
LAST-MODIFIED:20260304T190414Z
UID:10001222-1799830800-1799843400@lscss.com
SUMMARY:Come Play - Early Years
DESCRIPTION:
URL:https://lscss.com/event/come-play-early-years-2/2027-01-13/
LOCATION:Family room\, 310 Veterans Ave\, Keremeos\, BC\, V0X 1N3\, Canada
ORGANIZER;CN="Jocelyn Reaume":MAILTO:capc@lscss.com
END:VEVENT
BEGIN:VEVENT
DTSTART;TZID=America/Vancouver:20270113T160000
DTEND;TZID=America/Vancouver:20270113T190000
DTSTAMP:20260419T201556
CREATED:20260304T190954Z
LAST-MODIFIED:20260304T190954Z
UID:10001483-1799856000-1799866800@lscss.com
SUMMARY:Circle of Security Parenting Program
DESCRIPTION:** Registration Required ** \n\nLast Call to Join Circle of Security!\n\n\nWe have just two spots remaining in our upcoming Circle of Security group\, beginning March 4th.\n\n\nThis 8-week program will run on Wednesday evenings from 4:00–7:00 PM.\n\n\n Childminding provided\n Light dinner and refreshments included\n\n\nIf you’ve been thinking about joining\, now is the time! Secure your spot before registrations close.\n\n\nPlease contact us to register or to learn more.
URL:https://lscss.com/event/circle-of-security-parenting-program-2/2027-01-13/
LOCATION:LSCSS Office\, 715 7th St\, Keremeos\, BC\, Canada
ORGANIZER;CN="Jocelyn Reaume":MAILTO:capc@lscss.com
END:VEVENT
BEGIN:VEVENT
DTSTART;TZID=America/Vancouver:20270114T100000
DTEND;TZID=America/Vancouver:20270114T120000
DTSTAMP:20260419T201556
CREATED:20260304T184844Z
LAST-MODIFIED:20260304T184844Z
UID:10000481-1799920800-1799928000@lscss.com
SUMMARY:TUMBLE BUMBLE with Early Years
DESCRIPTION:Tumble Bumble is a drop-in indoor play program for children from birth – 6 years and their parents/caregivers (older siblings are welcome). Children can cruise\, climb\, slide\, jump and meet new children\, while exploring a wide variety of equipment. These include\, trikes\, scooters\, plasma bikes\, tunnels\, a slide\, “ride em” vehicles such as police cars\, and fire trucks\, a bounce castle\, basketball\, bowling as well as balls\, mats\, and various sizes and shapes of gymnastics foam structures. This environment provides an opportunity to connect and socialize while also providing opportunity to improve gross and fine motor skills. It also provides a place for parents and caregivers to connect and share experiences. An infant area with developmentally appropriate toys is set up so that all ages are included in this fun program!
URL:https://lscss.com/event/tumble-bumble-with-early-years-3/2027-01-14/
LOCATION:Legion Hall\, 510 Veterans Av\, Keremeos\, BC\, V0X 1N3\, Canada
ORGANIZER;CN="Jocelyn Reaume":MAILTO:capc@lscss.com
END:VEVENT
BEGIN:VEVENT
DTSTART;TZID=America/Vancouver:20270115T100000
DTEND;TZID=America/Vancouver:20270115T120000
DTSTAMP:20260419T201556
CREATED:20260304T191211Z
LAST-MODIFIED:20260304T191211Z
UID:10001744-1800007200-1800014400@lscss.com
SUMMARY:Ntamtquen Community Gardens LSIB + Early Years
DESCRIPTION:
URL:https://lscss.com/event/ntamtquen-community-gardens-lsib-early-years/2027-01-15/
LOCATION:Ntamtquen Garden
ORGANIZER;CN="Jocelyn Reaume":MAILTO:capc@lscss.com
END:VEVENT
BEGIN:VEVENT
DTSTART;TZID=America/Vancouver:20270118T100000
DTEND;TZID=America/Vancouver:20270118T123000
DTSTAMP:20260419T201556
CREATED:20260304T185652Z
LAST-MODIFIED:20260304T185652Z
UID:10000960-1800266400-1800275400@lscss.com
SUMMARY:CAPC - Parenting and Prenatal
DESCRIPTION:The Community Action Program for Children (CAPC) aims to improve healthy child development by improving parenting skills and parent-child relationships and decreasing social isolation. Programming offers positive learning experiences for children (aged 0-6) and their families. CAPC facilitators lead fun learning activities where children find opportunities to make friends and interact with others of similar ages. CAPC facilitators support caregivers to expand their social support networks\, share experiences\, and learn more about community resources. \n 
URL:https://lscss.com/event/capc-parenting-and-prenatal-2/2027-01-18/
LOCATION:Family room\, 310 Veterans Ave\, Keremeos\, BC\, V0X 1N3\, Canada
ORGANIZER;CN="Jocelyn Reaume":MAILTO:capc@lscss.com
END:VEVENT
BEGIN:VEVENT
DTSTART;TZID=America/Vancouver:20270119T100000
DTEND;TZID=America/Vancouver:20270119T120000
DTSTAMP:20260419T201556
CREATED:20260304T184844Z
LAST-MODIFIED:20260304T184844Z
UID:10000482-1800352800-1800360000@lscss.com
SUMMARY:TUMBLE BUMBLE with Early Years
DESCRIPTION:Tumble Bumble is a drop-in indoor play program for children from birth – 6 years and their parents/caregivers (older siblings are welcome). Children can cruise\, climb\, slide\, jump and meet new children\, while exploring a wide variety of equipment. These include\, trikes\, scooters\, plasma bikes\, tunnels\, a slide\, “ride em” vehicles such as police cars\, and fire trucks\, a bounce castle\, basketball\, bowling as well as balls\, mats\, and various sizes and shapes of gymnastics foam structures. This environment provides an opportunity to connect and socialize while also providing opportunity to improve gross and fine motor skills. It also provides a place for parents and caregivers to connect and share experiences. An infant area with developmentally appropriate toys is set up so that all ages are included in this fun program!
URL:https://lscss.com/event/tumble-bumble-with-early-years-3/2027-01-19/
LOCATION:Legion Hall\, 510 Veterans Av\, Keremeos\, BC\, V0X 1N3\, Canada
ORGANIZER;CN="Jocelyn Reaume":MAILTO:capc@lscss.com
END:VEVENT
BEGIN:VEVENT
DTSTART;TZID=America/Vancouver:20270120T090000
DTEND;TZID=America/Vancouver:20270120T123000
DTSTAMP:20260419T201556
CREATED:20260304T190414Z
LAST-MODIFIED:20260304T190414Z
UID:10001223-1800435600-1800448200@lscss.com
SUMMARY:Come Play - Early Years
DESCRIPTION:
URL:https://lscss.com/event/come-play-early-years-2/2027-01-20/
LOCATION:Family room\, 310 Veterans Ave\, Keremeos\, BC\, V0X 1N3\, Canada
ORGANIZER;CN="Jocelyn Reaume":MAILTO:capc@lscss.com
END:VEVENT
BEGIN:VEVENT
DTSTART;TZID=America/Vancouver:20270120T160000
DTEND;TZID=America/Vancouver:20270120T190000
DTSTAMP:20260419T201556
CREATED:20260304T190954Z
LAST-MODIFIED:20260304T190954Z
UID:10001484-1800460800-1800471600@lscss.com
SUMMARY:Circle of Security Parenting Program
DESCRIPTION:** Registration Required ** \n\nLast Call to Join Circle of Security!\n\n\nWe have just two spots remaining in our upcoming Circle of Security group\, beginning March 4th.\n\n\nThis 8-week program will run on Wednesday evenings from 4:00–7:00 PM.\n\n\n Childminding provided\n Light dinner and refreshments included\n\n\nIf you’ve been thinking about joining\, now is the time! Secure your spot before registrations close.\n\n\nPlease contact us to register or to learn more.
URL:https://lscss.com/event/circle-of-security-parenting-program-2/2027-01-20/
LOCATION:LSCSS Office\, 715 7th St\, Keremeos\, BC\, Canada
ORGANIZER;CN="Jocelyn Reaume":MAILTO:capc@lscss.com
END:VEVENT
BEGIN:VEVENT
DTSTART;TZID=America/Vancouver:20270121T100000
DTEND;TZID=America/Vancouver:20270121T120000
DTSTAMP:20260419T201556
CREATED:20260304T184844Z
LAST-MODIFIED:20260304T184844Z
UID:10000483-1800525600-1800532800@lscss.com
SUMMARY:TUMBLE BUMBLE with Early Years
DESCRIPTION:Tumble Bumble is a drop-in indoor play program for children from birth – 6 years and their parents/caregivers (older siblings are welcome). Children can cruise\, climb\, slide\, jump and meet new children\, while exploring a wide variety of equipment. These include\, trikes\, scooters\, plasma bikes\, tunnels\, a slide\, “ride em” vehicles such as police cars\, and fire trucks\, a bounce castle\, basketball\, bowling as well as balls\, mats\, and various sizes and shapes of gymnastics foam structures. This environment provides an opportunity to connect and socialize while also providing opportunity to improve gross and fine motor skills. It also provides a place for parents and caregivers to connect and share experiences. An infant area with developmentally appropriate toys is set up so that all ages are included in this fun program!
URL:https://lscss.com/event/tumble-bumble-with-early-years-3/2027-01-21/
LOCATION:Legion Hall\, 510 Veterans Av\, Keremeos\, BC\, V0X 1N3\, Canada
ORGANIZER;CN="Jocelyn Reaume":MAILTO:capc@lscss.com
END:VEVENT
BEGIN:VEVENT
DTSTART;TZID=America/Vancouver:20270122T100000
DTEND;TZID=America/Vancouver:20270122T120000
DTSTAMP:20260419T201556
CREATED:20260304T191211Z
LAST-MODIFIED:20260304T191211Z
UID:10001745-1800612000-1800619200@lscss.com
SUMMARY:Ntamtquen Community Gardens LSIB + Early Years
DESCRIPTION:
URL:https://lscss.com/event/ntamtquen-community-gardens-lsib-early-years/2027-01-22/
LOCATION:Ntamtquen Garden
ORGANIZER;CN="Jocelyn Reaume":MAILTO:capc@lscss.com
END:VEVENT
BEGIN:VEVENT
DTSTART;TZID=America/Vancouver:20270125T100000
DTEND;TZID=America/Vancouver:20270125T123000
DTSTAMP:20260419T201556
CREATED:20260304T185652Z
LAST-MODIFIED:20260304T185652Z
UID:10000961-1800871200-1800880200@lscss.com
SUMMARY:CAPC - Parenting and Prenatal
DESCRIPTION:The Community Action Program for Children (CAPC) aims to improve healthy child development by improving parenting skills and parent-child relationships and decreasing social isolation. Programming offers positive learning experiences for children (aged 0-6) and their families. CAPC facilitators lead fun learning activities where children find opportunities to make friends and interact with others of similar ages. CAPC facilitators support caregivers to expand their social support networks\, share experiences\, and learn more about community resources. \n 
URL:https://lscss.com/event/capc-parenting-and-prenatal-2/2027-01-25/
LOCATION:Family room\, 310 Veterans Ave\, Keremeos\, BC\, V0X 1N3\, Canada
ORGANIZER;CN="Jocelyn Reaume":MAILTO:capc@lscss.com
END:VEVENT
BEGIN:VEVENT
DTSTART;TZID=America/Vancouver:20270126T100000
DTEND;TZID=America/Vancouver:20270126T120000
DTSTAMP:20260419T201556
CREATED:20260304T184844Z
LAST-MODIFIED:20260304T184844Z
UID:10000484-1800957600-1800964800@lscss.com
SUMMARY:TUMBLE BUMBLE with Early Years
DESCRIPTION:Tumble Bumble is a drop-in indoor play program for children from birth – 6 years and their parents/caregivers (older siblings are welcome). Children can cruise\, climb\, slide\, jump and meet new children\, while exploring a wide variety of equipment. These include\, trikes\, scooters\, plasma bikes\, tunnels\, a slide\, “ride em” vehicles such as police cars\, and fire trucks\, a bounce castle\, basketball\, bowling as well as balls\, mats\, and various sizes and shapes of gymnastics foam structures. This environment provides an opportunity to connect and socialize while also providing opportunity to improve gross and fine motor skills. It also provides a place for parents and caregivers to connect and share experiences. An infant area with developmentally appropriate toys is set up so that all ages are included in this fun program!
URL:https://lscss.com/event/tumble-bumble-with-early-years-3/2027-01-26/
LOCATION:Legion Hall\, 510 Veterans Av\, Keremeos\, BC\, V0X 1N3\, Canada
ORGANIZER;CN="Jocelyn Reaume":MAILTO:capc@lscss.com
END:VEVENT
BEGIN:VEVENT
DTSTART;TZID=America/Vancouver:20270127T090000
DTEND;TZID=America/Vancouver:20270127T123000
DTSTAMP:20260419T201556
CREATED:20260304T190414Z
LAST-MODIFIED:20260304T190414Z
UID:10001224-1801040400-1801053000@lscss.com
SUMMARY:Come Play - Early Years
DESCRIPTION:
URL:https://lscss.com/event/come-play-early-years-2/2027-01-27/
LOCATION:Family room\, 310 Veterans Ave\, Keremeos\, BC\, V0X 1N3\, Canada
ORGANIZER;CN="Jocelyn Reaume":MAILTO:capc@lscss.com
END:VEVENT
BEGIN:VEVENT
DTSTART;TZID=America/Vancouver:20270127T160000
DTEND;TZID=America/Vancouver:20270127T190000
DTSTAMP:20260419T201556
CREATED:20260304T190954Z
LAST-MODIFIED:20260304T190954Z
UID:10001485-1801065600-1801076400@lscss.com
SUMMARY:Circle of Security Parenting Program
DESCRIPTION:** Registration Required ** \n\nLast Call to Join Circle of Security!\n\n\nWe have just two spots remaining in our upcoming Circle of Security group\, beginning March 4th.\n\n\nThis 8-week program will run on Wednesday evenings from 4:00–7:00 PM.\n\n\n Childminding provided\n Light dinner and refreshments included\n\n\nIf you’ve been thinking about joining\, now is the time! Secure your spot before registrations close.\n\n\nPlease contact us to register or to learn more.
URL:https://lscss.com/event/circle-of-security-parenting-program-2/2027-01-27/
LOCATION:LSCSS Office\, 715 7th St\, Keremeos\, BC\, Canada
ORGANIZER;CN="Jocelyn Reaume":MAILTO:capc@lscss.com
END:VEVENT
BEGIN:VEVENT
DTSTART;TZID=America/Vancouver:20270128T100000
DTEND;TZID=America/Vancouver:20270128T120000
DTSTAMP:20260419T201556
CREATED:20260304T184844Z
LAST-MODIFIED:20260304T184844Z
UID:10000485-1801130400-1801137600@lscss.com
SUMMARY:TUMBLE BUMBLE with Early Years
DESCRIPTION:Tumble Bumble is a drop-in indoor play program for children from birth – 6 years and their parents/caregivers (older siblings are welcome). Children can cruise\, climb\, slide\, jump and meet new children\, while exploring a wide variety of equipment. These include\, trikes\, scooters\, plasma bikes\, tunnels\, a slide\, “ride em” vehicles such as police cars\, and fire trucks\, a bounce castle\, basketball\, bowling as well as balls\, mats\, and various sizes and shapes of gymnastics foam structures. This environment provides an opportunity to connect and socialize while also providing opportunity to improve gross and fine motor skills. It also provides a place for parents and caregivers to connect and share experiences. An infant area with developmentally appropriate toys is set up so that all ages are included in this fun program!
URL:https://lscss.com/event/tumble-bumble-with-early-years-3/2027-01-28/
LOCATION:Legion Hall\, 510 Veterans Av\, Keremeos\, BC\, V0X 1N3\, Canada
ORGANIZER;CN="Jocelyn Reaume":MAILTO:capc@lscss.com
END:VEVENT
BEGIN:VEVENT
DTSTART;TZID=America/Vancouver:20270129T100000
DTEND;TZID=America/Vancouver:20270129T120000
DTSTAMP:20260419T201556
CREATED:20260304T191211Z
LAST-MODIFIED:20260304T191211Z
UID:10001746-1801216800-1801224000@lscss.com
SUMMARY:Ntamtquen Community Gardens LSIB + Early Years
DESCRIPTION:
URL:https://lscss.com/event/ntamtquen-community-gardens-lsib-early-years/2027-01-29/
LOCATION:Ntamtquen Garden
ORGANIZER;CN="Jocelyn Reaume":MAILTO:capc@lscss.com
END:VEVENT
BEGIN:VEVENT
DTSTART;TZID=America/Vancouver:20270201T100000
DTEND;TZID=America/Vancouver:20270201T123000
DTSTAMP:20260419T201556
CREATED:20260304T185652Z
LAST-MODIFIED:20260304T185652Z
UID:10000962-1801476000-1801485000@lscss.com
SUMMARY:CAPC - Parenting and Prenatal
DESCRIPTION:The Community Action Program for Children (CAPC) aims to improve healthy child development by improving parenting skills and parent-child relationships and decreasing social isolation. Programming offers positive learning experiences for children (aged 0-6) and their families. CAPC facilitators lead fun learning activities where children find opportunities to make friends and interact with others of similar ages. CAPC facilitators support caregivers to expand their social support networks\, share experiences\, and learn more about community resources. \n 
URL:https://lscss.com/event/capc-parenting-and-prenatal-2/2027-02-01/
LOCATION:Family room\, 310 Veterans Ave\, Keremeos\, BC\, V0X 1N3\, Canada
ORGANIZER;CN="Jocelyn Reaume":MAILTO:capc@lscss.com
END:VEVENT
BEGIN:VEVENT
DTSTART;TZID=America/Vancouver:20270202T100000
DTEND;TZID=America/Vancouver:20270202T120000
DTSTAMP:20260419T201556
CREATED:20260304T184844Z
LAST-MODIFIED:20260304T184844Z
UID:10000486-1801562400-1801569600@lscss.com
SUMMARY:TUMBLE BUMBLE with Early Years
DESCRIPTION:Tumble Bumble is a drop-in indoor play program for children from birth – 6 years and their parents/caregivers (older siblings are welcome). Children can cruise\, climb\, slide\, jump and meet new children\, while exploring a wide variety of equipment. These include\, trikes\, scooters\, plasma bikes\, tunnels\, a slide\, “ride em” vehicles such as police cars\, and fire trucks\, a bounce castle\, basketball\, bowling as well as balls\, mats\, and various sizes and shapes of gymnastics foam structures. This environment provides an opportunity to connect and socialize while also providing opportunity to improve gross and fine motor skills. It also provides a place for parents and caregivers to connect and share experiences. An infant area with developmentally appropriate toys is set up so that all ages are included in this fun program!
URL:https://lscss.com/event/tumble-bumble-with-early-years-3/2027-02-02/
LOCATION:Legion Hall\, 510 Veterans Av\, Keremeos\, BC\, V0X 1N3\, Canada
ORGANIZER;CN="Jocelyn Reaume":MAILTO:capc@lscss.com
END:VEVENT
BEGIN:VEVENT
DTSTART;TZID=America/Vancouver:20270203T090000
DTEND;TZID=America/Vancouver:20270203T123000
DTSTAMP:20260419T201556
CREATED:20260304T190414Z
LAST-MODIFIED:20260304T190414Z
UID:10001225-1801645200-1801657800@lscss.com
SUMMARY:Come Play - Early Years
DESCRIPTION:
URL:https://lscss.com/event/come-play-early-years-2/2027-02-03/
LOCATION:Family room\, 310 Veterans Ave\, Keremeos\, BC\, V0X 1N3\, Canada
ORGANIZER;CN="Jocelyn Reaume":MAILTO:capc@lscss.com
END:VEVENT
BEGIN:VEVENT
DTSTART;TZID=America/Vancouver:20270203T160000
DTEND;TZID=America/Vancouver:20270203T190000
DTSTAMP:20260419T201556
CREATED:20260304T190954Z
LAST-MODIFIED:20260304T190954Z
UID:10001486-1801670400-1801681200@lscss.com
SUMMARY:Circle of Security Parenting Program
DESCRIPTION:** Registration Required ** \n\nLast Call to Join Circle of Security!\n\n\nWe have just two spots remaining in our upcoming Circle of Security group\, beginning March 4th.\n\n\nThis 8-week program will run on Wednesday evenings from 4:00–7:00 PM.\n\n\n Childminding provided\n Light dinner and refreshments included\n\n\nIf you’ve been thinking about joining\, now is the time! Secure your spot before registrations close.\n\n\nPlease contact us to register or to learn more.
URL:https://lscss.com/event/circle-of-security-parenting-program-2/2027-02-03/
LOCATION:LSCSS Office\, 715 7th St\, Keremeos\, BC\, Canada
ORGANIZER;CN="Jocelyn Reaume":MAILTO:capc@lscss.com
END:VEVENT
BEGIN:VEVENT
DTSTART;TZID=America/Vancouver:20270204T100000
DTEND;TZID=America/Vancouver:20270204T120000
DTSTAMP:20260419T201556
CREATED:20260304T184844Z
LAST-MODIFIED:20260304T184844Z
UID:10000487-1801735200-1801742400@lscss.com
SUMMARY:TUMBLE BUMBLE with Early Years
DESCRIPTION:Tumble Bumble is a drop-in indoor play program for children from birth – 6 years and their parents/caregivers (older siblings are welcome). Children can cruise\, climb\, slide\, jump and meet new children\, while exploring a wide variety of equipment. These include\, trikes\, scooters\, plasma bikes\, tunnels\, a slide\, “ride em” vehicles such as police cars\, and fire trucks\, a bounce castle\, basketball\, bowling as well as balls\, mats\, and various sizes and shapes of gymnastics foam structures. This environment provides an opportunity to connect and socialize while also providing opportunity to improve gross and fine motor skills. It also provides a place for parents and caregivers to connect and share experiences. An infant area with developmentally appropriate toys is set up so that all ages are included in this fun program!
URL:https://lscss.com/event/tumble-bumble-with-early-years-3/2027-02-04/
LOCATION:Legion Hall\, 510 Veterans Av\, Keremeos\, BC\, V0X 1N3\, Canada
ORGANIZER;CN="Jocelyn Reaume":MAILTO:capc@lscss.com
END:VEVENT
BEGIN:VEVENT
DTSTART;TZID=America/Vancouver:20270205T100000
DTEND;TZID=America/Vancouver:20270205T120000
DTSTAMP:20260419T201556
CREATED:20260304T191211Z
LAST-MODIFIED:20260304T191211Z
UID:10001747-1801821600-1801828800@lscss.com
SUMMARY:Ntamtquen Community Gardens LSIB + Early Years
DESCRIPTION:
URL:https://lscss.com/event/ntamtquen-community-gardens-lsib-early-years/2027-02-05/
LOCATION:Ntamtquen Garden
ORGANIZER;CN="Jocelyn Reaume":MAILTO:capc@lscss.com
END:VEVENT
BEGIN:VEVENT
DTSTART;TZID=America/Vancouver:20270208T100000
DTEND;TZID=America/Vancouver:20270208T123000
DTSTAMP:20260419T201556
CREATED:20260304T185652Z
LAST-MODIFIED:20260304T185652Z
UID:10000963-1802080800-1802089800@lscss.com
SUMMARY:CAPC - Parenting and Prenatal
DESCRIPTION:The Community Action Program for Children (CAPC) aims to improve healthy child development by improving parenting skills and parent-child relationships and decreasing social isolation. Programming offers positive learning experiences for children (aged 0-6) and their families. CAPC facilitators lead fun learning activities where children find opportunities to make friends and interact with others of similar ages. CAPC facilitators support caregivers to expand their social support networks\, share experiences\, and learn more about community resources. \n 
URL:https://lscss.com/event/capc-parenting-and-prenatal-2/2027-02-08/
LOCATION:Family room\, 310 Veterans Ave\, Keremeos\, BC\, V0X 1N3\, Canada
ORGANIZER;CN="Jocelyn Reaume":MAILTO:capc@lscss.com
END:VEVENT
BEGIN:VEVENT
DTSTART;TZID=America/Vancouver:20270209T100000
DTEND;TZID=America/Vancouver:20270209T120000
DTSTAMP:20260419T201556
CREATED:20260304T184844Z
LAST-MODIFIED:20260304T184844Z
UID:10000488-1802167200-1802174400@lscss.com
SUMMARY:TUMBLE BUMBLE with Early Years
DESCRIPTION:Tumble Bumble is a drop-in indoor play program for children from birth – 6 years and their parents/caregivers (older siblings are welcome). Children can cruise\, climb\, slide\, jump and meet new children\, while exploring a wide variety of equipment. These include\, trikes\, scooters\, plasma bikes\, tunnels\, a slide\, “ride em” vehicles such as police cars\, and fire trucks\, a bounce castle\, basketball\, bowling as well as balls\, mats\, and various sizes and shapes of gymnastics foam structures. This environment provides an opportunity to connect and socialize while also providing opportunity to improve gross and fine motor skills. It also provides a place for parents and caregivers to connect and share experiences. An infant area with developmentally appropriate toys is set up so that all ages are included in this fun program!
URL:https://lscss.com/event/tumble-bumble-with-early-years-3/2027-02-09/
LOCATION:Legion Hall\, 510 Veterans Av\, Keremeos\, BC\, V0X 1N3\, Canada
ORGANIZER;CN="Jocelyn Reaume":MAILTO:capc@lscss.com
END:VEVENT
BEGIN:VEVENT
DTSTART;TZID=America/Vancouver:20270210T090000
DTEND;TZID=America/Vancouver:20270210T123000
DTSTAMP:20260419T201556
CREATED:20260304T190414Z
LAST-MODIFIED:20260304T190414Z
UID:10001226-1802250000-1802262600@lscss.com
SUMMARY:Come Play - Early Years
DESCRIPTION:
URL:https://lscss.com/event/come-play-early-years-2/2027-02-10/
LOCATION:Family room\, 310 Veterans Ave\, Keremeos\, BC\, V0X 1N3\, Canada
ORGANIZER;CN="Jocelyn Reaume":MAILTO:capc@lscss.com
END:VEVENT
BEGIN:VEVENT
DTSTART;TZID=America/Vancouver:20270210T160000
DTEND;TZID=America/Vancouver:20270210T190000
DTSTAMP:20260419T201556
CREATED:20260304T190954Z
LAST-MODIFIED:20260304T190954Z
UID:10001487-1802275200-1802286000@lscss.com
SUMMARY:Circle of Security Parenting Program
DESCRIPTION:** Registration Required ** \n\nLast Call to Join Circle of Security!\n\n\nWe have just two spots remaining in our upcoming Circle of Security group\, beginning March 4th.\n\n\nThis 8-week program will run on Wednesday evenings from 4:00–7:00 PM.\n\n\n Childminding provided\n Light dinner and refreshments included\n\n\nIf you’ve been thinking about joining\, now is the time! Secure your spot before registrations close.\n\n\nPlease contact us to register or to learn more.
URL:https://lscss.com/event/circle-of-security-parenting-program-2/2027-02-10/
LOCATION:LSCSS Office\, 715 7th St\, Keremeos\, BC\, Canada
ORGANIZER;CN="Jocelyn Reaume":MAILTO:capc@lscss.com
END:VEVENT
BEGIN:VEVENT
DTSTART;TZID=America/Vancouver:20270211T100000
DTEND;TZID=America/Vancouver:20270211T120000
DTSTAMP:20260419T201556
CREATED:20260304T184844Z
LAST-MODIFIED:20260304T184844Z
UID:10000489-1802340000-1802347200@lscss.com
SUMMARY:TUMBLE BUMBLE with Early Years
DESCRIPTION:Tumble Bumble is a drop-in indoor play program for children from birth – 6 years and their parents/caregivers (older siblings are welcome). Children can cruise\, climb\, slide\, jump and meet new children\, while exploring a wide variety of equipment. These include\, trikes\, scooters\, plasma bikes\, tunnels\, a slide\, “ride em” vehicles such as police cars\, and fire trucks\, a bounce castle\, basketball\, bowling as well as balls\, mats\, and various sizes and shapes of gymnastics foam structures. This environment provides an opportunity to connect and socialize while also providing opportunity to improve gross and fine motor skills. It also provides a place for parents and caregivers to connect and share experiences. An infant area with developmentally appropriate toys is set up so that all ages are included in this fun program!
URL:https://lscss.com/event/tumble-bumble-with-early-years-3/2027-02-11/
LOCATION:Legion Hall\, 510 Veterans Av\, Keremeos\, BC\, V0X 1N3\, Canada
ORGANIZER;CN="Jocelyn Reaume":MAILTO:capc@lscss.com
END:VEVENT
BEGIN:VEVENT
DTSTART;TZID=America/Vancouver:20270212T100000
DTEND;TZID=America/Vancouver:20270212T120000
DTSTAMP:20260419T201556
CREATED:20260304T191211Z
LAST-MODIFIED:20260304T191211Z
UID:10001748-1802426400-1802433600@lscss.com
SUMMARY:Ntamtquen Community Gardens LSIB + Early Years
DESCRIPTION:
URL:https://lscss.com/event/ntamtquen-community-gardens-lsib-early-years/2027-02-12/
LOCATION:Ntamtquen Garden
ORGANIZER;CN="Jocelyn Reaume":MAILTO:capc@lscss.com
END:VEVENT
END:VCALENDAR