BEGIN:VCALENDAR
VERSION:2.0
PRODID:-//Lower Similkameen Community Services Society - ECPv6.15.20//NONSGML v1.0//EN
CALSCALE:GREGORIAN
METHOD:PUBLISH
X-ORIGINAL-URL:https://lscss.com
X-WR-CALDESC:Events for Lower Similkameen Community Services Society
REFRESH-INTERVAL;VALUE=DURATION:PT1H
X-Robots-Tag:noindex
X-PUBLISHED-TTL:PT1H
BEGIN:VTIMEZONE
TZID:America/Vancouver
BEGIN:DAYLIGHT
TZOFFSETFROM:-0800
TZOFFSETTO:-0700
TZNAME:PDT
DTSTART:20280312T100000
END:DAYLIGHT
BEGIN:STANDARD
TZOFFSETFROM:-0700
TZOFFSETTO:-0800
TZNAME:PST
DTSTART:20281105T090000
END:STANDARD
BEGIN:DAYLIGHT
TZOFFSETFROM:-0800
TZOFFSETTO:-0700
TZNAME:PDT
DTSTART:20290311T100000
END:DAYLIGHT
BEGIN:STANDARD
TZOFFSETFROM:-0700
TZOFFSETTO:-0800
TZNAME:PST
DTSTART:20291104T090000
END:STANDARD
BEGIN:DAYLIGHT
TZOFFSETFROM:-0800
TZOFFSETTO:-0700
TZNAME:PDT
DTSTART:20300310T100000
END:DAYLIGHT
BEGIN:STANDARD
TZOFFSETFROM:-0700
TZOFFSETTO:-0800
TZNAME:PST
DTSTART:20301103T090000
END:STANDARD
END:VTIMEZONE
BEGIN:VEVENT
DTSTART;TZID=America/Vancouver:20290628T100000
DTEND;TZID=America/Vancouver:20290628T120000
DTSTAMP:20260424T165615
CREATED:20260304T184844Z
LAST-MODIFIED:20260304T184844Z
UID:10000737-1877335200-1877342400@lscss.com
SUMMARY:TUMBLE BUMBLE with Early Years
DESCRIPTION:Tumble Bumble is a drop-in indoor play program for children from birth – 6 years and their parents/caregivers (older siblings are welcome). Children can cruise\, climb\, slide\, jump and meet new children\, while exploring a wide variety of equipment. These include\, trikes\, scooters\, plasma bikes\, tunnels\, a slide\, “ride em” vehicles such as police cars\, and fire trucks\, a bounce castle\, basketball\, bowling as well as balls\, mats\, and various sizes and shapes of gymnastics foam structures. This environment provides an opportunity to connect and socialize while also providing opportunity to improve gross and fine motor skills. It also provides a place for parents and caregivers to connect and share experiences. An infant area with developmentally appropriate toys is set up so that all ages are included in this fun program!
URL:https://lscss.com/event/tumble-bumble-with-early-years-3/2029-06-28/
LOCATION:Legion Hall\, 510 Veterans Av\, Keremeos\, BC\, V0X 1N3\, Canada
ORGANIZER;CN="Jocelyn Reaume":MAILTO:capc@lscss.com
END:VEVENT
BEGIN:VEVENT
DTSTART;TZID=America/Vancouver:20290629T100000
DTEND;TZID=America/Vancouver:20290629T120000
DTSTAMP:20260424T165615
CREATED:20260304T191211Z
LAST-MODIFIED:20260304T191211Z
UID:10001872-1877421600-1877428800@lscss.com
SUMMARY:Ntamtquen Community Gardens LSIB + Early Years
DESCRIPTION:
URL:https://lscss.com/event/ntamtquen-community-gardens-lsib-early-years/2029-06-29/
LOCATION:Ntamtquen Garden
ORGANIZER;CN="Jocelyn Reaume":MAILTO:capc@lscss.com
END:VEVENT
BEGIN:VEVENT
DTSTART;TZID=America/Vancouver:20290702T100000
DTEND;TZID=America/Vancouver:20290702T123000
DTSTAMP:20260424T165615
CREATED:20260304T185652Z
LAST-MODIFIED:20260304T185652Z
UID:10001088-1877680800-1877689800@lscss.com
SUMMARY:CAPC - Parenting and Prenatal
DESCRIPTION:The Community Action Program for Children (CAPC) aims to improve healthy child development by improving parenting skills and parent-child relationships and decreasing social isolation. Programming offers positive learning experiences for children (aged 0-6) and their families. CAPC facilitators lead fun learning activities where children find opportunities to make friends and interact with others of similar ages. CAPC facilitators support caregivers to expand their social support networks\, share experiences\, and learn more about community resources. \n 
URL:https://lscss.com/event/capc-parenting-and-prenatal-2/2029-07-02/
LOCATION:Family room\, 310 Veterans Ave\, Keremeos\, BC\, V0X 1N3\, Canada
ORGANIZER;CN="Jocelyn Reaume":MAILTO:capc@lscss.com
END:VEVENT
BEGIN:VEVENT
DTSTART;TZID=America/Vancouver:20290703T100000
DTEND;TZID=America/Vancouver:20290703T120000
DTSTAMP:20260424T165615
CREATED:20260304T184844Z
LAST-MODIFIED:20260304T184844Z
UID:10000738-1877767200-1877774400@lscss.com
SUMMARY:TUMBLE BUMBLE with Early Years
DESCRIPTION:Tumble Bumble is a drop-in indoor play program for children from birth – 6 years and their parents/caregivers (older siblings are welcome). Children can cruise\, climb\, slide\, jump and meet new children\, while exploring a wide variety of equipment. These include\, trikes\, scooters\, plasma bikes\, tunnels\, a slide\, “ride em” vehicles such as police cars\, and fire trucks\, a bounce castle\, basketball\, bowling as well as balls\, mats\, and various sizes and shapes of gymnastics foam structures. This environment provides an opportunity to connect and socialize while also providing opportunity to improve gross and fine motor skills. It also provides a place for parents and caregivers to connect and share experiences. An infant area with developmentally appropriate toys is set up so that all ages are included in this fun program!
URL:https://lscss.com/event/tumble-bumble-with-early-years-3/2029-07-03/
LOCATION:Legion Hall\, 510 Veterans Av\, Keremeos\, BC\, V0X 1N3\, Canada
ORGANIZER;CN="Jocelyn Reaume":MAILTO:capc@lscss.com
END:VEVENT
BEGIN:VEVENT
DTSTART;TZID=America/Vancouver:20290704T090000
DTEND;TZID=America/Vancouver:20290704T123000
DTSTAMP:20260424T165615
CREATED:20260304T190414Z
LAST-MODIFIED:20260304T190414Z
UID:10001351-1877850000-1877862600@lscss.com
SUMMARY:Come Play - Early Years
DESCRIPTION:
URL:https://lscss.com/event/come-play-early-years-2/2029-07-04/
LOCATION:Family room\, 310 Veterans Ave\, Keremeos\, BC\, V0X 1N3\, Canada
ORGANIZER;CN="Jocelyn Reaume":MAILTO:capc@lscss.com
END:VEVENT
BEGIN:VEVENT
DTSTART;TZID=America/Vancouver:20290704T160000
DTEND;TZID=America/Vancouver:20290704T190000
DTSTAMP:20260424T165615
CREATED:20260304T190954Z
LAST-MODIFIED:20260304T190954Z
UID:10001612-1877875200-1877886000@lscss.com
SUMMARY:Circle of Security Parenting Program
DESCRIPTION:** Registration Required ** \n\nLast Call to Join Circle of Security!\n\n\nWe have just two spots remaining in our upcoming Circle of Security group\, beginning March 4th.\n\n\nThis 8-week program will run on Wednesday evenings from 4:00–7:00 PM.\n\n\n Childminding provided\n Light dinner and refreshments included\n\n\nIf you’ve been thinking about joining\, now is the time! Secure your spot before registrations close.\n\n\nPlease contact us to register or to learn more.
URL:https://lscss.com/event/circle-of-security-parenting-program-2/2029-07-04/
LOCATION:LSCSS Office\, 715 7th St\, Keremeos\, BC\, Canada
ORGANIZER;CN="Jocelyn Reaume":MAILTO:capc@lscss.com
END:VEVENT
BEGIN:VEVENT
DTSTART;TZID=America/Vancouver:20290705T100000
DTEND;TZID=America/Vancouver:20290705T120000
DTSTAMP:20260424T165615
CREATED:20260304T184844Z
LAST-MODIFIED:20260304T184844Z
UID:10000739-1877940000-1877947200@lscss.com
SUMMARY:TUMBLE BUMBLE with Early Years
DESCRIPTION:Tumble Bumble is a drop-in indoor play program for children from birth – 6 years and their parents/caregivers (older siblings are welcome). Children can cruise\, climb\, slide\, jump and meet new children\, while exploring a wide variety of equipment. These include\, trikes\, scooters\, plasma bikes\, tunnels\, a slide\, “ride em” vehicles such as police cars\, and fire trucks\, a bounce castle\, basketball\, bowling as well as balls\, mats\, and various sizes and shapes of gymnastics foam structures. This environment provides an opportunity to connect and socialize while also providing opportunity to improve gross and fine motor skills. It also provides a place for parents and caregivers to connect and share experiences. An infant area with developmentally appropriate toys is set up so that all ages are included in this fun program!
URL:https://lscss.com/event/tumble-bumble-with-early-years-3/2029-07-05/
LOCATION:Legion Hall\, 510 Veterans Av\, Keremeos\, BC\, V0X 1N3\, Canada
ORGANIZER;CN="Jocelyn Reaume":MAILTO:capc@lscss.com
END:VEVENT
BEGIN:VEVENT
DTSTART;TZID=America/Vancouver:20290706T100000
DTEND;TZID=America/Vancouver:20290706T120000
DTSTAMP:20260424T165615
CREATED:20260304T191211Z
LAST-MODIFIED:20260304T191211Z
UID:10001873-1878026400-1878033600@lscss.com
SUMMARY:Ntamtquen Community Gardens LSIB + Early Years
DESCRIPTION:
URL:https://lscss.com/event/ntamtquen-community-gardens-lsib-early-years/2029-07-06/
LOCATION:Ntamtquen Garden
ORGANIZER;CN="Jocelyn Reaume":MAILTO:capc@lscss.com
END:VEVENT
BEGIN:VEVENT
DTSTART;TZID=America/Vancouver:20290709T100000
DTEND;TZID=America/Vancouver:20290709T123000
DTSTAMP:20260424T165615
CREATED:20260304T185652Z
LAST-MODIFIED:20260304T185652Z
UID:10001089-1878285600-1878294600@lscss.com
SUMMARY:CAPC - Parenting and Prenatal
DESCRIPTION:The Community Action Program for Children (CAPC) aims to improve healthy child development by improving parenting skills and parent-child relationships and decreasing social isolation. Programming offers positive learning experiences for children (aged 0-6) and their families. CAPC facilitators lead fun learning activities where children find opportunities to make friends and interact with others of similar ages. CAPC facilitators support caregivers to expand their social support networks\, share experiences\, and learn more about community resources. \n 
URL:https://lscss.com/event/capc-parenting-and-prenatal-2/2029-07-09/
LOCATION:Family room\, 310 Veterans Ave\, Keremeos\, BC\, V0X 1N3\, Canada
ORGANIZER;CN="Jocelyn Reaume":MAILTO:capc@lscss.com
END:VEVENT
BEGIN:VEVENT
DTSTART;TZID=America/Vancouver:20290710T100000
DTEND;TZID=America/Vancouver:20290710T120000
DTSTAMP:20260424T165615
CREATED:20260304T184844Z
LAST-MODIFIED:20260304T184844Z
UID:10000740-1878372000-1878379200@lscss.com
SUMMARY:TUMBLE BUMBLE with Early Years
DESCRIPTION:Tumble Bumble is a drop-in indoor play program for children from birth – 6 years and their parents/caregivers (older siblings are welcome). Children can cruise\, climb\, slide\, jump and meet new children\, while exploring a wide variety of equipment. These include\, trikes\, scooters\, plasma bikes\, tunnels\, a slide\, “ride em” vehicles such as police cars\, and fire trucks\, a bounce castle\, basketball\, bowling as well as balls\, mats\, and various sizes and shapes of gymnastics foam structures. This environment provides an opportunity to connect and socialize while also providing opportunity to improve gross and fine motor skills. It also provides a place for parents and caregivers to connect and share experiences. An infant area with developmentally appropriate toys is set up so that all ages are included in this fun program!
URL:https://lscss.com/event/tumble-bumble-with-early-years-3/2029-07-10/
LOCATION:Legion Hall\, 510 Veterans Av\, Keremeos\, BC\, V0X 1N3\, Canada
ORGANIZER;CN="Jocelyn Reaume":MAILTO:capc@lscss.com
END:VEVENT
BEGIN:VEVENT
DTSTART;TZID=America/Vancouver:20290711T090000
DTEND;TZID=America/Vancouver:20290711T123000
DTSTAMP:20260424T165615
CREATED:20260304T190414Z
LAST-MODIFIED:20260304T190414Z
UID:10001352-1878454800-1878467400@lscss.com
SUMMARY:Come Play - Early Years
DESCRIPTION:
URL:https://lscss.com/event/come-play-early-years-2/2029-07-11/
LOCATION:Family room\, 310 Veterans Ave\, Keremeos\, BC\, V0X 1N3\, Canada
ORGANIZER;CN="Jocelyn Reaume":MAILTO:capc@lscss.com
END:VEVENT
BEGIN:VEVENT
DTSTART;TZID=America/Vancouver:20290711T160000
DTEND;TZID=America/Vancouver:20290711T190000
DTSTAMP:20260424T165615
CREATED:20260304T190954Z
LAST-MODIFIED:20260304T190954Z
UID:10001613-1878480000-1878490800@lscss.com
SUMMARY:Circle of Security Parenting Program
DESCRIPTION:** Registration Required ** \n\nLast Call to Join Circle of Security!\n\n\nWe have just two spots remaining in our upcoming Circle of Security group\, beginning March 4th.\n\n\nThis 8-week program will run on Wednesday evenings from 4:00–7:00 PM.\n\n\n Childminding provided\n Light dinner and refreshments included\n\n\nIf you’ve been thinking about joining\, now is the time! Secure your spot before registrations close.\n\n\nPlease contact us to register or to learn more.
URL:https://lscss.com/event/circle-of-security-parenting-program-2/2029-07-11/
LOCATION:LSCSS Office\, 715 7th St\, Keremeos\, BC\, Canada
ORGANIZER;CN="Jocelyn Reaume":MAILTO:capc@lscss.com
END:VEVENT
BEGIN:VEVENT
DTSTART;TZID=America/Vancouver:20290712T100000
DTEND;TZID=America/Vancouver:20290712T120000
DTSTAMP:20260424T165615
CREATED:20260304T184844Z
LAST-MODIFIED:20260304T184844Z
UID:10000741-1878544800-1878552000@lscss.com
SUMMARY:TUMBLE BUMBLE with Early Years
DESCRIPTION:Tumble Bumble is a drop-in indoor play program for children from birth – 6 years and their parents/caregivers (older siblings are welcome). Children can cruise\, climb\, slide\, jump and meet new children\, while exploring a wide variety of equipment. These include\, trikes\, scooters\, plasma bikes\, tunnels\, a slide\, “ride em” vehicles such as police cars\, and fire trucks\, a bounce castle\, basketball\, bowling as well as balls\, mats\, and various sizes and shapes of gymnastics foam structures. This environment provides an opportunity to connect and socialize while also providing opportunity to improve gross and fine motor skills. It also provides a place for parents and caregivers to connect and share experiences. An infant area with developmentally appropriate toys is set up so that all ages are included in this fun program!
URL:https://lscss.com/event/tumble-bumble-with-early-years-3/2029-07-12/
LOCATION:Legion Hall\, 510 Veterans Av\, Keremeos\, BC\, V0X 1N3\, Canada
ORGANIZER;CN="Jocelyn Reaume":MAILTO:capc@lscss.com
END:VEVENT
BEGIN:VEVENT
DTSTART;TZID=America/Vancouver:20290713T100000
DTEND;TZID=America/Vancouver:20290713T120000
DTSTAMP:20260424T165615
CREATED:20260304T191211Z
LAST-MODIFIED:20260304T191211Z
UID:10001874-1878631200-1878638400@lscss.com
SUMMARY:Ntamtquen Community Gardens LSIB + Early Years
DESCRIPTION:
URL:https://lscss.com/event/ntamtquen-community-gardens-lsib-early-years/2029-07-13/
LOCATION:Ntamtquen Garden
ORGANIZER;CN="Jocelyn Reaume":MAILTO:capc@lscss.com
END:VEVENT
BEGIN:VEVENT
DTSTART;TZID=America/Vancouver:20290716T100000
DTEND;TZID=America/Vancouver:20290716T123000
DTSTAMP:20260424T165615
CREATED:20260304T185652Z
LAST-MODIFIED:20260304T185652Z
UID:10001090-1878890400-1878899400@lscss.com
SUMMARY:CAPC - Parenting and Prenatal
DESCRIPTION:The Community Action Program for Children (CAPC) aims to improve healthy child development by improving parenting skills and parent-child relationships and decreasing social isolation. Programming offers positive learning experiences for children (aged 0-6) and their families. CAPC facilitators lead fun learning activities where children find opportunities to make friends and interact with others of similar ages. CAPC facilitators support caregivers to expand their social support networks\, share experiences\, and learn more about community resources. \n 
URL:https://lscss.com/event/capc-parenting-and-prenatal-2/2029-07-16/
LOCATION:Family room\, 310 Veterans Ave\, Keremeos\, BC\, V0X 1N3\, Canada
ORGANIZER;CN="Jocelyn Reaume":MAILTO:capc@lscss.com
END:VEVENT
BEGIN:VEVENT
DTSTART;TZID=America/Vancouver:20290717T100000
DTEND;TZID=America/Vancouver:20290717T120000
DTSTAMP:20260424T165615
CREATED:20260304T184844Z
LAST-MODIFIED:20260304T184844Z
UID:10000742-1878976800-1878984000@lscss.com
SUMMARY:TUMBLE BUMBLE with Early Years
DESCRIPTION:Tumble Bumble is a drop-in indoor play program for children from birth – 6 years and their parents/caregivers (older siblings are welcome). Children can cruise\, climb\, slide\, jump and meet new children\, while exploring a wide variety of equipment. These include\, trikes\, scooters\, plasma bikes\, tunnels\, a slide\, “ride em” vehicles such as police cars\, and fire trucks\, a bounce castle\, basketball\, bowling as well as balls\, mats\, and various sizes and shapes of gymnastics foam structures. This environment provides an opportunity to connect and socialize while also providing opportunity to improve gross and fine motor skills. It also provides a place for parents and caregivers to connect and share experiences. An infant area with developmentally appropriate toys is set up so that all ages are included in this fun program!
URL:https://lscss.com/event/tumble-bumble-with-early-years-3/2029-07-17/
LOCATION:Legion Hall\, 510 Veterans Av\, Keremeos\, BC\, V0X 1N3\, Canada
ORGANIZER;CN="Jocelyn Reaume":MAILTO:capc@lscss.com
END:VEVENT
BEGIN:VEVENT
DTSTART;TZID=America/Vancouver:20290718T090000
DTEND;TZID=America/Vancouver:20290718T123000
DTSTAMP:20260424T165615
CREATED:20260304T190414Z
LAST-MODIFIED:20260304T190414Z
UID:10001353-1879059600-1879072200@lscss.com
SUMMARY:Come Play - Early Years
DESCRIPTION:
URL:https://lscss.com/event/come-play-early-years-2/2029-07-18/
LOCATION:Family room\, 310 Veterans Ave\, Keremeos\, BC\, V0X 1N3\, Canada
ORGANIZER;CN="Jocelyn Reaume":MAILTO:capc@lscss.com
END:VEVENT
BEGIN:VEVENT
DTSTART;TZID=America/Vancouver:20290718T160000
DTEND;TZID=America/Vancouver:20290718T190000
DTSTAMP:20260424T165615
CREATED:20260304T190954Z
LAST-MODIFIED:20260304T190954Z
UID:10001614-1879084800-1879095600@lscss.com
SUMMARY:Circle of Security Parenting Program
DESCRIPTION:** Registration Required ** \n\nLast Call to Join Circle of Security!\n\n\nWe have just two spots remaining in our upcoming Circle of Security group\, beginning March 4th.\n\n\nThis 8-week program will run on Wednesday evenings from 4:00–7:00 PM.\n\n\n Childminding provided\n Light dinner and refreshments included\n\n\nIf you’ve been thinking about joining\, now is the time! Secure your spot before registrations close.\n\n\nPlease contact us to register or to learn more.
URL:https://lscss.com/event/circle-of-security-parenting-program-2/2029-07-18/
LOCATION:LSCSS Office\, 715 7th St\, Keremeos\, BC\, Canada
ORGANIZER;CN="Jocelyn Reaume":MAILTO:capc@lscss.com
END:VEVENT
BEGIN:VEVENT
DTSTART;TZID=America/Vancouver:20290719T100000
DTEND;TZID=America/Vancouver:20290719T120000
DTSTAMP:20260424T165615
CREATED:20260304T184844Z
LAST-MODIFIED:20260304T184844Z
UID:10000743-1879149600-1879156800@lscss.com
SUMMARY:TUMBLE BUMBLE with Early Years
DESCRIPTION:Tumble Bumble is a drop-in indoor play program for children from birth – 6 years and their parents/caregivers (older siblings are welcome). Children can cruise\, climb\, slide\, jump and meet new children\, while exploring a wide variety of equipment. These include\, trikes\, scooters\, plasma bikes\, tunnels\, a slide\, “ride em” vehicles such as police cars\, and fire trucks\, a bounce castle\, basketball\, bowling as well as balls\, mats\, and various sizes and shapes of gymnastics foam structures. This environment provides an opportunity to connect and socialize while also providing opportunity to improve gross and fine motor skills. It also provides a place for parents and caregivers to connect and share experiences. An infant area with developmentally appropriate toys is set up so that all ages are included in this fun program!
URL:https://lscss.com/event/tumble-bumble-with-early-years-3/2029-07-19/
LOCATION:Legion Hall\, 510 Veterans Av\, Keremeos\, BC\, V0X 1N3\, Canada
ORGANIZER;CN="Jocelyn Reaume":MAILTO:capc@lscss.com
END:VEVENT
BEGIN:VEVENT
DTSTART;TZID=America/Vancouver:20290720T100000
DTEND;TZID=America/Vancouver:20290720T120000
DTSTAMP:20260424T165615
CREATED:20260304T191211Z
LAST-MODIFIED:20260304T191211Z
UID:10001875-1879236000-1879243200@lscss.com
SUMMARY:Ntamtquen Community Gardens LSIB + Early Years
DESCRIPTION:
URL:https://lscss.com/event/ntamtquen-community-gardens-lsib-early-years/2029-07-20/
LOCATION:Ntamtquen Garden
ORGANIZER;CN="Jocelyn Reaume":MAILTO:capc@lscss.com
END:VEVENT
BEGIN:VEVENT
DTSTART;TZID=America/Vancouver:20290723T100000
DTEND;TZID=America/Vancouver:20290723T123000
DTSTAMP:20260424T165615
CREATED:20260304T185652Z
LAST-MODIFIED:20260304T185652Z
UID:10001091-1879495200-1879504200@lscss.com
SUMMARY:CAPC - Parenting and Prenatal
DESCRIPTION:The Community Action Program for Children (CAPC) aims to improve healthy child development by improving parenting skills and parent-child relationships and decreasing social isolation. Programming offers positive learning experiences for children (aged 0-6) and their families. CAPC facilitators lead fun learning activities where children find opportunities to make friends and interact with others of similar ages. CAPC facilitators support caregivers to expand their social support networks\, share experiences\, and learn more about community resources. \n 
URL:https://lscss.com/event/capc-parenting-and-prenatal-2/2029-07-23/
LOCATION:Family room\, 310 Veterans Ave\, Keremeos\, BC\, V0X 1N3\, Canada
ORGANIZER;CN="Jocelyn Reaume":MAILTO:capc@lscss.com
END:VEVENT
BEGIN:VEVENT
DTSTART;TZID=America/Vancouver:20290724T100000
DTEND;TZID=America/Vancouver:20290724T120000
DTSTAMP:20260424T165615
CREATED:20260304T184844Z
LAST-MODIFIED:20260304T184844Z
UID:10000744-1879581600-1879588800@lscss.com
SUMMARY:TUMBLE BUMBLE with Early Years
DESCRIPTION:Tumble Bumble is a drop-in indoor play program for children from birth – 6 years and their parents/caregivers (older siblings are welcome). Children can cruise\, climb\, slide\, jump and meet new children\, while exploring a wide variety of equipment. These include\, trikes\, scooters\, plasma bikes\, tunnels\, a slide\, “ride em” vehicles such as police cars\, and fire trucks\, a bounce castle\, basketball\, bowling as well as balls\, mats\, and various sizes and shapes of gymnastics foam structures. This environment provides an opportunity to connect and socialize while also providing opportunity to improve gross and fine motor skills. It also provides a place for parents and caregivers to connect and share experiences. An infant area with developmentally appropriate toys is set up so that all ages are included in this fun program!
URL:https://lscss.com/event/tumble-bumble-with-early-years-3/2029-07-24/
LOCATION:Legion Hall\, 510 Veterans Av\, Keremeos\, BC\, V0X 1N3\, Canada
ORGANIZER;CN="Jocelyn Reaume":MAILTO:capc@lscss.com
END:VEVENT
BEGIN:VEVENT
DTSTART;TZID=America/Vancouver:20290725T090000
DTEND;TZID=America/Vancouver:20290725T123000
DTSTAMP:20260424T165615
CREATED:20260304T190414Z
LAST-MODIFIED:20260304T190414Z
UID:10001354-1879664400-1879677000@lscss.com
SUMMARY:Come Play - Early Years
DESCRIPTION:
URL:https://lscss.com/event/come-play-early-years-2/2029-07-25/
LOCATION:Family room\, 310 Veterans Ave\, Keremeos\, BC\, V0X 1N3\, Canada
ORGANIZER;CN="Jocelyn Reaume":MAILTO:capc@lscss.com
END:VEVENT
BEGIN:VEVENT
DTSTART;TZID=America/Vancouver:20290725T160000
DTEND;TZID=America/Vancouver:20290725T190000
DTSTAMP:20260424T165615
CREATED:20260304T190954Z
LAST-MODIFIED:20260304T190954Z
UID:10001615-1879689600-1879700400@lscss.com
SUMMARY:Circle of Security Parenting Program
DESCRIPTION:** Registration Required ** \n\nLast Call to Join Circle of Security!\n\n\nWe have just two spots remaining in our upcoming Circle of Security group\, beginning March 4th.\n\n\nThis 8-week program will run on Wednesday evenings from 4:00–7:00 PM.\n\n\n Childminding provided\n Light dinner and refreshments included\n\n\nIf you’ve been thinking about joining\, now is the time! Secure your spot before registrations close.\n\n\nPlease contact us to register or to learn more.
URL:https://lscss.com/event/circle-of-security-parenting-program-2/2029-07-25/
LOCATION:LSCSS Office\, 715 7th St\, Keremeos\, BC\, Canada
ORGANIZER;CN="Jocelyn Reaume":MAILTO:capc@lscss.com
END:VEVENT
BEGIN:VEVENT
DTSTART;TZID=America/Vancouver:20290726T100000
DTEND;TZID=America/Vancouver:20290726T120000
DTSTAMP:20260424T165615
CREATED:20260304T184844Z
LAST-MODIFIED:20260304T184844Z
UID:10000745-1879754400-1879761600@lscss.com
SUMMARY:TUMBLE BUMBLE with Early Years
DESCRIPTION:Tumble Bumble is a drop-in indoor play program for children from birth – 6 years and their parents/caregivers (older siblings are welcome). Children can cruise\, climb\, slide\, jump and meet new children\, while exploring a wide variety of equipment. These include\, trikes\, scooters\, plasma bikes\, tunnels\, a slide\, “ride em” vehicles such as police cars\, and fire trucks\, a bounce castle\, basketball\, bowling as well as balls\, mats\, and various sizes and shapes of gymnastics foam structures. This environment provides an opportunity to connect and socialize while also providing opportunity to improve gross and fine motor skills. It also provides a place for parents and caregivers to connect and share experiences. An infant area with developmentally appropriate toys is set up so that all ages are included in this fun program!
URL:https://lscss.com/event/tumble-bumble-with-early-years-3/2029-07-26/
LOCATION:Legion Hall\, 510 Veterans Av\, Keremeos\, BC\, V0X 1N3\, Canada
ORGANIZER;CN="Jocelyn Reaume":MAILTO:capc@lscss.com
END:VEVENT
BEGIN:VEVENT
DTSTART;TZID=America/Vancouver:20290727T100000
DTEND;TZID=America/Vancouver:20290727T120000
DTSTAMP:20260424T165615
CREATED:20260304T191211Z
LAST-MODIFIED:20260304T191211Z
UID:10001876-1879840800-1879848000@lscss.com
SUMMARY:Ntamtquen Community Gardens LSIB + Early Years
DESCRIPTION:
URL:https://lscss.com/event/ntamtquen-community-gardens-lsib-early-years/2029-07-27/
LOCATION:Ntamtquen Garden
ORGANIZER;CN="Jocelyn Reaume":MAILTO:capc@lscss.com
END:VEVENT
BEGIN:VEVENT
DTSTART;TZID=America/Vancouver:20290730T100000
DTEND;TZID=America/Vancouver:20290730T123000
DTSTAMP:20260424T165615
CREATED:20260304T185652Z
LAST-MODIFIED:20260304T185652Z
UID:10001092-1880100000-1880109000@lscss.com
SUMMARY:CAPC - Parenting and Prenatal
DESCRIPTION:The Community Action Program for Children (CAPC) aims to improve healthy child development by improving parenting skills and parent-child relationships and decreasing social isolation. Programming offers positive learning experiences for children (aged 0-6) and their families. CAPC facilitators lead fun learning activities where children find opportunities to make friends and interact with others of similar ages. CAPC facilitators support caregivers to expand their social support networks\, share experiences\, and learn more about community resources. \n 
URL:https://lscss.com/event/capc-parenting-and-prenatal-2/2029-07-30/
LOCATION:Family room\, 310 Veterans Ave\, Keremeos\, BC\, V0X 1N3\, Canada
ORGANIZER;CN="Jocelyn Reaume":MAILTO:capc@lscss.com
END:VEVENT
BEGIN:VEVENT
DTSTART;TZID=America/Vancouver:20290731T100000
DTEND;TZID=America/Vancouver:20290731T120000
DTSTAMP:20260424T165615
CREATED:20260304T184844Z
LAST-MODIFIED:20260304T184844Z
UID:10000746-1880186400-1880193600@lscss.com
SUMMARY:TUMBLE BUMBLE with Early Years
DESCRIPTION:Tumble Bumble is a drop-in indoor play program for children from birth – 6 years and their parents/caregivers (older siblings are welcome). Children can cruise\, climb\, slide\, jump and meet new children\, while exploring a wide variety of equipment. These include\, trikes\, scooters\, plasma bikes\, tunnels\, a slide\, “ride em” vehicles such as police cars\, and fire trucks\, a bounce castle\, basketball\, bowling as well as balls\, mats\, and various sizes and shapes of gymnastics foam structures. This environment provides an opportunity to connect and socialize while also providing opportunity to improve gross and fine motor skills. It also provides a place for parents and caregivers to connect and share experiences. An infant area with developmentally appropriate toys is set up so that all ages are included in this fun program!
URL:https://lscss.com/event/tumble-bumble-with-early-years-3/2029-07-31/
LOCATION:Legion Hall\, 510 Veterans Av\, Keremeos\, BC\, V0X 1N3\, Canada
ORGANIZER;CN="Jocelyn Reaume":MAILTO:capc@lscss.com
END:VEVENT
BEGIN:VEVENT
DTSTART;TZID=America/Vancouver:20290801T090000
DTEND;TZID=America/Vancouver:20290801T123000
DTSTAMP:20260424T165615
CREATED:20260304T190414Z
LAST-MODIFIED:20260304T190414Z
UID:10001355-1880269200-1880281800@lscss.com
SUMMARY:Come Play - Early Years
DESCRIPTION:
URL:https://lscss.com/event/come-play-early-years-2/2029-08-01/
LOCATION:Family room\, 310 Veterans Ave\, Keremeos\, BC\, V0X 1N3\, Canada
ORGANIZER;CN="Jocelyn Reaume":MAILTO:capc@lscss.com
END:VEVENT
BEGIN:VEVENT
DTSTART;TZID=America/Vancouver:20290801T160000
DTEND;TZID=America/Vancouver:20290801T190000
DTSTAMP:20260424T165615
CREATED:20260304T190954Z
LAST-MODIFIED:20260304T190954Z
UID:10001616-1880294400-1880305200@lscss.com
SUMMARY:Circle of Security Parenting Program
DESCRIPTION:** Registration Required ** \n\nLast Call to Join Circle of Security!\n\n\nWe have just two spots remaining in our upcoming Circle of Security group\, beginning March 4th.\n\n\nThis 8-week program will run on Wednesday evenings from 4:00–7:00 PM.\n\n\n Childminding provided\n Light dinner and refreshments included\n\n\nIf you’ve been thinking about joining\, now is the time! Secure your spot before registrations close.\n\n\nPlease contact us to register or to learn more.
URL:https://lscss.com/event/circle-of-security-parenting-program-2/2029-08-01/
LOCATION:LSCSS Office\, 715 7th St\, Keremeos\, BC\, Canada
ORGANIZER;CN="Jocelyn Reaume":MAILTO:capc@lscss.com
END:VEVENT
END:VCALENDAR