BEGIN:VCALENDAR
VERSION:2.0
PRODID:-//Lower Similkameen Community Services Society - ECPv6.15.20//NONSGML v1.0//EN
CALSCALE:GREGORIAN
METHOD:PUBLISH
X-WR-CALNAME:Lower Similkameen Community Services Society
X-ORIGINAL-URL:https://lscss.com
X-WR-CALDESC:Events for Lower Similkameen Community Services Society
REFRESH-INTERVAL;VALUE=DURATION:PT1H
X-Robots-Tag:noindex
X-PUBLISHED-TTL:PT1H
BEGIN:VTIMEZONE
TZID:America/Vancouver
BEGIN:DAYLIGHT
TZOFFSETFROM:-0800
TZOFFSETTO:-0700
TZNAME:PDT
DTSTART:20240310T100000
END:DAYLIGHT
BEGIN:STANDARD
TZOFFSETFROM:-0700
TZOFFSETTO:-0800
TZNAME:PST
DTSTART:20241103T090000
END:STANDARD
BEGIN:DAYLIGHT
TZOFFSETFROM:-0800
TZOFFSETTO:-0700
TZNAME:PDT
DTSTART:20250309T100000
END:DAYLIGHT
BEGIN:STANDARD
TZOFFSETFROM:-0700
TZOFFSETTO:-0800
TZNAME:PST
DTSTART:20251102T090000
END:STANDARD
BEGIN:DAYLIGHT
TZOFFSETFROM:-0800
TZOFFSETTO:-0700
TZNAME:PDT
DTSTART:20260308T100000
END:DAYLIGHT
BEGIN:STANDARD
TZOFFSETFROM:-0700
TZOFFSETTO:-0800
TZNAME:PST
DTSTART:20261101T090000
END:STANDARD
END:VTIMEZONE
BEGIN:VEVENT
DTSTART;TZID=America/Vancouver:20250813T100000
DTEND;TZID=America/Vancouver:20250813T120000
DTSTAMP:20260421T084726
CREATED:20250805T200625Z
LAST-MODIFIED:20250903T174650Z
UID:10000085-1755079200-1755086400@lscss.com
SUMMARY:Parenting and Prenatal Program
DESCRIPTION:
URL:https://lscss.com/event/parenting-and-prenatal-program-3/2025-08-13/
LOCATION:Memorial park\, 417 7th Ave\, Keremeos\, BC\, V0X 1N3\, Canada
CATEGORIES:Children and Family
ORGANIZER;CN="Jocelyn Reaume":MAILTO:capc@lscss.com
END:VEVENT
BEGIN:VEVENT
DTSTART;TZID=America/Vancouver:20250812T140000
DTEND;TZID=America/Vancouver:20250812T153000
DTSTAMP:20260421T084726
CREATED:20250722T205008Z
LAST-MODIFIED:20250922T210637Z
UID:10000041-1755007200-1755012600@lscss.com
SUMMARY:JAVA Social
DESCRIPTION:JAVA Social is a weekly conversation group for seniors.  We rotate between 4 locations to make attendance easier!  Each meeting is a facilitated discussion exploring a topic that the group votes as most important to them.  Facilitated discussion lasts 1 hour\, and we also have time to chat amongst ourselves afterward.  
URL:https://lscss.com/event/java-social-4/2025-08-12/
LOCATION:Mountain View Manor\, 412 12th Avenue\, keremeos\, British Columbia\, V0X1N3\, Canada
CATEGORIES:JAVA Social
ORGANIZER;CN="Signe Percevault":MAILTO:stv@lscss.com
END:VEVENT
BEGIN:VEVENT
DTSTART;TZID=America/Vancouver:20250812T100000
DTEND;TZID=America/Vancouver:20250812T120000
DTSTAMP:20260421T084726
CREATED:20250805T200254Z
LAST-MODIFIED:20250903T175049Z
UID:10000074-1754992800-1755000000@lscss.com
SUMMARY:Tumble Bumble
DESCRIPTION:Tumble Bumble is a drop-in indoor play program for children from birth – 6 years and their parents/caregivers (older siblings are welcome). Children can cruise\, climb\, slide\, jump and meet new children\, while exploring a wide variety of equipment. These include\, trikes\, scooters\, plasma bikes\, tunnels\, a slide\, “ride em” vehicles such as police cars\, and fire trucks\, a bounce castle\, basketball\, bowling as well as balls\, mats\, and various sizes and shapes of gymnastics foam structures. This environment provides an opportunity to connect and socialize while also providing opportunity to improve gross and fine motor skills. It also provides a place for parents and caregivers to connect and share experiences. An infant area with developmentally appropriate toys is set up so that all ages are included in this fun program!
URL:https://lscss.com/event/tumble-bumble-2/2025-08-12/
LOCATION:Legion Hall\, 510 Veterans Av\, Keremeos\, BC\, V0X 1N3\, Canada
CATEGORIES:Early years
ORGANIZER;CN="Jocelyn Reaume":MAILTO:capc@lscss.com
END:VEVENT
BEGIN:VEVENT
DTSTART;TZID=America/Vancouver:20250811T130000
DTEND;TZID=America/Vancouver:20250811T143000
DTSTAMP:20260421T084726
CREATED:20250801T185553Z
LAST-MODIFIED:20250801T185553Z
UID:10000067-1754917200-1754922600@lscss.com
SUMMARY:Outdoor Games
DESCRIPTION:
URL:https://lscss.com/event/outdoor-games/
LOCATION:Pine Park\, 12th Avenue\, Keremeos\, BC\, V0X 1N0\,\, Canada
CATEGORIES:Children and Family,Mental Health
ORGANIZER;CN="Signe Percevault":MAILTO:stv@lscss.com
END:VEVENT
BEGIN:VEVENT
DTSTART;TZID=America/Vancouver:20250811T113000
DTEND;TZID=America/Vancouver:20250811T130000
DTSTAMP:20260421T084726
CREATED:20250725T153549Z
LAST-MODIFIED:20250729T224524Z
UID:10000062-1754911800-1754917200@lscss.com
SUMMARY:Inter-Agency Meeting
DESCRIPTION:
URL:https://lscss.com/event/inter-agency-meeting/
LOCATION:Keremeos Recreation Centre\, 311 9th Street\, Keremeos\, BC\, V0X 1N2\, Canada
CATEGORIES:Staff Only
ATTACH;FMTTYPE=image/webp:https://lscss.com/wp-content/uploads/2025/07/Interagency-meeting.webp
ORGANIZER;CN="Dave Cursons":MAILTO:Peace@lscss.com
END:VEVENT
BEGIN:VEVENT
DTSTART;TZID=America/Vancouver:20250811T100000
DTEND;TZID=America/Vancouver:20250811T120000
DTSTAMP:20260421T084726
CREATED:20250805T200923Z
LAST-MODIFIED:20250903T174504Z
UID:10000088-1754906400-1754913600@lscss.com
SUMMARY:Parenting and Prenatal Program
DESCRIPTION:
URL:https://lscss.com/event/parenting-and-prenatal-program-4/2025-08-11/
LOCATION:Family room\, 310 Veterans Ave\, Keremeos\, BC\, V0X 1N3\, Canada
CATEGORIES:Children and Family
ORGANIZER;CN="Jocelyn Reaume":MAILTO:capc@lscss.com
END:VEVENT
BEGIN:VEVENT
DTSTART;TZID=America/Vancouver:20250810T140000
DTEND;TZID=America/Vancouver:20250810T160000
DTSTAMP:20260421T084726
CREATED:20250805T202855Z
LAST-MODIFIED:20250805T202855Z
UID:10000097-1754834400-1754841600@lscss.com
SUMMARY:TechSavvy Open Topic Session
DESCRIPTION:Open topic\, Bring your charged devices\, and your questions!
URL:https://lscss.com/event/techsavvy-open-topic-session/
LOCATION:Ambrosia Gathering Place\, 715 7th Street\, Keremeos\, BC\, V0X 1N3\, Canada
CATEGORIES:Tech Savvy
ORGANIZER;CN="Lisa Shields":MAILTO:TechSavvy@lscss.com
END:VEVENT
BEGIN:VEVENT
DTSTART;TZID=America/Vancouver:20250808T160000
DTEND;TZID=America/Vancouver:20250808T200000
DTSTAMP:20260421T084726
CREATED:20250808T210257Z
LAST-MODIFIED:20250808T210654Z
UID:10000102-1754668800-1754683200@lscss.com
SUMMARY:Friday Night Market
DESCRIPTION:LSCSS will be at the Friday Night Market at Memorial Park. Market runs from 4-8pm\nCome see what we do for you and your community !\nAnd of course\, come out for a walk-about\, have some great food and treats and see what all the wonderful vendors have to sell !\n 
URL:https://lscss.com/event/friday-night-market/
LOCATION:Memorial park\, 417 7th Ave\, Keremeos\, BC\, V0X 1N3\, Canada
CATEGORIES:Community events
ATTACH;FMTTYPE=image/webp:https://lscss.com/wp-content/uploads/2025/08/friday-market.webp
END:VEVENT
BEGIN:VEVENT
DTSTART;TZID=America/Vancouver:20250808T110000
DTEND;TZID=America/Vancouver:20250808T130000
DTSTAMP:20260421T084726
CREATED:20250801T185707Z
LAST-MODIFIED:20250805T213207Z
UID:10000068-1754650800-1754658000@lscss.com
SUMMARY:Picnic in the Park
DESCRIPTION:
URL:https://lscss.com/event/picnic-in-the-park/
LOCATION:Memorial park\, 417 7th Ave\, Keremeos\, BC\, V0X 1N3\, Canada
CATEGORIES:Community events,Mental Health
ORGANIZER;CN="Signe Percevault":MAILTO:stv@lscss.com
END:VEVENT
BEGIN:VEVENT
DTSTART;TZID=America/Vancouver:20250808T100000
DTEND;TZID=America/Vancouver:20250808T120000
DTSTAMP:20260421T084726
CREATED:20250805T201953Z
LAST-MODIFIED:20250903T175257Z
UID:10000092-1754647200-1754654400@lscss.com
SUMMARY:Ntamtquen Community Garden - LSIB+Early Years
DESCRIPTION:Families and children are invited to join us every Friday from 10 AM to 12 PM for a drop-in\, land-based program co-facilitated with the LSIB N’t̓ámtqen Community Garden.\n\n\n Plant\, care for\, and harvest nourishing food\n Connect with nature\, culture\, and each other\n Enjoy a healing space to play\, grow\, and build community\n Network\, socialize\, and share stories with other families\n\n\n Where: N’t̓ámtqen Community Garden (LSIB)\n When: Fridays | 10:00 AM – 12:00 PM\n Cost: FREE | No registration required\n ntamtqencommunity.garden
URL:https://lscss.com/event/ntamtquen-community-garden-lsibearly-years/2025-08-08/
LOCATION:Ntamtquen Garden
CATEGORIES:Children and Family
ORGANIZER;CN="Jocelyn Reaume":MAILTO:capc@lscss.com
END:VEVENT
BEGIN:VEVENT
DTSTART;TZID=America/Vancouver:20250807T100000
DTEND;TZID=America/Vancouver:20250807T120000
DTSTAMP:20260421T084726
CREATED:20250805T200254Z
LAST-MODIFIED:20250903T175049Z
UID:10000073-1754560800-1754568000@lscss.com
SUMMARY:Tumble Bumble
DESCRIPTION:Tumble Bumble is a drop-in indoor play program for children from birth – 6 years and their parents/caregivers (older siblings are welcome). Children can cruise\, climb\, slide\, jump and meet new children\, while exploring a wide variety of equipment. These include\, trikes\, scooters\, plasma bikes\, tunnels\, a slide\, “ride em” vehicles such as police cars\, and fire trucks\, a bounce castle\, basketball\, bowling as well as balls\, mats\, and various sizes and shapes of gymnastics foam structures. This environment provides an opportunity to connect and socialize while also providing opportunity to improve gross and fine motor skills. It also provides a place for parents and caregivers to connect and share experiences. An infant area with developmentally appropriate toys is set up so that all ages are included in this fun program!
URL:https://lscss.com/event/tumble-bumble-2/2025-08-07/
LOCATION:Legion Hall\, 510 Veterans Av\, Keremeos\, BC\, V0X 1N3\, Canada
CATEGORIES:Early years
ORGANIZER;CN="Jocelyn Reaume":MAILTO:capc@lscss.com
END:VEVENT
BEGIN:VEVENT
DTSTART;TZID=America/Vancouver:20250807T093000
DTEND;TZID=America/Vancouver:20250807T120000
DTSTAMP:20260421T084726
CREATED:20250724T160709Z
LAST-MODIFIED:20250805T161439Z
UID:10000061-1754559000-1754568000@lscss.com
SUMMARY:Painting in the Park
DESCRIPTION:For ages 9-12 \nAll materials provided!
URL:https://lscss.com/event/painting-in-the-park/2025-08-07/
LOCATION:Pine Park\, 12th Avenue\, Keremeos\, BC\, V0X 1N0\,\, Canada
CATEGORIES:Children and Family
ATTACH;FMTTYPE=image/webp:https://lscss.com/wp-content/uploads/2025/07/painting-in-the-park.webp
ORGANIZER;CN="Dave Cursons":MAILTO:Peace@lscss.com
END:VEVENT
BEGIN:VEVENT
DTSTART;TZID=America/Vancouver:20250807T090000
DTEND;TZID=America/Vancouver:20250807T100000
DTSTAMP:20260421T084726
CREATED:20250811T160740Z
LAST-MODIFIED:20250811T160740Z
UID:10000103-1754557200-1754560800@lscss.com
SUMMARY:Walking Group
DESCRIPTION:Free\, welcoming and inclusive walking group that meets weekly from April to September. The starting point is Victory Hall\, in Keremeos. We travel a different route every week\, exploring various neighbourhoods\, and easily adapt our itinerary to meet our current needs. Join us for pleasant\, non-intimidating conversation and enjoyable sights.  \nplease contact s.despres@teampractice.ca for more information!
URL:https://lscss.com/event/walking-group/2025-08-07/
LOCATION:Lower Similkameen Community Services Society\, 715-7th Street\, Keremeos\, British Columbia\, V0X 1N3\, Canada
CATEGORIES:Community events
ORGANIZER;CN="Jenn Nelson":MAILTO:finance@lscss.com
END:VEVENT
BEGIN:VEVENT
DTSTART;TZID=America/Vancouver:20250806T100000
DTEND;TZID=America/Vancouver:20250806T120000
DTSTAMP:20260421T084726
CREATED:20250805T200625Z
LAST-MODIFIED:20250903T174650Z
UID:10000084-1754474400-1754481600@lscss.com
SUMMARY:Parenting and Prenatal Program
DESCRIPTION:
URL:https://lscss.com/event/parenting-and-prenatal-program-3/2025-08-06/
LOCATION:Memorial park\, 417 7th Ave\, Keremeos\, BC\, V0X 1N3\, Canada
CATEGORIES:Children and Family
ORGANIZER;CN="Jocelyn Reaume":MAILTO:capc@lscss.com
END:VEVENT
BEGIN:VEVENT
DTSTART;TZID=America/Vancouver:20250806T093000
DTEND;TZID=America/Vancouver:20250806T120000
DTSTAMP:20260421T084726
CREATED:20250724T160709Z
LAST-MODIFIED:20250805T161439Z
UID:10000060-1754472600-1754481600@lscss.com
SUMMARY:Painting in the Park
DESCRIPTION:For ages 9-12 \nAll materials provided!
URL:https://lscss.com/event/painting-in-the-park/2025-08-06/
LOCATION:Pine Park\, 12th Avenue\, Keremeos\, BC\, V0X 1N0\,\, Canada
CATEGORIES:Children and Family
ATTACH;FMTTYPE=image/webp:https://lscss.com/wp-content/uploads/2025/07/painting-in-the-park.webp
ORGANIZER;CN="Dave Cursons":MAILTO:Peace@lscss.com
END:VEVENT
BEGIN:VEVENT
DTSTART;TZID=America/Vancouver:20250805T140000
DTEND;TZID=America/Vancouver:20250805T153000
DTSTAMP:20260421T084726
CREATED:20250722T204805Z
LAST-MODIFIED:20250922T210921Z
UID:10000033-1754402400-1754407800@lscss.com
SUMMARY:JAVA Social
DESCRIPTION:JAVA Social is a weekly conversation group for seniors.  We rotate between 4 locations to make attendance easier!  Each meeting is a facilitated discussion exploring a topic that the group votes as most important to them.  Facilitated discussion lasts 1 hour\, and we also have time to chat amongst ourselves afterward.  
URL:https://lscss.com/event/java-social-3/2025-08-05/
LOCATION:Keremeos Recreation Centre\, 311 9th Street\, Keremeos\, BC\, V0X 1N2\, Canada
CATEGORIES:JAVA Social
ORGANIZER;CN="Patti Hillman":MAILTO:volunteercoord@lscss.com
END:VEVENT
BEGIN:VEVENT
DTSTART;TZID=America/Vancouver:20250805T100000
DTEND;TZID=America/Vancouver:20250805T120000
DTSTAMP:20260421T084726
CREATED:20250805T200254Z
LAST-MODIFIED:20250903T175049Z
UID:10000072-1754388000-1754395200@lscss.com
SUMMARY:Tumble Bumble
DESCRIPTION:Tumble Bumble is a drop-in indoor play program for children from birth – 6 years and their parents/caregivers (older siblings are welcome). Children can cruise\, climb\, slide\, jump and meet new children\, while exploring a wide variety of equipment. These include\, trikes\, scooters\, plasma bikes\, tunnels\, a slide\, “ride em” vehicles such as police cars\, and fire trucks\, a bounce castle\, basketball\, bowling as well as balls\, mats\, and various sizes and shapes of gymnastics foam structures. This environment provides an opportunity to connect and socialize while also providing opportunity to improve gross and fine motor skills. It also provides a place for parents and caregivers to connect and share experiences. An infant area with developmentally appropriate toys is set up so that all ages are included in this fun program!
URL:https://lscss.com/event/tumble-bumble-2/2025-08-05/
LOCATION:Legion Hall\, 510 Veterans Av\, Keremeos\, BC\, V0X 1N3\, Canada
CATEGORIES:Early years
ORGANIZER;CN="Jocelyn Reaume":MAILTO:capc@lscss.com
END:VEVENT
BEGIN:VEVENT
DTSTART;TZID=America/Vancouver:20250805T093000
DTEND;TZID=America/Vancouver:20250805T120000
DTSTAMP:20260421T084726
CREATED:20250724T160709Z
LAST-MODIFIED:20250805T161439Z
UID:10000059-1754386200-1754395200@lscss.com
SUMMARY:Painting in the Park
DESCRIPTION:For ages 9-12 \nAll materials provided!
URL:https://lscss.com/event/painting-in-the-park/2025-08-05/
LOCATION:Pine Park\, 12th Avenue\, Keremeos\, BC\, V0X 1N0\,\, Canada
CATEGORIES:Children and Family
ATTACH;FMTTYPE=image/webp:https://lscss.com/wp-content/uploads/2025/07/painting-in-the-park.webp
ORGANIZER;CN="Dave Cursons":MAILTO:Peace@lscss.com
END:VEVENT
BEGIN:VEVENT
DTSTART;TZID=America/Vancouver:20250801T100000
DTEND;TZID=America/Vancouver:20250801T120000
DTSTAMP:20260421T084726
CREATED:20250805T201953Z
LAST-MODIFIED:20250903T175257Z
UID:10000091-1754042400-1754049600@lscss.com
SUMMARY:Ntamtquen Community Garden - LSIB+Early Years
DESCRIPTION:Families and children are invited to join us every Friday from 10 AM to 12 PM for a drop-in\, land-based program co-facilitated with the LSIB N’t̓ámtqen Community Garden.\n\n\n Plant\, care for\, and harvest nourishing food\n Connect with nature\, culture\, and each other\n Enjoy a healing space to play\, grow\, and build community\n Network\, socialize\, and share stories with other families\n\n\n Where: N’t̓ámtqen Community Garden (LSIB)\n When: Fridays | 10:00 AM – 12:00 PM\n Cost: FREE | No registration required\n ntamtqencommunity.garden
URL:https://lscss.com/event/ntamtquen-community-garden-lsibearly-years/2025-08-01/
LOCATION:Ntamtquen Garden
CATEGORIES:Children and Family
ORGANIZER;CN="Jocelyn Reaume":MAILTO:capc@lscss.com
END:VEVENT
BEGIN:VEVENT
DTSTART;TZID=America/Vancouver:20250731T130000
DTEND;TZID=America/Vancouver:20250731T143000
DTSTAMP:20260421T084726
CREATED:20250723T182620Z
LAST-MODIFIED:20251030T174211Z
UID:10000056-1753966800-1753972200@lscss.com
SUMMARY:Fiber Arts
DESCRIPTION:Learn to crochet\, knit\, and loom weaving \nAll materials provided
URL:https://lscss.com/event/fiber-arts/2025-07-31/
LOCATION:Ambrosia Gathering Place\, 715 7th Street\, Keremeos\, BC\, V0X 1N3\, Canada
CATEGORIES:Community events
END:VEVENT
BEGIN:VEVENT
DTSTART;TZID=America/Vancouver:20250731T100000
DTEND;TZID=America/Vancouver:20250731T120000
DTSTAMP:20260421T084726
CREATED:20250723T180919Z
LAST-MODIFIED:20250805T202144Z
UID:10000052-1753956000-1753963200@lscss.com
SUMMARY:Tumble Bumble-Early Years
DESCRIPTION:Tumble Bumble is a drop-in indoor play program for children from birth – 6 years and their parents/caregivers (older siblings are welcome). Children can cruise\, climb\, slide\, jump and meet new children\, while exploring a wide variety of equipment. These include\, trikes\, scooters\, plasma bikes\, tunnels\, a slide\, “ride em” vehicles such as police cars\, and fire trucks\, a bounce castle\, basketball\, bowling as well as balls\, mats\, and various sizes and shapes of gymnastics foam structures. This environment provides an opportunity to connect and socialize while also providing opportunity to improve gross and fine motor skills. It also provides a place for parents and caregivers to connect and share experiences. An infant area with developmentally appropriate toys is set up so that all ages are included in this fun program!
URL:https://lscss.com/event/tumble-bumble/2025-07-31/
LOCATION:Legion Hall\, 510 Veterans Av\, Keremeos\, BC\, V0X 1N3\, Canada
CATEGORIES:Early years
ORGANIZER;CN="Jocelyn Reaume":MAILTO:capc@lscss.com
END:VEVENT
BEGIN:VEVENT
DTSTART;TZID=America/Vancouver:20250730T100000
DTEND;TZID=America/Vancouver:20250730T120000
DTSTAMP:20260421T084726
CREATED:20250723T181447Z
LAST-MODIFIED:20250723T181620Z
UID:10000053-1753869600-1753876800@lscss.com
SUMMARY:Parenting and Prenatal Program
DESCRIPTION:
URL:https://lscss.com/event/parenting-and-prenatal-program-2/
LOCATION:Memorial park\, 417 7th Ave\, Keremeos\, BC\, V0X 1N3\, Canada
CATEGORIES:Children and Family,Early years
ORGANIZER;CN="Jocelyn Reaume":MAILTO:capc@lscss.com
END:VEVENT
BEGIN:VEVENT
DTSTART;TZID=America/Vancouver:20250729T170000
DTEND;TZID=America/Vancouver:20250729T190000
DTSTAMP:20260421T084726
CREATED:20250725T211651Z
LAST-MODIFIED:20250725T211651Z
UID:10000064-1753808400-1753815600@lscss.com
SUMMARY:Board Social and Potluck
DESCRIPTION:  \n\n\n\n\n\n\n\nStaff-only event but guests are welcome so feel free to bring your partner or family! \nIts a potluck – please bring a dish to share!
URL:https://lscss.com/event/board-social-and-potluck/
LOCATION:Ambrosia Gathering Place\, 715 7th Street\, Keremeos\, BC\, V0X 1N3\, Canada
CATEGORIES:Staff Only
END:VEVENT
BEGIN:VEVENT
DTSTART;TZID=America/Vancouver:20250729T140000
DTEND;TZID=America/Vancouver:20250729T153000
DTSTAMP:20260421T084726
CREATED:20250722T204611Z
LAST-MODIFIED:20250922T210821Z
UID:10000030-1753797600-1753803000@lscss.com
SUMMARY:JAVA Social
DESCRIPTION:JAVA Social is a weekly conversation group for seniors.  We rotate between 4 locations to make attendance easier!  Each meeting is a facilitated discussion exploring a topic that the group votes as most important to them.  Facilitated discussion lasts 1 hour\, and we also have time to chat amongst ourselves afterward.  
URL:https://lscss.com/event/java-social-2/2025-07-29/
LOCATION:Ambrosia Gathering Place\, 715 7th Street\, Keremeos\, BC\, V0X 1N3\, Canada
CATEGORIES:JAVA Social
ORGANIZER;CN="Patti Hillman":MAILTO:volunteercoord@lscss.com
END:VEVENT
BEGIN:VEVENT
DTSTART;TZID=America/Vancouver:20250729T110000
DTEND;TZID=America/Vancouver:20250729T123000
DTSTAMP:20260421T084726
CREATED:20250729T154611Z
LAST-MODIFIED:20250729T224657Z
UID:10000065-1753786800-1753792200@lscss.com
SUMMARY:Lower Similkameen Social Impact Network
DESCRIPTION:“Your Voice Matters-Setting Priorities for the Future of Our Community” \nThis is to gather community feedback on key issues affecting the village \nClick Here
URL:https://lscss.com/event/lower-similkameen-social-impact-network/
LOCATION:Ambrosia Gathering Place\, 715 7th Street\, Keremeos\, BC\, V0X 1N3\, Canada
CATEGORIES:Community Connectors
ORGANIZER;CN="Community Connector-Sharon":MAILTO:connector@lscss.com
END:VEVENT
BEGIN:VEVENT
DTSTART;TZID=America/Vancouver:20250729T100000
DTEND;TZID=America/Vancouver:20250729T120000
DTSTAMP:20260421T084726
CREATED:20250723T180919Z
LAST-MODIFIED:20250805T202144Z
UID:10000051-1753783200-1753790400@lscss.com
SUMMARY:Tumble Bumble-Early Years
DESCRIPTION:Tumble Bumble is a drop-in indoor play program for children from birth – 6 years and their parents/caregivers (older siblings are welcome). Children can cruise\, climb\, slide\, jump and meet new children\, while exploring a wide variety of equipment. These include\, trikes\, scooters\, plasma bikes\, tunnels\, a slide\, “ride em” vehicles such as police cars\, and fire trucks\, a bounce castle\, basketball\, bowling as well as balls\, mats\, and various sizes and shapes of gymnastics foam structures. This environment provides an opportunity to connect and socialize while also providing opportunity to improve gross and fine motor skills. It also provides a place for parents and caregivers to connect and share experiences. An infant area with developmentally appropriate toys is set up so that all ages are included in this fun program!
URL:https://lscss.com/event/tumble-bumble/2025-07-29/
LOCATION:Legion Hall\, 510 Veterans Av\, Keremeos\, BC\, V0X 1N3\, Canada
CATEGORIES:Early years
ORGANIZER;CN="Jocelyn Reaume":MAILTO:capc@lscss.com
END:VEVENT
BEGIN:VEVENT
DTSTART;TZID=America/Vancouver:20250728T130000
DTEND;TZID=America/Vancouver:20250728T140000
DTSTAMP:20260421T084726
CREATED:20250723T183118Z
LAST-MODIFIED:20250723T183444Z
UID:10000057-1753707600-1753711200@lscss.com
SUMMARY:DBT Skills Practice
DESCRIPTION:DBT\, or Dialectical Behavior Therapy\, is a type of talk therapy that teaches practical skills to help manage emotions and build healthier relationships.
URL:https://lscss.com/event/dbt-skills-practice/
LOCATION:Ambrosia Gathering Place\, 715 7th Street\, Keremeos\, BC\, V0X 1N3\, Canada
CATEGORIES:Mental Health
END:VEVENT
BEGIN:VEVENT
DTSTART;TZID=America/Vancouver:20250728T100000
DTEND;TZID=America/Vancouver:20250728T123000
DTSTAMP:20260421T084726
CREATED:20250723T180555Z
LAST-MODIFIED:20250723T181733Z
UID:10000049-1753696800-1753705800@lscss.com
SUMMARY:Parenting and Prenatal Program
DESCRIPTION:
URL:https://lscss.com/event/parenting-and-prenatal-program/
LOCATION:Family room\, 310 Veterans Ave\, Keremeos\, BC\, V0X 1N3\, Canada
CATEGORIES:Children and Family,Early years
ORGANIZER;CN="Jocelyn Reaume":MAILTO:capc@lscss.com
END:VEVENT
BEGIN:VEVENT
DTSTART;TZID=America/Vancouver:20250725T160000
DTEND;TZID=America/Vancouver:20250725T190000
DTSTAMP:20260421T084726
CREATED:20250725T165219Z
LAST-MODIFIED:20250725T165335Z
UID:10000063-1753459200-1753470000@lscss.com
SUMMARY:LSCSS at the Friday Night Market
DESCRIPTION:Come see us at Memorial park! \nWe will have a table set up and Volunteers ready to answer your questions\, Want to become a volunteer? Now’s the time! we always need more and our table will have all the information you need to decide what’s right for you. \nFood and other vendors will be there until 7pm
URL:https://lscss.com/event/lscss-at-the-friday-night-market/
LOCATION:Memorial park\, 417 7th Ave\, Keremeos\, BC\, V0X 1N3\, Canada
CATEGORIES:Volunteers
END:VEVENT
BEGIN:VEVENT
DTSTART;TZID=America/Vancouver:20250725T160000
DTEND;TZID=America/Vancouver:20250725T170000
DTSTAMP:20260421T084726
CREATED:20250723T175045Z
LAST-MODIFIED:20250723T204539Z
UID:10000045-1753459200-1753462800@lscss.com
SUMMARY:TechSavvy at the Library
DESCRIPTION:REGISTRATION REQUIRED \nOpen topic\, bring your charged devices and your techy questions!
URL:https://lscss.com/event/techsavvy-at-the-library/2025-07-25/
LOCATION:Keremeos Library\, 638 7th Ave\, Keremeos\, BC\, V0X 1N3\, Canada
CATEGORIES:Tech Savvy
ATTACH;FMTTYPE=image/webp:https://lscss.com/wp-content/uploads/2025/07/Techsavvy-at-library.webp
ORGANIZER;CN="Lisa Shields":MAILTO:TechSavvy@lscss.com
END:VEVENT
END:VCALENDAR