BEGIN:VCALENDAR
VERSION:2.0
PRODID:-//Lower Similkameen Community Services Society - ECPv6.15.20//NONSGML v1.0//EN
CALSCALE:GREGORIAN
METHOD:PUBLISH
X-ORIGINAL-URL:https://lscss.com
X-WR-CALDESC:Events for Lower Similkameen Community Services Society
REFRESH-INTERVAL;VALUE=DURATION:PT1H
X-Robots-Tag:noindex
X-PUBLISHED-TTL:PT1H
BEGIN:VTIMEZONE
TZID:America/Vancouver
BEGIN:DAYLIGHT
TZOFFSETFROM:-0800
TZOFFSETTO:-0700
TZNAME:PDT
DTSTART:20240310T100000
END:DAYLIGHT
BEGIN:STANDARD
TZOFFSETFROM:-0700
TZOFFSETTO:-0800
TZNAME:PST
DTSTART:20241103T090000
END:STANDARD
BEGIN:DAYLIGHT
TZOFFSETFROM:-0800
TZOFFSETTO:-0700
TZNAME:PDT
DTSTART:20250309T100000
END:DAYLIGHT
BEGIN:STANDARD
TZOFFSETFROM:-0700
TZOFFSETTO:-0800
TZNAME:PST
DTSTART:20251102T090000
END:STANDARD
BEGIN:DAYLIGHT
TZOFFSETFROM:-0800
TZOFFSETTO:-0700
TZNAME:PDT
DTSTART:20260308T100000
END:DAYLIGHT
BEGIN:STANDARD
TZOFFSETFROM:-0700
TZOFFSETTO:-0800
TZNAME:PST
DTSTART:20261101T090000
END:STANDARD
END:VTIMEZONE
BEGIN:VEVENT
DTSTART;TZID=America/Vancouver:20251203T090000
DTEND;TZID=America/Vancouver:20251203T150000
DTSTAMP:20260422T063312
CREATED:20251118T180129Z
LAST-MODIFIED:20251118T182453Z
UID:10000232-1764752400-1764774000@lscss.com
SUMMARY:Adult Day Service-Spa Day and Movie
DESCRIPTION:Adult Day Services (ADS) is designed to support seniors\, and their caregivers\, who are at risk of losing their independence\, so they can remain in their homes and community. \nWhat does it include? \nADS provides a range of health\, social and therapeutic recreational activities to help improve and maintain the well-being of older adults in a safe and caring environment. \nServices include: \n\nA nutritious lunch\nPhysical activity\nProfessional health-care services\nRecreational activities such as music\, games\, crafts\, outings\, and so much more\nSocial opportunities\n\nADS is also designed with care givers in mind to provide respite and community support.
URL:https://lscss.com/event/adult-day-service/
LOCATION:Ambrosia Gathering Place\, 715 7th Street\, Keremeos\, BC\, V0X 1N3\, Canada
CATEGORIES:Seniors
ORGANIZER;CN="Candice Robertson":MAILTO:adp@lscss.com
END:VEVENT
BEGIN:VEVENT
DTSTART;TZID=America/Vancouver:20251205T090000
DTEND;TZID=America/Vancouver:20251205T150000
DTSTAMP:20260422T063312
CREATED:20251118T183006Z
LAST-MODIFIED:20251118T183006Z
UID:10000244-1764925200-1764946800@lscss.com
SUMMARY:Adult Day Service-Bingo
DESCRIPTION:Adult Day Services (ADS) is designed to support seniors\, and their caregivers\, who are at risk of losing their independence\, so they can remain in their homes and community. \nWhat does it include? \nADS provides a range of health\, social and therapeutic recreational activities to help improve and maintain the well-being of older adults in a safe and caring environment. \nServices include: \n\nA nutritious lunch\nPhysical activity\nProfessional health-care services\nRecreational activities such as music\, games\, crafts\, outings\, and so much more\nSocial opportunities\n\nADS is also designed with care givers in mind to provide respite and community support.
URL:https://lscss.com/event/adult-day-service-bingo/
LOCATION:Ambrosia Gathering Place\, 715 7th Street\, Keremeos\, BC\, V0X 1N3\, Canada
CATEGORIES:Seniors
ORGANIZER;CN="Candice Robertson":MAILTO:adp@lscss.com
END:VEVENT
BEGIN:VEVENT
DTSTART;TZID=America/Vancouver:20251210T090000
DTEND;TZID=America/Vancouver:20251210T150000
DTSTAMP:20260422T063312
CREATED:20251118T182419Z
LAST-MODIFIED:20251118T182419Z
UID:10000241-1765357200-1765378800@lscss.com
SUMMARY:Adult Day Service-Crafting with Clay Pots
DESCRIPTION:Adult Day Services (ADS) is designed to support seniors\, and their caregivers\, who are at risk of losing their independence\, so they can remain in their homes and community. \nWhat does it include? \nADS provides a range of health\, social and therapeutic recreational activities to help improve and maintain the well-being of older adults in a safe and caring environment. \nServices include: \n\nA nutritious lunch\nPhysical activity\nProfessional health-care services\nRecreational activities such as music\, games\, crafts\, outings\, and so much more\nSocial opportunities\n\nADS is also designed with care givers in mind to provide respite and community support.
URL:https://lscss.com/event/adult-day-service-crafting-with-clay-pots/
LOCATION:Ambrosia Gathering Place\, 715 7th Street\, Keremeos\, BC\, V0X 1N3\, Canada
CATEGORIES:Seniors
ORGANIZER;CN="Candice Robertson":MAILTO:adp@lscss.com
END:VEVENT
BEGIN:VEVENT
DTSTART;TZID=America/Vancouver:20251212T090000
DTEND;TZID=America/Vancouver:20251212T150000
DTSTAMP:20260422T063312
CREATED:20251118T183142Z
LAST-MODIFIED:20251118T183142Z
UID:10000246-1765530000-1765551600@lscss.com
SUMMARY:Adult Day Service-Bingo
DESCRIPTION:Adult Day Services (ADS) is designed to support seniors\, and their caregivers\, who are at risk of losing their independence\, so they can remain in their homes and community. \nWhat does it include? \nADS provides a range of health\, social and therapeutic recreational activities to help improve and maintain the well-being of older adults in a safe and caring environment. \nServices include: \n\nA nutritious lunch\nPhysical activity\nProfessional health-care services\nRecreational activities such as music\, games\, crafts\, outings\, and so much more\nSocial opportunities\n\nADS is also designed with care givers in mind to provide respite and community support.
URL:https://lscss.com/event/adult-day-service-bingo-2/2025-12-12/
LOCATION:Ambrosia Gathering Place\, 715 7th Street\, Keremeos\, BC\, V0X 1N3\, Canada
CATEGORIES:Seniors
ORGANIZER;CN="Candice Robertson":MAILTO:adp@lscss.com
END:VEVENT
BEGIN:VEVENT
DTSTART;TZID=America/Vancouver:20251214T140000
DTEND;TZID=America/Vancouver:20251214T160000
DTSTAMP:20260422T063312
CREATED:20251202T164149Z
LAST-MODIFIED:20251208T211855Z
UID:10000265-1765720800-1765728000@lscss.com
SUMMARY:Tech Savvy Presents: Online Streaming Services
DESCRIPTION:Entertainment Streaming\nLearn how to stream your favorite entertainment\, Music\, Movies\, and Series!!\nFor more information’s call Tech Savvy at 250-499-9510
URL:https://lscss.com/event/tech-savvy-presents-entertainment-streaming/
LOCATION:Ambrosia Gathering Place\, 715 7th Street\, Keremeos\, BC\, V0X 1N3\, Canada
CATEGORIES:Tech Savvy
ATTACH;FMTTYPE=image/webp:https://lscss.com/wp-content/uploads/2025/12/TSS-Entertainment-1.webp
ORGANIZER;CN="Lisa Shields":MAILTO:TechSavvy@lscss.com
END:VEVENT
BEGIN:VEVENT
DTSTART;TZID=America/Vancouver:20251217T090000
DTEND;TZID=America/Vancouver:20251217T150000
DTSTAMP:20260422T063312
CREATED:20251118T182605Z
LAST-MODIFIED:20251118T182605Z
UID:10000242-1765962000-1765983600@lscss.com
SUMMARY:Adult Day Service-Christmas Wreath Craft
DESCRIPTION:Adult Day Services (ADS) is designed to support seniors\, and their caregivers\, who are at risk of losing their independence\, so they can remain in their homes and community. \nWhat does it include? \nADS provides a range of health\, social and therapeutic recreational activities to help improve and maintain the well-being of older adults in a safe and caring environment. \nServices include: \n\nA nutritious lunch\nPhysical activity\nProfessional health-care services\nRecreational activities such as music\, games\, crafts\, outings\, and so much more\nSocial opportunities\n\nADS is also designed with care givers in mind to provide respite and community support.
URL:https://lscss.com/event/adult-day-service-christmas-wreath-craft/
LOCATION:Ambrosia Gathering Place\, 715 7th Street\, Keremeos\, BC\, V0X 1N3\, Canada
CATEGORIES:Seniors
ORGANIZER;CN="Candice Robertson":MAILTO:adp@lscss.com
END:VEVENT
BEGIN:VEVENT
DTSTART;TZID=America/Vancouver:20251219T090000
DTEND;TZID=America/Vancouver:20251219T150000
DTSTAMP:20260422T063312
CREATED:20251118T183142Z
LAST-MODIFIED:20251118T183142Z
UID:10000247-1766134800-1766156400@lscss.com
SUMMARY:Adult Day Service-Bingo
DESCRIPTION:Adult Day Services (ADS) is designed to support seniors\, and their caregivers\, who are at risk of losing their independence\, so they can remain in their homes and community. \nWhat does it include? \nADS provides a range of health\, social and therapeutic recreational activities to help improve and maintain the well-being of older adults in a safe and caring environment. \nServices include: \n\nA nutritious lunch\nPhysical activity\nProfessional health-care services\nRecreational activities such as music\, games\, crafts\, outings\, and so much more\nSocial opportunities\n\nADS is also designed with care givers in mind to provide respite and community support.
URL:https://lscss.com/event/adult-day-service-bingo-2/2025-12-19/
LOCATION:Ambrosia Gathering Place\, 715 7th Street\, Keremeos\, BC\, V0X 1N3\, Canada
CATEGORIES:Seniors
ORGANIZER;CN="Candice Robertson":MAILTO:adp@lscss.com
END:VEVENT
BEGIN:VEVENT
DTSTART;TZID=America/Vancouver:20251224T090000
DTEND;TZID=America/Vancouver:20251224T150000
DTSTAMP:20260422T063312
CREATED:20251118T182730Z
LAST-MODIFIED:20251118T182846Z
UID:10000243-1766566800-1766588400@lscss.com
SUMMARY:Adult Day Service-Christmas Lunch and Bingo
DESCRIPTION:Adult Day Services (ADS) is designed to support seniors\, and their caregivers\, who are at risk of losing their independence\, so they can remain in their homes and community. \nWhat does it include? \nADS provides a range of health\, social and therapeutic recreational activities to help improve and maintain the well-being of older adults in a safe and caring environment. \nServices include: \n\nA nutritious lunch\nPhysical activity\nProfessional health-care services\nRecreational activities such as music\, games\, crafts\, outings\, and so much more\nSocial opportunities\n\nADS is also designed with care givers in mind to provide respite and community support.
URL:https://lscss.com/event/adult-day-service-christmas-lunch-and-bingo/
LOCATION:Ambrosia Gathering Place\, 715 7th Street\, Keremeos\, BC\, V0X 1N3\, Canada
CATEGORIES:Seniors
ORGANIZER;CN="Candice Robertson":MAILTO:adp@lscss.com
END:VEVENT
END:VCALENDAR