BEGIN:VCALENDAR
VERSION:2.0
PRODID:-//Lower Similkameen Community Services Society - ECPv6.15.20//NONSGML v1.0//EN
CALSCALE:GREGORIAN
METHOD:PUBLISH
X-WR-CALNAME:Lower Similkameen Community Services Society
X-ORIGINAL-URL:https://lscss.com
X-WR-CALDESC:Events for Lower Similkameen Community Services Society
REFRESH-INTERVAL;VALUE=DURATION:PT1H
X-Robots-Tag:noindex
X-PUBLISHED-TTL:PT1H
BEGIN:VTIMEZONE
TZID:America/Vancouver
BEGIN:DAYLIGHT
TZOFFSETFROM:-0800
TZOFFSETTO:-0700
TZNAME:PDT
DTSTART:20240310T100000
END:DAYLIGHT
BEGIN:STANDARD
TZOFFSETFROM:-0700
TZOFFSETTO:-0800
TZNAME:PST
DTSTART:20241103T090000
END:STANDARD
BEGIN:DAYLIGHT
TZOFFSETFROM:-0800
TZOFFSETTO:-0700
TZNAME:PDT
DTSTART:20250309T100000
END:DAYLIGHT
BEGIN:STANDARD
TZOFFSETFROM:-0700
TZOFFSETTO:-0800
TZNAME:PST
DTSTART:20251102T090000
END:STANDARD
BEGIN:DAYLIGHT
TZOFFSETFROM:-0800
TZOFFSETTO:-0700
TZNAME:PDT
DTSTART:20260308T100000
END:DAYLIGHT
BEGIN:STANDARD
TZOFFSETFROM:-0700
TZOFFSETTO:-0800
TZNAME:PST
DTSTART:20261101T090000
END:STANDARD
END:VTIMEZONE
BEGIN:VEVENT
DTSTART;TZID=America/Vancouver:20250921T140000
DTEND;TZID=America/Vancouver:20250921T160000
DTSTAMP:20260422T155026
CREATED:20250902T154013Z
LAST-MODIFIED:20250902T155608Z
UID:10000124-1758463200-1758470400@lscss.com
SUMMARY:How AI is Changing the World
DESCRIPTION:Tech Savvy Similkameen Presents\nHow AI is Changing the World\nPresented by Sarah Bain\, AI & Cloud Specialist
URL:https://lscss.com/event/how-ai-is-changing-the-world/
LOCATION:Ambrosia Gathering Place\, 715 7th Street\, Keremeos\, BC\, V0X 1N3\, Canada
CATEGORIES:Tech Savvy
ATTACH;FMTTYPE=image/webp:https://lscss.com/wp-content/uploads/2025/09/TS-AI-Sept-21.webp
ORGANIZER;CN="Lisa Shields":MAILTO:TechSavvy@lscss.com
END:VEVENT
BEGIN:VEVENT
DTSTART;TZID=America/Vancouver:20250922T140000
DTEND;TZID=America/Vancouver:20250922T153000
DTSTAMP:20260422T155026
CREATED:20250922T211209Z
LAST-MODIFIED:20250922T211209Z
UID:10000164-1758549600-1758555000@lscss.com
SUMMARY:Craft at Kyalami
DESCRIPTION:Decoupage pumpkins
URL:https://lscss.com/event/craft-at-kyalami-2/
LOCATION:Lower Similkameen Community Services Society\, 715-7th Street\, Keremeos\, British Columbia\, V0X 1N3\, Canada
CATEGORIES:Community events,Mental Health,Seniors
ORGANIZER;CN="Jenn Nelson":MAILTO:finance@lscss.com
END:VEVENT
BEGIN:VEVENT
DTSTART;TZID=America/Vancouver:20250926T160000
DTEND;TZID=America/Vancouver:20250926T170000
DTSTAMP:20260422T155026
CREATED:20250723T175045Z
LAST-MODIFIED:20250723T204539Z
UID:10000047-1758902400-1758906000@lscss.com
SUMMARY:TechSavvy at the Library
DESCRIPTION:REGISTRATION REQUIRED \nOpen topic\, bring your charged devices and your techy questions!
URL:https://lscss.com/event/techsavvy-at-the-library/2025-09-26/
LOCATION:Keremeos Library\, 638 7th Ave\, Keremeos\, BC\, V0X 1N3\, Canada
CATEGORIES:Tech Savvy
ATTACH;FMTTYPE=image/webp:https://lscss.com/wp-content/uploads/2025/07/Techsavvy-at-library.webp
ORGANIZER;CN="Lisa Shields":MAILTO:TechSavvy@lscss.com
END:VEVENT
END:VCALENDAR