BEGIN:VCALENDAR
VERSION:2.0
PRODID:-//Lower Similkameen Community Services Society - ECPv6.15.20//NONSGML v1.0//EN
CALSCALE:GREGORIAN
METHOD:PUBLISH
X-ORIGINAL-URL:https://lscss.com
X-WR-CALDESC:Events for Lower Similkameen Community Services Society
REFRESH-INTERVAL;VALUE=DURATION:PT1H
X-Robots-Tag:noindex
X-PUBLISHED-TTL:PT1H
BEGIN:VTIMEZONE
TZID:America/Vancouver
BEGIN:DAYLIGHT
TZOFFSETFROM:-0800
TZOFFSETTO:-0700
TZNAME:PDT
DTSTART:20250309T100000
END:DAYLIGHT
BEGIN:STANDARD
TZOFFSETFROM:-0700
TZOFFSETTO:-0800
TZNAME:PST
DTSTART:20251102T090000
END:STANDARD
BEGIN:DAYLIGHT
TZOFFSETFROM:-0800
TZOFFSETTO:-0700
TZNAME:PDT
DTSTART:20260308T100000
END:DAYLIGHT
BEGIN:STANDARD
TZOFFSETFROM:-0700
TZOFFSETTO:-0800
TZNAME:PST
DTSTART:20261101T090000
END:STANDARD
BEGIN:DAYLIGHT
TZOFFSETFROM:-0800
TZOFFSETTO:-0700
TZNAME:PDT
DTSTART:20270314T100000
END:DAYLIGHT
BEGIN:STANDARD
TZOFFSETFROM:-0700
TZOFFSETTO:-0800
TZNAME:PST
DTSTART:20271107T090000
END:STANDARD
END:VTIMEZONE
BEGIN:VEVENT
DTSTART;TZID=America/Vancouver:20260224T140000
DTEND;TZID=America/Vancouver:20260224T153000
DTSTAMP:20260419T203427
CREATED:20260130T170007Z
LAST-MODIFIED:20260130T184718Z
UID:10000340-1771941600-1771947000@lscss.com
SUMMARY:JAVA Social
DESCRIPTION:JAVA Social is a weekly conversation group for seniors. \nWe rotate between 4 locations to make attendance easier!  Each meeting is a facilitated discussion exploring a topic that the group votes as most important to them. \nFacilitated discussion lasts 1 hour\, and we also have time to chat amongst ourselves afterward.
URL:https://lscss.com/event/java-social-13/
LOCATION:Mountain View Manor\, 412 12th Avenue\, keremeos\, British Columbia\, V0X1N3\, Canada
CATEGORIES:JAVA Social
ORGANIZER;CN="Signe Percevault":MAILTO:stv@lscss.com
END:VEVENT
END:VCALENDAR