BEGIN:VCALENDAR
VERSION:2.0
PRODID:-//Lower Similkameen Community Services Society - ECPv6.15.20//NONSGML v1.0//EN
CALSCALE:GREGORIAN
METHOD:PUBLISH
X-ORIGINAL-URL:https://lscss.com
X-WR-CALDESC:Events for Lower Similkameen Community Services Society
REFRESH-INTERVAL;VALUE=DURATION:PT1H
X-Robots-Tag:noindex
X-PUBLISHED-TTL:PT1H
BEGIN:VTIMEZONE
TZID:America/Vancouver
BEGIN:DAYLIGHT
TZOFFSETFROM:-0800
TZOFFSETTO:-0700
TZNAME:PDT
DTSTART:20240310T100000
END:DAYLIGHT
BEGIN:STANDARD
TZOFFSETFROM:-0700
TZOFFSETTO:-0800
TZNAME:PST
DTSTART:20241103T090000
END:STANDARD
BEGIN:DAYLIGHT
TZOFFSETFROM:-0800
TZOFFSETTO:-0700
TZNAME:PDT
DTSTART:20250309T100000
END:DAYLIGHT
BEGIN:STANDARD
TZOFFSETFROM:-0700
TZOFFSETTO:-0800
TZNAME:PST
DTSTART:20251102T090000
END:STANDARD
BEGIN:DAYLIGHT
TZOFFSETFROM:-0800
TZOFFSETTO:-0700
TZNAME:PDT
DTSTART:20260308T100000
END:DAYLIGHT
BEGIN:STANDARD
TZOFFSETFROM:-0700
TZOFFSETTO:-0800
TZNAME:PST
DTSTART:20261101T090000
END:STANDARD
END:VTIMEZONE
BEGIN:VEVENT
DTSTART;TZID=America/Vancouver:20251104T100000
DTEND;TZID=America/Vancouver:20251104T120000
DTSTAMP:20260423T044302
CREATED:20251103T175018Z
LAST-MODIFIED:20260105T174624Z
UID:10000188-1762250400-1762257600@lscss.com
SUMMARY:Tumble Bumble with Early Years
DESCRIPTION:Tumble Bumble is a drop-in indoor play program for children from birth – 6 years and their parents/caregivers (older siblings are welcome). Children can cruise\, climb\, slide\, jump and meet new children\, while exploring a wide variety of equipment. These include\, trikes\, scooters\, plasma bikes\, tunnels\, a slide\, “ride em” vehicles such as police cars\, and fire trucks\, a bounce castle\, basketball\, bowling as well as balls\, mats\, and various sizes and shapes of gymnastics foam structures. This environment provides an opportunity to connect and socialize while also providing opportunity to improve gross and fine motor skills. It also provides a place for parents and caregivers to connect and share experiences. An infant area with developmentally appropriate toys is set up so that all ages are included in this fun program!
URL:https://lscss.com/event/tumble-bumble-with-early-years/2025-11-04/
LOCATION:Legion Hall\, 510 Veterans Av\, Keremeos\, BC\, V0X 1N3\, Canada
CATEGORIES:Early years
ORGANIZER;CN="Jocelyn Reaume":MAILTO:capc@lscss.com
END:VEVENT
BEGIN:VEVENT
DTSTART;TZID=America/Vancouver:20251105T093000
DTEND;TZID=America/Vancouver:20251105T123000
DTSTAMP:20260423T044302
CREATED:20251103T180130Z
LAST-MODIFIED:20251103T180245Z
UID:10000198-1762335000-1762345800@lscss.com
SUMMARY:Come Play- At the Family Centre
DESCRIPTION:
URL:https://lscss.com/event/come-play-at-the-family-centre/2025-11-05/
LOCATION:Family room\, 310 Veterans Ave\, Keremeos\, BC\, V0X 1N3\, Canada
CATEGORIES:Children and Family,Early years
ORGANIZER;CN="Jocelyn Reaume":MAILTO:capc@lscss.com
END:VEVENT
BEGIN:VEVENT
DTSTART;TZID=America/Vancouver:20251106T100000
DTEND;TZID=America/Vancouver:20251106T120000
DTSTAMP:20260423T044302
CREATED:20251103T175018Z
LAST-MODIFIED:20260105T174624Z
UID:10000189-1762423200-1762430400@lscss.com
SUMMARY:Tumble Bumble with Early Years
DESCRIPTION:Tumble Bumble is a drop-in indoor play program for children from birth – 6 years and their parents/caregivers (older siblings are welcome). Children can cruise\, climb\, slide\, jump and meet new children\, while exploring a wide variety of equipment. These include\, trikes\, scooters\, plasma bikes\, tunnels\, a slide\, “ride em” vehicles such as police cars\, and fire trucks\, a bounce castle\, basketball\, bowling as well as balls\, mats\, and various sizes and shapes of gymnastics foam structures. This environment provides an opportunity to connect and socialize while also providing opportunity to improve gross and fine motor skills. It also provides a place for parents and caregivers to connect and share experiences. An infant area with developmentally appropriate toys is set up so that all ages are included in this fun program!
URL:https://lscss.com/event/tumble-bumble-with-early-years/2025-11-06/
LOCATION:Legion Hall\, 510 Veterans Av\, Keremeos\, BC\, V0X 1N3\, Canada
CATEGORIES:Early years
ORGANIZER;CN="Jocelyn Reaume":MAILTO:capc@lscss.com
END:VEVENT
BEGIN:VEVENT
DTSTART;TZID=America/Vancouver:20251107T100000
DTEND;TZID=America/Vancouver:20251107T120000
DTSTAMP:20260423T044302
CREATED:20251103T180849Z
LAST-MODIFIED:20260202T163802Z
UID:10000206-1762509600-1762516800@lscss.com
SUMMARY:Ntamtquen Community Gardens LSIB + Early Years
DESCRIPTION:With Early Years and LSIB \n 
URL:https://lscss.com/event/ntamtquen-community-gardens/2025-11-07/
LOCATION:Ntamtquen Garden
CATEGORIES:Children and Family,Early years
ORGANIZER;CN="Jocelyn Reaume":MAILTO:capc@lscss.com
END:VEVENT
BEGIN:VEVENT
DTSTART;TZID=America/Vancouver:20251111T100000
DTEND;TZID=America/Vancouver:20251111T120000
DTSTAMP:20260423T044302
CREATED:20251103T175018Z
LAST-MODIFIED:20260105T174624Z
UID:10000291-1762855200-1762862400@lscss.com
SUMMARY:Tumble Bumble with Early Years
DESCRIPTION:Tumble Bumble is a drop-in indoor play program for children from birth – 6 years and their parents/caregivers (older siblings are welcome). Children can cruise\, climb\, slide\, jump and meet new children\, while exploring a wide variety of equipment. These include\, trikes\, scooters\, plasma bikes\, tunnels\, a slide\, “ride em” vehicles such as police cars\, and fire trucks\, a bounce castle\, basketball\, bowling as well as balls\, mats\, and various sizes and shapes of gymnastics foam structures. This environment provides an opportunity to connect and socialize while also providing opportunity to improve gross and fine motor skills. It also provides a place for parents and caregivers to connect and share experiences. An infant area with developmentally appropriate toys is set up so that all ages are included in this fun program!
URL:https://lscss.com/event/tumble-bumble-with-early-years/2025-11-11/
LOCATION:Legion Hall\, 510 Veterans Av\, Keremeos\, BC\, V0X 1N3\, Canada
CATEGORIES:Early years
ORGANIZER;CN="Jocelyn Reaume":MAILTO:capc@lscss.com
END:VEVENT
BEGIN:VEVENT
DTSTART;TZID=America/Vancouver:20251112T093000
DTEND;TZID=America/Vancouver:20251112T123000
DTSTAMP:20260423T044302
CREATED:20251103T180130Z
LAST-MODIFIED:20251103T180245Z
UID:10000199-1762939800-1762950600@lscss.com
SUMMARY:Come Play- At the Family Centre
DESCRIPTION:
URL:https://lscss.com/event/come-play-at-the-family-centre/2025-11-12/
LOCATION:Family room\, 310 Veterans Ave\, Keremeos\, BC\, V0X 1N3\, Canada
CATEGORIES:Children and Family,Early years
ORGANIZER;CN="Jocelyn Reaume":MAILTO:capc@lscss.com
END:VEVENT
BEGIN:VEVENT
DTSTART;TZID=America/Vancouver:20251113T100000
DTEND;TZID=America/Vancouver:20251113T120000
DTSTAMP:20260423T044302
CREATED:20251103T175018Z
LAST-MODIFIED:20260105T174624Z
UID:10000190-1763028000-1763035200@lscss.com
SUMMARY:Tumble Bumble with Early Years
DESCRIPTION:Tumble Bumble is a drop-in indoor play program for children from birth – 6 years and their parents/caregivers (older siblings are welcome). Children can cruise\, climb\, slide\, jump and meet new children\, while exploring a wide variety of equipment. These include\, trikes\, scooters\, plasma bikes\, tunnels\, a slide\, “ride em” vehicles such as police cars\, and fire trucks\, a bounce castle\, basketball\, bowling as well as balls\, mats\, and various sizes and shapes of gymnastics foam structures. This environment provides an opportunity to connect and socialize while also providing opportunity to improve gross and fine motor skills. It also provides a place for parents and caregivers to connect and share experiences. An infant area with developmentally appropriate toys is set up so that all ages are included in this fun program!
URL:https://lscss.com/event/tumble-bumble-with-early-years/2025-11-13/
LOCATION:Legion Hall\, 510 Veterans Av\, Keremeos\, BC\, V0X 1N3\, Canada
CATEGORIES:Early years
ORGANIZER;CN="Jocelyn Reaume":MAILTO:capc@lscss.com
END:VEVENT
BEGIN:VEVENT
DTSTART;TZID=America/Vancouver:20251114T100000
DTEND;TZID=America/Vancouver:20251114T120000
DTSTAMP:20260423T044302
CREATED:20251103T180849Z
LAST-MODIFIED:20260202T163802Z
UID:10000207-1763114400-1763121600@lscss.com
SUMMARY:Ntamtquen Community Gardens LSIB + Early Years
DESCRIPTION:With Early Years and LSIB \n 
URL:https://lscss.com/event/ntamtquen-community-gardens/2025-11-14/
LOCATION:Ntamtquen Garden
CATEGORIES:Children and Family,Early years
ORGANIZER;CN="Jocelyn Reaume":MAILTO:capc@lscss.com
END:VEVENT
BEGIN:VEVENT
DTSTART;TZID=America/Vancouver:20251118T100000
DTEND;TZID=America/Vancouver:20251118T120000
DTSTAMP:20260423T044302
CREATED:20251103T175018Z
LAST-MODIFIED:20260105T174624Z
UID:10000191-1763460000-1763467200@lscss.com
SUMMARY:Tumble Bumble with Early Years
DESCRIPTION:Tumble Bumble is a drop-in indoor play program for children from birth – 6 years and their parents/caregivers (older siblings are welcome). Children can cruise\, climb\, slide\, jump and meet new children\, while exploring a wide variety of equipment. These include\, trikes\, scooters\, plasma bikes\, tunnels\, a slide\, “ride em” vehicles such as police cars\, and fire trucks\, a bounce castle\, basketball\, bowling as well as balls\, mats\, and various sizes and shapes of gymnastics foam structures. This environment provides an opportunity to connect and socialize while also providing opportunity to improve gross and fine motor skills. It also provides a place for parents and caregivers to connect and share experiences. An infant area with developmentally appropriate toys is set up so that all ages are included in this fun program!
URL:https://lscss.com/event/tumble-bumble-with-early-years/2025-11-18/
LOCATION:Legion Hall\, 510 Veterans Av\, Keremeos\, BC\, V0X 1N3\, Canada
CATEGORIES:Early years
ORGANIZER;CN="Jocelyn Reaume":MAILTO:capc@lscss.com
END:VEVENT
BEGIN:VEVENT
DTSTART;TZID=America/Vancouver:20251119T093000
DTEND;TZID=America/Vancouver:20251119T123000
DTSTAMP:20260423T044302
CREATED:20251103T180130Z
LAST-MODIFIED:20251103T180245Z
UID:10000200-1763544600-1763555400@lscss.com
SUMMARY:Come Play- At the Family Centre
DESCRIPTION:
URL:https://lscss.com/event/come-play-at-the-family-centre/2025-11-19/
LOCATION:Family room\, 310 Veterans Ave\, Keremeos\, BC\, V0X 1N3\, Canada
CATEGORIES:Children and Family,Early years
ORGANIZER;CN="Jocelyn Reaume":MAILTO:capc@lscss.com
END:VEVENT
BEGIN:VEVENT
DTSTART;TZID=America/Vancouver:20251120T100000
DTEND;TZID=America/Vancouver:20251120T120000
DTSTAMP:20260423T044302
CREATED:20251103T175018Z
LAST-MODIFIED:20260105T174624Z
UID:10000192-1763632800-1763640000@lscss.com
SUMMARY:Tumble Bumble with Early Years
DESCRIPTION:Tumble Bumble is a drop-in indoor play program for children from birth – 6 years and their parents/caregivers (older siblings are welcome). Children can cruise\, climb\, slide\, jump and meet new children\, while exploring a wide variety of equipment. These include\, trikes\, scooters\, plasma bikes\, tunnels\, a slide\, “ride em” vehicles such as police cars\, and fire trucks\, a bounce castle\, basketball\, bowling as well as balls\, mats\, and various sizes and shapes of gymnastics foam structures. This environment provides an opportunity to connect and socialize while also providing opportunity to improve gross and fine motor skills. It also provides a place for parents and caregivers to connect and share experiences. An infant area with developmentally appropriate toys is set up so that all ages are included in this fun program!
URL:https://lscss.com/event/tumble-bumble-with-early-years/2025-11-20/
LOCATION:Legion Hall\, 510 Veterans Av\, Keremeos\, BC\, V0X 1N3\, Canada
CATEGORIES:Early years
ORGANIZER;CN="Jocelyn Reaume":MAILTO:capc@lscss.com
END:VEVENT
BEGIN:VEVENT
DTSTART;TZID=America/Vancouver:20251121T100000
DTEND;TZID=America/Vancouver:20251121T120000
DTSTAMP:20260423T044302
CREATED:20251103T180849Z
LAST-MODIFIED:20260202T163802Z
UID:10000208-1763719200-1763726400@lscss.com
SUMMARY:Ntamtquen Community Gardens LSIB + Early Years
DESCRIPTION:With Early Years and LSIB \n 
URL:https://lscss.com/event/ntamtquen-community-gardens/2025-11-21/
LOCATION:Ntamtquen Garden
CATEGORIES:Children and Family,Early years
ORGANIZER;CN="Jocelyn Reaume":MAILTO:capc@lscss.com
END:VEVENT
BEGIN:VEVENT
DTSTART;TZID=America/Vancouver:20251124T160000
DTEND;TZID=America/Vancouver:20251124T190000
DTSTAMP:20260423T044302
CREATED:20251103T175833Z
LAST-MODIFIED:20251103T175833Z
UID:10000197-1764000000-1764010800@lscss.com
SUMMARY:Learning to Make and Can!
DESCRIPTION:Learning to make and can Kashmir Chutney with Lolly Sue \nRegistration Required.\n*Childminding Available*
URL:https://lscss.com/event/learning-to-make-and-can/
LOCATION:Legion Hall\, 510 Veterans Av\, Keremeos\, BC\, V0X 1N3\, Canada
CATEGORIES:Community events,Early years
ORGANIZER;CN="Jocelyn Reaume":MAILTO:capc@lscss.com
END:VEVENT
BEGIN:VEVENT
DTSTART;TZID=America/Vancouver:20251125T100000
DTEND;TZID=America/Vancouver:20251125T120000
DTSTAMP:20260423T044302
CREATED:20251103T175018Z
LAST-MODIFIED:20260105T174624Z
UID:10000193-1764064800-1764072000@lscss.com
SUMMARY:Tumble Bumble with Early Years
DESCRIPTION:Tumble Bumble is a drop-in indoor play program for children from birth – 6 years and their parents/caregivers (older siblings are welcome). Children can cruise\, climb\, slide\, jump and meet new children\, while exploring a wide variety of equipment. These include\, trikes\, scooters\, plasma bikes\, tunnels\, a slide\, “ride em” vehicles such as police cars\, and fire trucks\, a bounce castle\, basketball\, bowling as well as balls\, mats\, and various sizes and shapes of gymnastics foam structures. This environment provides an opportunity to connect and socialize while also providing opportunity to improve gross and fine motor skills. It also provides a place for parents and caregivers to connect and share experiences. An infant area with developmentally appropriate toys is set up so that all ages are included in this fun program!
URL:https://lscss.com/event/tumble-bumble-with-early-years/2025-11-25/
LOCATION:Legion Hall\, 510 Veterans Av\, Keremeos\, BC\, V0X 1N3\, Canada
CATEGORIES:Early years
ORGANIZER;CN="Jocelyn Reaume":MAILTO:capc@lscss.com
END:VEVENT
BEGIN:VEVENT
DTSTART;TZID=America/Vancouver:20251126T093000
DTEND;TZID=America/Vancouver:20251126T123000
DTSTAMP:20260423T044302
CREATED:20251103T180130Z
LAST-MODIFIED:20251103T180245Z
UID:10000201-1764149400-1764160200@lscss.com
SUMMARY:Come Play- At the Family Centre
DESCRIPTION:
URL:https://lscss.com/event/come-play-at-the-family-centre/2025-11-26/
LOCATION:Family room\, 310 Veterans Ave\, Keremeos\, BC\, V0X 1N3\, Canada
CATEGORIES:Children and Family,Early years
ORGANIZER;CN="Jocelyn Reaume":MAILTO:capc@lscss.com
END:VEVENT
BEGIN:VEVENT
DTSTART;TZID=America/Vancouver:20251127T100000
DTEND;TZID=America/Vancouver:20251127T120000
DTSTAMP:20260423T044302
CREATED:20251103T175018Z
LAST-MODIFIED:20260105T174624Z
UID:10000194-1764237600-1764244800@lscss.com
SUMMARY:Tumble Bumble with Early Years
DESCRIPTION:Tumble Bumble is a drop-in indoor play program for children from birth – 6 years and their parents/caregivers (older siblings are welcome). Children can cruise\, climb\, slide\, jump and meet new children\, while exploring a wide variety of equipment. These include\, trikes\, scooters\, plasma bikes\, tunnels\, a slide\, “ride em” vehicles such as police cars\, and fire trucks\, a bounce castle\, basketball\, bowling as well as balls\, mats\, and various sizes and shapes of gymnastics foam structures. This environment provides an opportunity to connect and socialize while also providing opportunity to improve gross and fine motor skills. It also provides a place for parents and caregivers to connect and share experiences. An infant area with developmentally appropriate toys is set up so that all ages are included in this fun program!
URL:https://lscss.com/event/tumble-bumble-with-early-years/2025-11-27/
LOCATION:Legion Hall\, 510 Veterans Av\, Keremeos\, BC\, V0X 1N3\, Canada
CATEGORIES:Early years
ORGANIZER;CN="Jocelyn Reaume":MAILTO:capc@lscss.com
END:VEVENT
BEGIN:VEVENT
DTSTART;TZID=America/Vancouver:20251128T100000
DTEND;TZID=America/Vancouver:20251128T120000
DTSTAMP:20260423T044302
CREATED:20251103T180849Z
LAST-MODIFIED:20260202T163802Z
UID:10000209-1764324000-1764331200@lscss.com
SUMMARY:Ntamtquen Community Gardens LSIB + Early Years
DESCRIPTION:With Early Years and LSIB \n 
URL:https://lscss.com/event/ntamtquen-community-gardens/2025-11-28/
LOCATION:Ntamtquen Garden
CATEGORIES:Children and Family,Early years
ORGANIZER;CN="Jocelyn Reaume":MAILTO:capc@lscss.com
END:VEVENT
END:VCALENDAR