BEGIN:VCALENDAR
VERSION:2.0
PRODID:-//Lower Similkameen Community Services Society - ECPv6.15.20//NONSGML v1.0//EN
CALSCALE:GREGORIAN
METHOD:PUBLISH
X-ORIGINAL-URL:https://lscss.com
X-WR-CALDESC:Events for Lower Similkameen Community Services Society
REFRESH-INTERVAL;VALUE=DURATION:PT1H
X-Robots-Tag:noindex
X-PUBLISHED-TTL:PT1H
BEGIN:VTIMEZONE
TZID:America/Vancouver
BEGIN:DAYLIGHT
TZOFFSETFROM:-0800
TZOFFSETTO:-0700
TZNAME:PDT
DTSTART:20240310T100000
END:DAYLIGHT
BEGIN:STANDARD
TZOFFSETFROM:-0700
TZOFFSETTO:-0800
TZNAME:PST
DTSTART:20241103T090000
END:STANDARD
BEGIN:DAYLIGHT
TZOFFSETFROM:-0800
TZOFFSETTO:-0700
TZNAME:PDT
DTSTART:20250309T100000
END:DAYLIGHT
BEGIN:STANDARD
TZOFFSETFROM:-0700
TZOFFSETTO:-0800
TZNAME:PST
DTSTART:20251102T090000
END:STANDARD
BEGIN:DAYLIGHT
TZOFFSETFROM:-0800
TZOFFSETTO:-0700
TZNAME:PDT
DTSTART:20260308T100000
END:DAYLIGHT
BEGIN:STANDARD
TZOFFSETFROM:-0700
TZOFFSETTO:-0800
TZNAME:PST
DTSTART:20261101T090000
END:STANDARD
END:VTIMEZONE
BEGIN:VEVENT
DTSTART;TZID=America/Vancouver:20251218T100000
DTEND;TZID=America/Vancouver:20251218T120000
DTSTAMP:20260422T145037
CREATED:20251103T175018Z
LAST-MODIFIED:20260105T174624Z
UID:10000262-1766052000-1766059200@lscss.com
SUMMARY:Tumble Bumble with Early Years
DESCRIPTION:Tumble Bumble is a drop-in indoor play program for children from birth – 6 years and their parents/caregivers (older siblings are welcome). Children can cruise\, climb\, slide\, jump and meet new children\, while exploring a wide variety of equipment. These include\, trikes\, scooters\, plasma bikes\, tunnels\, a slide\, “ride em” vehicles such as police cars\, and fire trucks\, a bounce castle\, basketball\, bowling as well as balls\, mats\, and various sizes and shapes of gymnastics foam structures. This environment provides an opportunity to connect and socialize while also providing opportunity to improve gross and fine motor skills. It also provides a place for parents and caregivers to connect and share experiences. An infant area with developmentally appropriate toys is set up so that all ages are included in this fun program!
URL:https://lscss.com/event/tumble-bumble-with-early-years/2025-12-18/
LOCATION:Legion Hall\, 510 Veterans Av\, Keremeos\, BC\, V0X 1N3\, Canada
CATEGORIES:Early years
ORGANIZER;CN="Jocelyn Reaume":MAILTO:capc@lscss.com
END:VEVENT
BEGIN:VEVENT
DTSTART;TZID=America/Vancouver:20251218T103000
DTEND;TZID=America/Vancouver:20251218T130000
DTSTAMP:20260422T145037
CREATED:20251110T213945Z
LAST-MODIFIED:20251110T213945Z
UID:10000226-1766053800-1766062800@lscss.com
SUMMARY:Free Rides to the Food Bank
DESCRIPTION:*PLEASE CALL TO GET INFORMATION*\nPlease call the office at 250.499.2352 or Patti at 250.499.7473
URL:https://lscss.com/event/free-rides-to-the-food-bank/2025-12-18/
LOCATION:Soup Kitchen\, Corner of Veterans Way and 6th Avenue\, Keremeos\, V0X 1N3\, Canada
CATEGORIES:Community events
ORGANIZER;CN="Patti Hillman":MAILTO:volunteercoord@lscss.com
END:VEVENT
BEGIN:VEVENT
DTSTART;TZID=America/Vancouver:20251218T130000
DTEND;TZID=America/Vancouver:20251218T150000
DTSTAMP:20260422T145037
CREATED:20251121T181511Z
LAST-MODIFIED:20251121T181511Z
UID:10000255-1766062800-1766070000@lscss.com
SUMMARY:Holiday Party! RSVP Required
DESCRIPTION:Lunch\, games\, holiday treats! \nRSVP Required\nTo RSVP please contact Signe at stv@lscss.com
URL:https://lscss.com/event/holiday-party-rsvp-required/
LOCATION:Ambrosia Gathering Place\, 715 7th Street\, Keremeos\, BC\, V0X 1N3\, Canada
CATEGORIES:Community events,Mental Health
ORGANIZER;CN="Signe Percevault":MAILTO:stv@lscss.com
END:VEVENT
END:VCALENDAR