BEGIN:VCALENDAR
VERSION:2.0
PRODID:-//Lower Similkameen Community Services Society - ECPv6.15.20//NONSGML v1.0//EN
CALSCALE:GREGORIAN
METHOD:PUBLISH
X-ORIGINAL-URL:https://lscss.com
X-WR-CALDESC:Events for Lower Similkameen Community Services Society
REFRESH-INTERVAL;VALUE=DURATION:PT1H
X-Robots-Tag:noindex
X-PUBLISHED-TTL:PT1H
BEGIN:VTIMEZONE
TZID:America/Vancouver
BEGIN:DAYLIGHT
TZOFFSETFROM:-0800
TZOFFSETTO:-0700
TZNAME:PDT
DTSTART:20240310T100000
END:DAYLIGHT
BEGIN:STANDARD
TZOFFSETFROM:-0700
TZOFFSETTO:-0800
TZNAME:PST
DTSTART:20241103T090000
END:STANDARD
BEGIN:DAYLIGHT
TZOFFSETFROM:-0800
TZOFFSETTO:-0700
TZNAME:PDT
DTSTART:20250309T100000
END:DAYLIGHT
BEGIN:STANDARD
TZOFFSETFROM:-0700
TZOFFSETTO:-0800
TZNAME:PST
DTSTART:20251102T090000
END:STANDARD
BEGIN:DAYLIGHT
TZOFFSETFROM:-0800
TZOFFSETTO:-0700
TZNAME:PDT
DTSTART:20260308T100000
END:DAYLIGHT
BEGIN:STANDARD
TZOFFSETFROM:-0700
TZOFFSETTO:-0800
TZNAME:PST
DTSTART:20261101T090000
END:STANDARD
END:VTIMEZONE
BEGIN:VEVENT
DTSTART;TZID=America/Vancouver:20251217T090000
DTEND;TZID=America/Vancouver:20251217T150000
DTSTAMP:20260422T150259
CREATED:20251118T182605Z
LAST-MODIFIED:20251118T182605Z
UID:10000242-1765962000-1765983600@lscss.com
SUMMARY:Adult Day Service-Christmas Wreath Craft
DESCRIPTION:Adult Day Services (ADS) is designed to support seniors\, and their caregivers\, who are at risk of losing their independence\, so they can remain in their homes and community. \nWhat does it include? \nADS provides a range of health\, social and therapeutic recreational activities to help improve and maintain the well-being of older adults in a safe and caring environment. \nServices include: \n\nA nutritious lunch\nPhysical activity\nProfessional health-care services\nRecreational activities such as music\, games\, crafts\, outings\, and so much more\nSocial opportunities\n\nADS is also designed with care givers in mind to provide respite and community support.
URL:https://lscss.com/event/adult-day-service-christmas-wreath-craft/
LOCATION:Ambrosia Gathering Place\, 715 7th Street\, Keremeos\, BC\, V0X 1N3\, Canada
CATEGORIES:Seniors
ORGANIZER;CN="Candice Robertson":MAILTO:adp@lscss.com
END:VEVENT
BEGIN:VEVENT
DTSTART;TZID=America/Vancouver:20251217T093000
DTEND;TZID=America/Vancouver:20251217T123000
DTSTAMP:20260422T150259
CREATED:20251202T171221Z
LAST-MODIFIED:20251202T171221Z
UID:10000268-1765963800-1765974600@lscss.com
SUMMARY:Come Play at the Family Centre
DESCRIPTION:
URL:https://lscss.com/event/come-play-at-the-family-centre-2/2025-12-17/
LOCATION:Family room\, 310 Veterans Ave\, Keremeos\, BC\, V0X 1N3\, Canada
CATEGORIES:Early years
ORGANIZER;CN="Jocelyn Reaume":MAILTO:capc@lscss.com
END:VEVENT
BEGIN:VEVENT
DTSTART;TZID=America/Vancouver:20251217T160000
DTEND;TZID=America/Vancouver:20251217T190000
DTSTAMP:20260422T150259
CREATED:20251103T180529Z
LAST-MODIFIED:20260213T184238Z
UID:10000351-1765987200-1765998000@lscss.com
SUMMARY:Circle of Security Parenting Program
DESCRIPTION:Registration Required.
URL:https://lscss.com/event/circle-of-security-parenting-program/2025-12-17/
LOCATION:Ambrosia Building\, 715 7th Street\, Keremeos\, BC\, V0X 1N3\, Canada
CATEGORIES:Children and Family
ORGANIZER;CN="Jocelyn Reaume":MAILTO:capc@lscss.com
END:VEVENT
END:VCALENDAR