BEGIN:VCALENDAR
VERSION:2.0
PRODID:-//Lower Similkameen Community Services Society - ECPv6.15.20//NONSGML v1.0//EN
CALSCALE:GREGORIAN
METHOD:PUBLISH
X-WR-CALNAME:Lower Similkameen Community Services Society
X-ORIGINAL-URL:https://lscss.com
X-WR-CALDESC:Events for Lower Similkameen Community Services Society
REFRESH-INTERVAL;VALUE=DURATION:PT1H
X-Robots-Tag:noindex
X-PUBLISHED-TTL:PT1H
BEGIN:VTIMEZONE
TZID:America/Vancouver
BEGIN:DAYLIGHT
TZOFFSETFROM:-0800
TZOFFSETTO:-0700
TZNAME:PDT
DTSTART:20240310T100000
END:DAYLIGHT
BEGIN:STANDARD
TZOFFSETFROM:-0700
TZOFFSETTO:-0800
TZNAME:PST
DTSTART:20241103T090000
END:STANDARD
BEGIN:DAYLIGHT
TZOFFSETFROM:-0800
TZOFFSETTO:-0700
TZNAME:PDT
DTSTART:20250309T100000
END:DAYLIGHT
BEGIN:STANDARD
TZOFFSETFROM:-0700
TZOFFSETTO:-0800
TZNAME:PST
DTSTART:20251102T090000
END:STANDARD
BEGIN:DAYLIGHT
TZOFFSETFROM:-0800
TZOFFSETTO:-0700
TZNAME:PDT
DTSTART:20260308T100000
END:DAYLIGHT
BEGIN:STANDARD
TZOFFSETFROM:-0700
TZOFFSETTO:-0800
TZNAME:PST
DTSTART:20261101T090000
END:STANDARD
END:VTIMEZONE
BEGIN:VEVENT
DTSTART;TZID=America/Vancouver:20251203T090000
DTEND;TZID=America/Vancouver:20251203T150000
DTSTAMP:20260422T200129
CREATED:20251118T180129Z
LAST-MODIFIED:20251118T182453Z
UID:10000232-1764752400-1764774000@lscss.com
SUMMARY:Adult Day Service-Spa Day and Movie
DESCRIPTION:Adult Day Services (ADS) is designed to support seniors\, and their caregivers\, who are at risk of losing their independence\, so they can remain in their homes and community. \nWhat does it include? \nADS provides a range of health\, social and therapeutic recreational activities to help improve and maintain the well-being of older adults in a safe and caring environment. \nServices include: \n\nA nutritious lunch\nPhysical activity\nProfessional health-care services\nRecreational activities such as music\, games\, crafts\, outings\, and so much more\nSocial opportunities\n\nADS is also designed with care givers in mind to provide respite and community support.
URL:https://lscss.com/event/adult-day-service/
LOCATION:Ambrosia Gathering Place\, 715 7th Street\, Keremeos\, BC\, V0X 1N3\, Canada
CATEGORIES:Seniors
ORGANIZER;CN="Candice Robertson":MAILTO:adp@lscss.com
END:VEVENT
BEGIN:VEVENT
DTSTART;TZID=America/Vancouver:20251203T093000
DTEND;TZID=America/Vancouver:20251203T123000
DTSTAMP:20260422T200129
CREATED:20251202T171221Z
LAST-MODIFIED:20251202T171221Z
UID:10000267-1764754200-1764765000@lscss.com
SUMMARY:Come Play at the Family Centre
DESCRIPTION:
URL:https://lscss.com/event/come-play-at-the-family-centre-2/2025-12-03/
LOCATION:Family room\, 310 Veterans Ave\, Keremeos\, BC\, V0X 1N3\, Canada
CATEGORIES:Early years
ORGANIZER;CN="Jocelyn Reaume":MAILTO:capc@lscss.com
END:VEVENT
BEGIN:VEVENT
DTSTART;TZID=America/Vancouver:20251203T160000
DTEND;TZID=America/Vancouver:20251203T190000
DTSTAMP:20260422T200129
CREATED:20251103T180529Z
LAST-MODIFIED:20260213T184238Z
UID:10000349-1764777600-1764788400@lscss.com
SUMMARY:Circle of Security Parenting Program
DESCRIPTION:Registration Required.
URL:https://lscss.com/event/circle-of-security-parenting-program/2025-12-03/
LOCATION:Ambrosia Building\, 715 7th Street\, Keremeos\, BC\, V0X 1N3\, Canada
CATEGORIES:Children and Family
ORGANIZER;CN="Jocelyn Reaume":MAILTO:capc@lscss.com
END:VEVENT
END:VCALENDAR