BEGIN:VCALENDAR
VERSION:2.0
PRODID:-//Lower Similkameen Community Services Society - ECPv6.15.20//NONSGML v1.0//EN
CALSCALE:GREGORIAN
METHOD:PUBLISH
X-ORIGINAL-URL:https://lscss.com
X-WR-CALDESC:Events for Lower Similkameen Community Services Society
REFRESH-INTERVAL;VALUE=DURATION:PT1H
X-Robots-Tag:noindex
X-PUBLISHED-TTL:PT1H
BEGIN:VTIMEZONE
TZID:America/Vancouver
BEGIN:DAYLIGHT
TZOFFSETFROM:-0800
TZOFFSETTO:-0700
TZNAME:PDT
DTSTART:20240310T100000
END:DAYLIGHT
BEGIN:STANDARD
TZOFFSETFROM:-0700
TZOFFSETTO:-0800
TZNAME:PST
DTSTART:20241103T090000
END:STANDARD
BEGIN:DAYLIGHT
TZOFFSETFROM:-0800
TZOFFSETTO:-0700
TZNAME:PDT
DTSTART:20250309T100000
END:DAYLIGHT
BEGIN:STANDARD
TZOFFSETFROM:-0700
TZOFFSETTO:-0800
TZNAME:PST
DTSTART:20251102T090000
END:STANDARD
BEGIN:DAYLIGHT
TZOFFSETFROM:-0800
TZOFFSETTO:-0700
TZNAME:PDT
DTSTART:20260308T100000
END:DAYLIGHT
BEGIN:STANDARD
TZOFFSETFROM:-0700
TZOFFSETTO:-0800
TZNAME:PST
DTSTART:20261101T090000
END:STANDARD
END:VTIMEZONE
BEGIN:VEVENT
DTSTART;TZID=America/Vancouver:20251028T140000
DTEND;TZID=America/Vancouver:20251028T153000
DTSTAMP:20260423T031727
CREATED:20250723T163221Z
LAST-MODIFIED:20250922T211049Z
UID:10000163-1761660000-1761665400@lscss.com
SUMMARY:JAVA Social
DESCRIPTION:JAVA Social is a weekly conversation group for seniors.  We rotate between 4 locations to make attendance easier!  Each meeting is a facilitated discussion exploring a topic that the group votes as most important to them.  Facilitated discussion lasts 1 hour\, and we also have time to chat amongst ourselves afterward.  
URL:https://lscss.com/event/java-social/2025-10-28/
LOCATION:Kyalami\, 720 3rd Street\, Keremeos\, British Columbia\, V0X 1N3\, Canada
CATEGORIES:JAVA Social
ORGANIZER;CN="Patti Hillman":MAILTO:volunteercoord@lscss.com
END:VEVENT
END:VCALENDAR