BEGIN:VCALENDAR
VERSION:2.0
PRODID:-//Lower Similkameen Community Services Society - ECPv6.15.20//NONSGML v1.0//EN
CALSCALE:GREGORIAN
METHOD:PUBLISH
X-ORIGINAL-URL:https://lscss.com
X-WR-CALDESC:Events for Lower Similkameen Community Services Society
REFRESH-INTERVAL;VALUE=DURATION:PT1H
X-Robots-Tag:noindex
X-PUBLISHED-TTL:PT1H
BEGIN:VTIMEZONE
TZID:America/Vancouver
BEGIN:DAYLIGHT
TZOFFSETFROM:-0800
TZOFFSETTO:-0700
TZNAME:PDT
DTSTART:20240310T100000
END:DAYLIGHT
BEGIN:STANDARD
TZOFFSETFROM:-0700
TZOFFSETTO:-0800
TZNAME:PST
DTSTART:20241103T090000
END:STANDARD
BEGIN:DAYLIGHT
TZOFFSETFROM:-0800
TZOFFSETTO:-0700
TZNAME:PDT
DTSTART:20250309T100000
END:DAYLIGHT
BEGIN:STANDARD
TZOFFSETFROM:-0700
TZOFFSETTO:-0800
TZNAME:PST
DTSTART:20251102T090000
END:STANDARD
BEGIN:DAYLIGHT
TZOFFSETFROM:-0800
TZOFFSETTO:-0700
TZNAME:PDT
DTSTART:20260308T100000
END:DAYLIGHT
BEGIN:STANDARD
TZOFFSETFROM:-0700
TZOFFSETTO:-0800
TZNAME:PST
DTSTART:20261101T090000
END:STANDARD
END:VTIMEZONE
BEGIN:VEVENT
DTSTART;TZID=America/Vancouver:20250922T120000
DTEND;TZID=America/Vancouver:20250922T133000
DTSTAMP:20260423T105447
CREATED:20250922T211347Z
LAST-MODIFIED:20250922T211347Z
UID:10000165-1758542400-1758547800@lscss.com
SUMMARY:Lunch Out
DESCRIPTION:Lunch out at Keremeos Community Church soup kitchen
URL:https://lscss.com/event/lunch-out-2/
LOCATION:Lower Similkameen Community Services Society\, 715-7th Street\, Keremeos\, British Columbia\, V0X 1N3\, Canada
CATEGORIES:Community events
ORGANIZER;CN="Jenn Nelson":MAILTO:finance@lscss.com
END:VEVENT
BEGIN:VEVENT
DTSTART;TZID=America/Vancouver:20250922T130000
DTEND;TZID=America/Vancouver:20250922T153000
DTSTAMP:20260423T105447
CREATED:20250828T200123Z
LAST-MODIFIED:20250829T140851Z
UID:10000118-1758546000-1758555000@lscss.com
SUMMARY:Mental Health Movie
DESCRIPTION:Movie: The Truman Show (1998)
URL:https://lscss.com/event/mental-health-movie/
LOCATION:Ambrosia Gathering Place\, 715 7th Street\, Keremeos\, BC\, V0X 1N3\, Canada
CATEGORIES:Mental Health
ORGANIZER;CN="Signe Percevault":MAILTO:stv@lscss.com
END:VEVENT
BEGIN:VEVENT
DTSTART;TZID=America/Vancouver:20250922T140000
DTEND;TZID=America/Vancouver:20250922T153000
DTSTAMP:20260423T105447
CREATED:20250922T211209Z
LAST-MODIFIED:20250922T211209Z
UID:10000164-1758549600-1758555000@lscss.com
SUMMARY:Craft at Kyalami
DESCRIPTION:Decoupage pumpkins
URL:https://lscss.com/event/craft-at-kyalami-2/
LOCATION:Lower Similkameen Community Services Society\, 715-7th Street\, Keremeos\, British Columbia\, V0X 1N3\, Canada
CATEGORIES:Community events,Mental Health,Seniors
ORGANIZER;CN="Jenn Nelson":MAILTO:finance@lscss.com
END:VEVENT
END:VCALENDAR