BEGIN:VCALENDAR
VERSION:2.0
PRODID:-//Lower Similkameen Community Services Society - ECPv6.15.20//NONSGML v1.0//EN
CALSCALE:GREGORIAN
METHOD:PUBLISH
X-ORIGINAL-URL:https://lscss.com
X-WR-CALDESC:Events for Lower Similkameen Community Services Society
REFRESH-INTERVAL;VALUE=DURATION:PT1H
X-Robots-Tag:noindex
X-PUBLISHED-TTL:PT1H
BEGIN:VTIMEZONE
TZID:America/Vancouver
BEGIN:DAYLIGHT
TZOFFSETFROM:-0800
TZOFFSETTO:-0700
TZNAME:PDT
DTSTART:20240310T100000
END:DAYLIGHT
BEGIN:STANDARD
TZOFFSETFROM:-0700
TZOFFSETTO:-0800
TZNAME:PST
DTSTART:20241103T090000
END:STANDARD
BEGIN:DAYLIGHT
TZOFFSETFROM:-0800
TZOFFSETTO:-0700
TZNAME:PDT
DTSTART:20250309T100000
END:DAYLIGHT
BEGIN:STANDARD
TZOFFSETFROM:-0700
TZOFFSETTO:-0800
TZNAME:PST
DTSTART:20251102T090000
END:STANDARD
BEGIN:DAYLIGHT
TZOFFSETFROM:-0800
TZOFFSETTO:-0700
TZNAME:PDT
DTSTART:20260308T100000
END:DAYLIGHT
BEGIN:STANDARD
TZOFFSETFROM:-0700
TZOFFSETTO:-0800
TZNAME:PST
DTSTART:20261101T090000
END:STANDARD
END:VTIMEZONE
BEGIN:VEVENT
DTSTART;TZID=America/Vancouver:20250917T130000
DTEND;TZID=America/Vancouver:20250917T143000
DTSTAMP:20260423T105445
CREATED:20250814T180510Z
LAST-MODIFIED:20250814T180510Z
UID:10000110-1758114000-1758119400@lscss.com
SUMMARY:Supporting Friends on the Dementia Journey
DESCRIPTION:Explore ways to support a friend who is living with dementia or caring for someone who is. Gain insight into the impact of dementia and learn how you can continue to show up and offer the support they need to live well. Free to attend. For the General Public. \nCan also register by calling Patti @ 250.499.7473
URL:https://lscss.com/event/supporting-friends-on-the-dementia-journey/
LOCATION:Lower Similkameen Community Services Society\, 715-7th Street\, Keremeos\, British Columbia\, V0X 1N3\, Canada
CATEGORIES:Community events
ATTACH;FMTTYPE=image/webp:https://lscss.com/wp-content/uploads/2025/08/Supporting-Friends-Sept-17.webp
ORGANIZER;CN="Patti Hillman":MAILTO:volunteercoord@lscss.com
END:VEVENT
END:VCALENDAR