BEGIN:VCALENDAR
VERSION:2.0
PRODID:-//Lower Similkameen Community Services Society - ECPv6.15.20//NONSGML v1.0//EN
CALSCALE:GREGORIAN
METHOD:PUBLISH
X-ORIGINAL-URL:https://lscss.com
X-WR-CALDESC:Events for Lower Similkameen Community Services Society
REFRESH-INTERVAL;VALUE=DURATION:PT1H
X-Robots-Tag:noindex
X-PUBLISHED-TTL:PT1H
BEGIN:VTIMEZONE
TZID:America/Vancouver
BEGIN:DAYLIGHT
TZOFFSETFROM:-0800
TZOFFSETTO:-0700
TZNAME:PDT
DTSTART:20240310T100000
END:DAYLIGHT
BEGIN:STANDARD
TZOFFSETFROM:-0700
TZOFFSETTO:-0800
TZNAME:PST
DTSTART:20241103T090000
END:STANDARD
BEGIN:DAYLIGHT
TZOFFSETFROM:-0800
TZOFFSETTO:-0700
TZNAME:PDT
DTSTART:20250309T100000
END:DAYLIGHT
BEGIN:STANDARD
TZOFFSETFROM:-0700
TZOFFSETTO:-0800
TZNAME:PST
DTSTART:20251102T090000
END:STANDARD
BEGIN:DAYLIGHT
TZOFFSETFROM:-0800
TZOFFSETTO:-0700
TZNAME:PDT
DTSTART:20260308T100000
END:DAYLIGHT
BEGIN:STANDARD
TZOFFSETFROM:-0700
TZOFFSETTO:-0800
TZNAME:PST
DTSTART:20261101T090000
END:STANDARD
END:VTIMEZONE
BEGIN:VEVENT
DTSTART;TZID=America/Vancouver:20250912T100000
DTEND;TZID=America/Vancouver:20250912T120000
DTSTAMP:20260423T122306
CREATED:20250805T201953Z
LAST-MODIFIED:20250903T175257Z
UID:10000148-1757671200-1757678400@lscss.com
SUMMARY:Ntamtquen Community Garden - LSIB+Early Years
DESCRIPTION:Families and children are invited to join us every Friday from 10 AM to 12 PM for a drop-in\, land-based program co-facilitated with the LSIB N’t̓ámtqen Community Garden.\n\n\n Plant\, care for\, and harvest nourishing food\n Connect with nature\, culture\, and each other\n Enjoy a healing space to play\, grow\, and build community\n Network\, socialize\, and share stories with other families\n\n\n Where: N’t̓ámtqen Community Garden (LSIB)\n When: Fridays | 10:00 AM – 12:00 PM\n Cost: FREE | No registration required\n ntamtqencommunity.garden
URL:https://lscss.com/event/ntamtquen-community-garden-lsibearly-years/2025-09-12/
LOCATION:Ntamtquen Garden
CATEGORIES:Children and Family
ORGANIZER;CN="Jocelyn Reaume":MAILTO:capc@lscss.com
END:VEVENT
END:VCALENDAR