BEGIN:VCALENDAR
VERSION:2.0
PRODID:-//Lower Similkameen Community Services Society - ECPv6.15.20//NONSGML v1.0//EN
CALSCALE:GREGORIAN
METHOD:PUBLISH
X-WR-CALNAME:Lower Similkameen Community Services Society
X-ORIGINAL-URL:https://lscss.com
X-WR-CALDESC:Events for Lower Similkameen Community Services Society
REFRESH-INTERVAL;VALUE=DURATION:PT1H
X-Robots-Tag:noindex
X-PUBLISHED-TTL:PT1H
BEGIN:VTIMEZONE
TZID:America/Vancouver
BEGIN:DAYLIGHT
TZOFFSETFROM:-0800
TZOFFSETTO:-0700
TZNAME:PDT
DTSTART:20240310T100000
END:DAYLIGHT
BEGIN:STANDARD
TZOFFSETFROM:-0700
TZOFFSETTO:-0800
TZNAME:PST
DTSTART:20241103T090000
END:STANDARD
BEGIN:DAYLIGHT
TZOFFSETFROM:-0800
TZOFFSETTO:-0700
TZNAME:PDT
DTSTART:20250309T100000
END:DAYLIGHT
BEGIN:STANDARD
TZOFFSETFROM:-0700
TZOFFSETTO:-0800
TZNAME:PST
DTSTART:20251102T090000
END:STANDARD
BEGIN:DAYLIGHT
TZOFFSETFROM:-0800
TZOFFSETTO:-0700
TZNAME:PDT
DTSTART:20260308T100000
END:DAYLIGHT
BEGIN:STANDARD
TZOFFSETFROM:-0700
TZOFFSETTO:-0800
TZNAME:PST
DTSTART:20261101T090000
END:STANDARD
END:VTIMEZONE
BEGIN:VEVENT
DTSTART;TZID=America/Vancouver:20250814T090000
DTEND;TZID=America/Vancouver:20250814T100000
DTSTAMP:20260423T140639
CREATED:20250811T160740Z
LAST-MODIFIED:20250811T160740Z
UID:10000104-1755162000-1755165600@lscss.com
SUMMARY:Walking Group
DESCRIPTION:Free\, welcoming and inclusive walking group that meets weekly from April to September. The starting point is Victory Hall\, in Keremeos. We travel a different route every week\, exploring various neighbourhoods\, and easily adapt our itinerary to meet our current needs. Join us for pleasant\, non-intimidating conversation and enjoyable sights.  \nplease contact s.despres@teampractice.ca for more information!
URL:https://lscss.com/event/walking-group/2025-08-14/
LOCATION:Lower Similkameen Community Services Society\, 715-7th Street\, Keremeos\, British Columbia\, V0X 1N3\, Canada
CATEGORIES:Community events
ORGANIZER;CN="Jenn Nelson":MAILTO:finance@lscss.com
END:VEVENT
BEGIN:VEVENT
DTSTART;TZID=America/Vancouver:20250814T100000
DTEND;TZID=America/Vancouver:20250814T120000
DTSTAMP:20260423T140639
CREATED:20250805T200254Z
LAST-MODIFIED:20250903T175049Z
UID:10000075-1755165600-1755172800@lscss.com
SUMMARY:Tumble Bumble
DESCRIPTION:Tumble Bumble is a drop-in indoor play program for children from birth – 6 years and their parents/caregivers (older siblings are welcome). Children can cruise\, climb\, slide\, jump and meet new children\, while exploring a wide variety of equipment. These include\, trikes\, scooters\, plasma bikes\, tunnels\, a slide\, “ride em” vehicles such as police cars\, and fire trucks\, a bounce castle\, basketball\, bowling as well as balls\, mats\, and various sizes and shapes of gymnastics foam structures. This environment provides an opportunity to connect and socialize while also providing opportunity to improve gross and fine motor skills. It also provides a place for parents and caregivers to connect and share experiences. An infant area with developmentally appropriate toys is set up so that all ages are included in this fun program!
URL:https://lscss.com/event/tumble-bumble-2/2025-08-14/
LOCATION:Legion Hall\, 510 Veterans Av\, Keremeos\, BC\, V0X 1N3\, Canada
CATEGORIES:Early years
ORGANIZER;CN="Jocelyn Reaume":MAILTO:capc@lscss.com
END:VEVENT
BEGIN:VEVENT
DTSTART;TZID=America/Vancouver:20250814T130000
DTEND;TZID=America/Vancouver:20250814T143000
DTSTAMP:20260423T140639
CREATED:20250801T190230Z
LAST-MODIFIED:20250801T190230Z
UID:10000071-1755176400-1755181800@lscss.com
SUMMARY:Collaborative “Life Tips” Booklet
DESCRIPTION:
URL:https://lscss.com/event/collaborative-life-tips-booklet/
LOCATION:Ambrosia Gathering Place\, 715 7th Street\, Keremeos\, BC\, V0X 1N3\, Canada
CATEGORIES:Mental Health
ORGANIZER;CN="Signe Percevault":MAILTO:stv@lscss.com
END:VEVENT
END:VCALENDAR